BEGIN:VCALENDAR
VERSION:2.0
PRODID:-//EZFacility.com, Inc.//EZL 2.5.5.28621
BEGIN:VEVENT
UID:14648074@ezleagues.ezfacility.com
DTSTAMP:20260426T034110Z
CREATED:20260426T034110Z
DTSTART:20221020T213000Z
DTEND:20221020T223000Z
LOCATION:Foundation Field
CONTACT:
SUMMARY:Hawk Yeah (pink) VS. Just Kickin It
DESCRIPTION:League Name: Kicks 4 Adrian Kickball Tournament\nGame Type: Reg
 ular\nGame Status: Complete\nHome Team: Hawk Yeah (pink)\nAway Team: Just 
 Kickin It\nHome Score: 6\nAway Score: 19
END:VEVENT
BEGIN:VEVENT
UID:14651447@ezleagues.ezfacility.com
DTSTAMP:20260426T034110Z
CREATED:20260426T034110Z
DTSTART:20221020T215000Z
DTEND:20221020T225000Z
LOCATION:Foundation Field
CONTACT:
SUMMARY:Hawk Yeah (pink) VS. Hermon Hitters (white)
DESCRIPTION:League Name: Kicks 4 Adrian Kickball Tournament\nGame Type: Reg
 ular\nGame Status: Complete\nHome Team: Hawk Yeah (pink)\nAway Team: Hermo
 n Hitters (white)\nHome Score: 14\nAway Score: 11
END:VEVENT
BEGIN:VEVENT
UID:14651450@ezleagues.ezfacility.com
DTSTAMP:20260426T034110Z
CREATED:20260426T034110Z
DTSTART:20221020T221000Z
DTEND:20221020T231000Z
LOCATION:Foundation Field
CONTACT:
SUMMARY:Hawk Yeah (pink) VS. The Chaos Crew
DESCRIPTION:League Name: Kicks 4 Adrian Kickball Tournament\nGame Type: Reg
 ular\nGame Status: Complete\nHome Team: Hawk Yeah (pink)\nAway Team: The C
 haos Crew\nHome Score: 9\nAway Score: 19
END:VEVENT
END:VCALENDAR
