BEGIN:VCALENDAR
VERSION:2.0
PRODID:-//EZFacility.com, Inc.//EZL 2.5.5.28621
BEGIN:VEVENT
UID:14653443@ezleagues.ezfacility.com
DTSTAMP:20260422T124109Z
CREATED:20260422T124109Z
DTSTART:20221013T015500Z
DTEND:20221013T025000Z
LOCATION:PFFC Field House - D
CONTACT:
SUMMARY:Coltech FC (White) VS. Sporting Club Ideal
DESCRIPTION:League Name: MSL Fall 2022 - Wed/Thurs Men's Division 1\nGame T
 ype: Regular\nGame Status: Complete\nHome Team: Coltech FC (White)\nAway T
 eam: Sporting Club Ideal\nHome Score: 2\nAway Score: 2
END:VEVENT
BEGIN:VEVENT
UID:14653444@ezleagues.ezfacility.com
DTSTAMP:20260422T124109Z
CREATED:20260422T124109Z
DTSTART:20221021T010000Z
DTEND:20221021T015500Z
LOCATION:PFFC Field House - B
CONTACT:
SUMMARY:ACE FC VS. Coltech FC (White)
DESCRIPTION:League Name: MSL Fall 2022 - Wed/Thurs Men's Division 1\nGame T
 ype: Regular\nGame Status: Complete\nHome Team: ACE FC\nAway Team: Coltech
  FC (White)\nHome Score: 4\nAway Score: 7
END:VEVENT
BEGIN:VEVENT
UID:14653010@ezleagues.ezfacility.com
DTSTAMP:20260422T124109Z
CREATED:20260422T124109Z
DTSTART:20221027T000500Z
DTEND:20221027T010000Z
LOCATION:PFFC Field House - A
CONTACT:
SUMMARY:Chiefs FC (Black) VS. Coltech FC (White)
DESCRIPTION:League Name: MSL Fall 2022 - Wed/Thurs Men's Division 1\nGame T
 ype: Regular\nGame Status: Complete\nHome Team: Chiefs FC (Black)\nAway Te
 am: Coltech FC (White)\nHome Score: 2\nAway Score: 6
END:VEVENT
BEGIN:VEVENT
UID:14652864@ezleagues.ezfacility.com
DTSTAMP:20260422T124109Z
CREATED:20260422T124109Z
DTSTART:20221104T025500Z
DTEND:20221104T035000Z
LOCATION:PFFC Field House - D
CONTACT:
SUMMARY:Cheek to Pocket FC (Black) VS. Coltech FC (White)
DESCRIPTION:League Name: MSL Fall 2022 - Wed/Thurs Men's Division 1\nGame T
 ype: Regular\nGame Status: Complete\nHome Team: Cheek to Pocket FC (Black)
 \nAway Team: Coltech FC (White)\nHome Score: 1\nAway Score: 8
END:VEVENT
BEGIN:VEVENT
UID:14652885@ezleagues.ezfacility.com
DTSTAMP:20260422T124109Z
CREATED:20260422T124109Z
DTSTART:20221110T035500Z
DTEND:20221110T045000Z
LOCATION:PFFC Dome - 2
CONTACT:
SUMMARY:Coltech FC (White) VS. 4Play (Black)
DESCRIPTION:League Name: MSL Fall 2022 - Wed/Thurs Men's Division 1\nGame T
 ype: Regular\nGame Status: Complete\nHome Team: Coltech FC (White)\nAway T
 eam: 4Play (Black)\nHome Score: 3\nAway Score: 0
END:VEVENT
BEGIN:VEVENT
UID:14652905@ezleagues.ezfacility.com
DTSTAMP:20260422T124109Z
CREATED:20260422T124109Z
DTSTART:20221117T030000Z
DTEND:20221117T035500Z
LOCATION:PFFC Dome - 4
CONTACT:
SUMMARY:Coltech FC (White) VS. Chiefs FC (Black)
DESCRIPTION:League Name: MSL Fall 2022 - Wed/Thurs Men's Division 1\nGame T
 ype: Regular\nGame Status: Complete\nHome Team: Coltech FC (White)\nAway T
 eam: Chiefs FC (Black)\nHome Score: 3\nAway Score: 3
END:VEVENT
BEGIN:VEVENT
UID:14652925@ezleagues.ezfacility.com
DTSTAMP:20260422T124109Z
CREATED:20260422T124109Z
DTSTART:20221125T030000Z
DTEND:20221125T035500Z
LOCATION:PFFC Field House - B
CONTACT:
SUMMARY:Brazukas FC (White) VS. Coltech FC (White)
DESCRIPTION:League Name: MSL Fall 2022 - Wed/Thurs Men's Division 1\nGame T
 ype: Regular\nGame Status: Complete\nHome Team: Brazukas FC (White)\nAway 
 Team: Coltech FC (White)\nHome Score: 0\nAway Score: 6
END:VEVENT
BEGIN:VEVENT
UID:14652948@ezleagues.ezfacility.com
DTSTAMP:20260422T124109Z
CREATED:20260422T124109Z
DTSTART:20221201T020500Z
DTEND:20221201T030000Z
LOCATION:PFFC Dome - 2
CONTACT:
SUMMARY:Coltech FC (White) VS. Run It Back (Blue)
DESCRIPTION:League Name: MSL Fall 2022 - Wed/Thurs Men's Division 1\nGame T
 ype: Regular\nGame Status: Complete\nHome Team: Coltech FC (White)\nAway T
 eam: Run It Back (Blue)\nHome Score: 4\nAway Score: 0
END:VEVENT
BEGIN:VEVENT
UID:14652969@ezleagues.ezfacility.com
DTSTAMP:20260422T124109Z
CREATED:20260422T124109Z
DTSTART:20221208T035500Z
DTEND:20221208T045000Z
LOCATION:PFFC Dome - 4
CONTACT:
SUMMARY:Coltech FC (White) VS. Cheek to Pocket FC (Black)
DESCRIPTION:League Name: MSL Fall 2022 - Wed/Thurs Men's Division 1\nGame T
 ype: Regular\nGame Status: Complete\nHome Team: Coltech FC (White)\nAway T
 eam: Cheek to Pocket FC (Black)\nHome Score: 3\nAway Score: 0
END:VEVENT
BEGIN:VEVENT
UID:14652990@ezleagues.ezfacility.com
DTSTAMP:20260422T124109Z
CREATED:20260422T124109Z
DTSTART:20221216T030000Z
DTEND:20221216T035500Z
LOCATION:PFFC Field House - B
CONTACT:
SUMMARY:4Play (Black) VS. Coltech FC (White)
DESCRIPTION:League Name: MSL Fall 2022 - Wed/Thurs Men's Division 1\nGame T
 ype: Regular\nGame Status: Complete\nHome Team: 4Play (Black)\nAway Team: 
 Coltech FC (White)\nHome Score: 6\nAway Score: 3
END:VEVENT
BEGIN:VEVENT
UID:14652843@ezleagues.ezfacility.com
DTSTAMP:20260422T124109Z
CREATED:20260422T124109Z
DTSTART:20221222T010000Z
DTEND:20221222T015500Z
LOCATION:PFFC Field House - D
CONTACT:
SUMMARY:Run It Back (Blue) VS. Coltech FC (White)
DESCRIPTION:League Name: MSL Fall 2022 - Wed/Thurs Men's Division 1\nGame T
 ype: Regular\nGame Status: Complete\nHome Team: Run It Back (Blue)\nAway T
 eam: Coltech FC (White)\nHome Score: 2\nAway Score: 8
END:VEVENT
BEGIN:VEVENT
UID:14653030@ezleagues.ezfacility.com
DTSTAMP:20260422T124109Z
CREATED:20260422T124109Z
DTSTART:20230106T015000Z
DTEND:20230106T024500Z
LOCATION:PFFC Field House - B
CONTACT:
SUMMARY:Coltech FC (White) VS. Brazukas FC (White)
DESCRIPTION:League Name: MSL Fall 2022 - Wed/Thurs Men's Division 1\nGame T
 ype: Regular\nGame Status: Complete\nHome Team: Coltech FC (White)\nAway T
 eam: Brazukas FC (White)\nHome Score: 2\nAway Score: 1
END:VEVENT
BEGIN:VEVENT
UID:14735258@ezleagues.ezfacility.com
DTSTAMP:20260422T124109Z
CREATED:20260422T124109Z
DTSTART:20230119T015500Z
DTEND:20230119T025000Z
LOCATION:PFFC Field House - D
CONTACT:
SUMMARY:Coltech FC (White) VS. Cheek to Pocket FC (Black)
DESCRIPTION:League Name: MSL Fall 2022 - Wed/Thurs Men's Division 1\nGame T
 ype: Postseason\nGame Status: Complete\nHome Team: Coltech FC (White)\nAwa
 y Team: Cheek to Pocket FC (Black)\nHome Score: 5\nAway Score: 1
END:VEVENT
BEGIN:VEVENT
UID:14735273@ezleagues.ezfacility.com
DTSTAMP:20260422T124109Z
CREATED:20260422T124109Z
DTSTART:20230120T020500Z
DTEND:20230120T030000Z
LOCATION:PFFC Field House - B
CONTACT:
SUMMARY:Coltech FC (White) VS. Chiefs FC (Black)
DESCRIPTION:League Name: MSL Fall 2022 - Wed/Thurs Men's Division 1\nGame T
 ype: Postseason\nGame Status: Complete\nHome Team: Coltech FC (White)\nAwa
 y Team: Chiefs FC (Black)\nHome Score: 2\nAway Score: 1
END:VEVENT
END:VCALENDAR
