BEGIN:VCALENDAR
VERSION:2.0
PRODID:-//EZFacility.com, Inc.//EZL 2.5.5.28621
BEGIN:VEVENT
UID:14660500@ezleagues.ezfacility.com
DTSTAMP:20260423T174904Z
CREATED:20260423T174904Z
DTSTART:20221106T160000Z
DTEND:20221106T170000Z
LOCATION:Northfield Full Field (3/4)
CONTACT:
SUMMARY:Bombers VS. ESK- 2012
DESCRIPTION:League Name: U11 Boys (2012) - Upper\nGame Type: Regular\nGame 
 Status: Complete\nHome Team: Bombers\nAway Team: ESK- 2012\nHome Score: 4\
 nAway Score: 3
END:VEVENT
BEGIN:VEVENT
UID:14660506@ezleagues.ezfacility.com
DTSTAMP:20260423T174904Z
CREATED:20260423T174904Z
DTSTART:20221112T170000Z
DTEND:20221112T180000Z
LOCATION:Richmond Main Field
CONTACT:
SUMMARY:ESK- 2012 VS. Solon Boys U11- Zelwin
DESCRIPTION:League Name: U11 Boys (2012) - Upper\nGame Type: Regular\nGame 
 Status: Complete\nHome Team: ESK- 2012\nAway Team: Solon Boys U11- Zelwin\
 nHome Score: 0\nAway Score: 0
END:VEVENT
BEGIN:VEVENT
UID:14660512@ezleagues.ezfacility.com
DTSTAMP:20260423T174904Z
CREATED:20260423T174904Z
DTSTART:20221119T183000Z
DTEND:20221119T193000Z
LOCATION:Northfield Full Field (3/4)
CONTACT:
SUMMARY:Kenston FC VS. ESK- 2012
DESCRIPTION:League Name: U11 Boys (2012) - Upper\nGame Type: Regular\nGame 
 Status: Complete\nHome Team: Kenston FC\nAway Team: ESK- 2012\nHome Score:
  3\nAway Score: 4
END:VEVENT
BEGIN:VEVENT
UID:14660518@ezleagues.ezfacility.com
DTSTAMP:20260423T174904Z
CREATED:20260423T174904Z
DTSTART:20221126T130000Z
DTEND:20221126T140000Z
LOCATION:Richmond Main Field
CONTACT:
SUMMARY:ESK- 2012 VS. CFSC 12B Volt East
DESCRIPTION:League Name: U11 Boys (2012) - Upper\nGame Type: Regular\nGame 
 Status: Complete\nHome Team: ESK- 2012\nAway Team: CFSC 12B Volt East\nHom
 e Score: 7\nAway Score: 1
END:VEVENT
BEGIN:VEVENT
UID:14660524@ezleagues.ezfacility.com
DTSTAMP:20260423T174904Z
CREATED:20260423T174904Z
DTSTART:20221204T003000Z
DTEND:20221204T013000Z
LOCATION:Northfield Full Field (3/4)
CONTACT:
SUMMARY:CFSC 12B South VS. ESK- 2012
DESCRIPTION:League Name: U11 Boys (2012) - Upper\nGame Type: Regular\nGame 
 Status: Complete\nHome Team: CFSC 12B South\nAway Team: ESK- 2012\nHome Sc
 ore: 0\nAway Score: 7
END:VEVENT
BEGIN:VEVENT
UID:14660529@ezleagues.ezfacility.com
DTSTAMP:20260423T174904Z
CREATED:20260423T174904Z
DTSTART:20221210T213000Z
DTEND:20221210T223000Z
LOCATION:Northfield Full Field (3/4)
CONTACT:
SUMMARY:ESK- 2012 VS. Hudson United 2012 Boys- Adams
DESCRIPTION:League Name: U11 Boys (2012) - Upper\nGame Type: Regular\nGame 
 Status: Complete\nHome Team: ESK- 2012\nAway Team: Hudson United 2012 Boys
 - Adams\nHome Score: 2\nAway Score: 3
END:VEVENT
BEGIN:VEVENT
UID:14660537@ezleagues.ezfacility.com
DTSTAMP:20260423T174904Z
CREATED:20260423T174904Z
DTSTART:20230107T220000Z
DTEND:20230107T230000Z
LOCATION:Eastlake
CONTACT:
SUMMARY:HST VS. ESK- 2012
DESCRIPTION:League Name: U11 Boys (2012) - Upper\nGame Type: Regular\nGame 
 Status: Complete\nHome Team: HST\nAway Team: ESK- 2012\nHome Score: 14\nAw
 ay Score: 1
END:VEVENT
BEGIN:VEVENT
UID:14660496@ezleagues.ezfacility.com
DTSTAMP:20260423T174904Z
CREATED:20260423T174904Z
DTSTART:20230114T230000Z
DTEND:20230115T000000Z
LOCATION:Richmond Main Field
CONTACT:
SUMMARY:ESK- 2012 VS. CFSC - 2012G Blue
DESCRIPTION:League Name: U11 Boys (2012) - Upper\nGame Type: Regular\nGame 
 Status: Complete\nHome Team: ESK- 2012\nAway Team: CFSC - 2012G Blue\nHome
  Score: 2\nAway Score: 5
END:VEVENT
END:VCALENDAR
