BEGIN:VCALENDAR
VERSION:2.0
PRODID:-//EZFacility.com, Inc.//EZL 2.5.5.28621
BEGIN:VEVENT
UID:14662909@ezleagues.ezfacility.com
DTSTAMP:20260425T031733Z
CREATED:20260425T031733Z
DTSTART:20221029T115500Z
DTEND:20221029T125000Z
LOCATION:PFFC Dome - Field #3
CONTACT:
SUMMARY:Dixie G2013 Black VS. Islington Rangers
DESCRIPTION:League Name: GU10 - Target\nGame Type: Regular\nGame Status: Pe
 nding\nHome Team: Dixie G2013 Black\nAway Team: Islington Rangers\n
END:VEVENT
BEGIN:VEVENT
UID:14673320@ezleagues.ezfacility.com
DTSTAMP:20260425T031733Z
CREATED:20260425T031733Z
DTSTART:20221112T131000Z
DTEND:20221112T140500Z
LOCATION:PFFC Field House - Field D
CONTACT:
SUMMARY:Islington Rangers VS. OSC GU10 Black
DESCRIPTION:League Name: GU10 - Target\nGame Type: Regular\nGame Status: Pe
 nding\nHome Team: Islington Rangers\nAway Team: OSC GU10 Black\n
END:VEVENT
BEGIN:VEVENT
UID:14673369@ezleagues.ezfacility.com
DTSTAMP:20260425T031733Z
CREATED:20260425T031733Z
DTSTART:20221119T131000Z
DTEND:20221119T140500Z
LOCATION:PFFC Field House - Field D
CONTACT:
SUMMARY:Islington Rangers VS. Blue Devils Girls 2013 White
DESCRIPTION:League Name: GU10 - Target\nGame Type: Regular\nGame Status: Pe
 nding\nHome Team: Islington Rangers\nAway Team: Blue Devils Girls 2013 Whi
 te\n
END:VEVENT
BEGIN:VEVENT
UID:14673467@ezleagues.ezfacility.com
DTSTAMP:20260425T031733Z
CREATED:20260425T031733Z
DTSTART:20221203T170000Z
DTEND:20221203T175500Z
LOCATION:CMCC Field 2
CONTACT:
SUMMARY:Islington Rangers VS. Blue Devils Girls 2013 Navy
DESCRIPTION:League Name: GU10 - Target\nGame Type: Regular\nGame Status: Pe
 nding\nHome Team: Islington Rangers\nAway Team: Blue Devils Girls 2013 Nav
 y\n
END:VEVENT
BEGIN:VEVENT
UID:14673516@ezleagues.ezfacility.com
DTSTAMP:20260425T031733Z
CREATED:20260425T031733Z
DTSTART:20221210T165000Z
DTEND:20221210T174500Z
LOCATION:PFFC Field House - Field B
CONTACT:
SUMMARY:Islington Rangers VS. Magic Girls 2013 Blue
DESCRIPTION:League Name: GU10 - Target\nGame Type: Regular\nGame Status: Pe
 nding\nHome Team: Islington Rangers\nAway Team: Magic Girls 2013 Blue\n
END:VEVENT
BEGIN:VEVENT
UID:14673712@ezleagues.ezfacility.com
DTSTAMP:20260425T031733Z
CREATED:20260425T031733Z
DTSTART:20230107T144500Z
DTEND:20230107T154000Z
LOCATION:PFFC Dome - Field #2
CONTACT:
SUMMARY:Blue Devils Girls 2013 White VS. Islington Rangers
DESCRIPTION:League Name: GU10 - Target\nGame Type: Regular\nGame Status: Pe
 nding\nHome Team: Blue Devils Girls 2013 White\nAway Team: Islington Range
 rs\n
END:VEVENT
BEGIN:VEVENT
UID:14673761@ezleagues.ezfacility.com
DTSTAMP:20260425T031733Z
CREATED:20260425T031733Z
DTSTART:20230114T165000Z
DTEND:20230114T174500Z
LOCATION:PFFC Field House - Field D
CONTACT:
SUMMARY:NMSC F U10 2013 MYSL  VS. Islington Rangers
DESCRIPTION:League Name: GU10 - Target\nGame Type: Regular\nGame Status: Pe
 nding\nHome Team: NMSC F U10 2013 MYSL \nAway Team: Islington Rangers\n
END:VEVENT
BEGIN:VEVENT
UID:14673810@ezleagues.ezfacility.com
DTSTAMP:20260425T031733Z
CREATED:20260425T031733Z
DTSTART:20230121T150000Z
DTEND:20230121T155500Z
LOCATION:PFFC Field House - Field C
CONTACT:
SUMMARY:Blue Devils Girls 2013 Navy VS. Islington Rangers
DESCRIPTION:League Name: GU10 - Target\nGame Type: Regular\nGame Status: Pe
 nding\nHome Team: Blue Devils Girls 2013 Navy\nAway Team: Islington Ranger
 s\n
END:VEVENT
BEGIN:VEVENT
UID:14673859@ezleagues.ezfacility.com
DTSTAMP:20260425T031733Z
CREATED:20260425T031733Z
DTSTART:20230128T155500Z
DTEND:20230128T165000Z
LOCATION:PFFC Field House - Field C
CONTACT:
SUMMARY:Magic Girls 2013 Blue VS. Islington Rangers
DESCRIPTION:League Name: GU10 - Target\nGame Type: Regular\nGame Status: Pe
 nding\nHome Team: Magic Girls 2013 Blue\nAway Team: Islington Rangers\n
END:VEVENT
BEGIN:VEVENT
UID:14673908@ezleagues.ezfacility.com
DTSTAMP:20260425T031733Z
CREATED:20260425T031733Z
DTSTART:20230204T131000Z
DTEND:20230204T140500Z
LOCATION:PFFC Field House - Field C
CONTACT:
SUMMARY:Islington Rangers VS. EYSC Energy Green GU10
DESCRIPTION:League Name: GU10 - Target\nGame Type: Regular\nGame Status: Pe
 nding\nHome Team: Islington Rangers\nAway Team: EYSC Energy Green GU10\n
END:VEVENT
BEGIN:VEVENT
UID:14674006@ezleagues.ezfacility.com
DTSTAMP:20260425T031733Z
CREATED:20260425T031733Z
DTSTART:20230218T170000Z
DTEND:20230218T175500Z
LOCATION:CMCC Field 2
CONTACT:
SUMMARY:OSC GU10 Black VS. Islington Rangers
DESCRIPTION:League Name: GU10 - Target\nGame Type: Regular\nGame Status: Pe
 nding\nHome Team: OSC GU10 Black\nAway Team: Islington Rangers\n
END:VEVENT
BEGIN:VEVENT
UID:14674055@ezleagues.ezfacility.com
DTSTAMP:20260425T031733Z
CREATED:20260425T031733Z
DTSTART:20230225T165000Z
DTEND:20230225T174500Z
LOCATION:PFFC Field House - Field C
CONTACT:
SUMMARY:Blue Devils Girls 2013 White VS. Islington Rangers
DESCRIPTION:League Name: GU10 - Target\nGame Type: Regular\nGame Status: Pe
 nding\nHome Team: Blue Devils Girls 2013 White\nAway Team: Islington Range
 rs\n
END:VEVENT
BEGIN:VEVENT
UID:14674153@ezleagues.ezfacility.com
DTSTAMP:20260425T031733Z
CREATED:20260425T031733Z
DTSTART:20230311T173000Z
DTEND:20230311T182500Z
LOCATION:PFFC Dome - Field #2
CONTACT:
SUMMARY:Blue Devils Girls 2013 Navy VS. Islington Rangers
DESCRIPTION:League Name: GU10 - Target\nGame Type: Regular\nGame Status: Pe
 nding\nHome Team: Blue Devils Girls 2013 Navy\nAway Team: Islington Ranger
 s\n
END:VEVENT
BEGIN:VEVENT
UID:14673615@ezleagues.ezfacility.com
DTSTAMP:20260425T031733Z
CREATED:20260425T031733Z
DTSTART:20230318T144000Z
DTEND:20230318T153500Z
LOCATION:PFFC Dome - Field #2
CONTACT:
SUMMARY:EYSC Energy Green GU10 VS. Islington Rangers
DESCRIPTION:League Name: GU10 - Target\nGame Type: Regular\nGame Status: Pe
 nding\nHome Team: EYSC Energy Green GU10\nAway Team: Islington Rangers\n
END:VEVENT
BEGIN:VEVENT
UID:14673271@ezleagues.ezfacility.com
DTSTAMP:20260425T031733Z
CREATED:20260425T031733Z
DTSTART:20230401T130500Z
DTEND:20230401T140000Z
LOCATION:PFFC Field House - Field A
CONTACT:
SUMMARY:Islington Rangers VS. Dixie G2013 Black
DESCRIPTION:League Name: GU10 - Target\nGame Type: Regular\nGame Status: Pe
 nding\nHome Team: Islington Rangers\nAway Team: Dixie G2013 Black\n
END:VEVENT
BEGIN:VEVENT
UID:14673418@ezleagues.ezfacility.com
DTSTAMP:20260425T031733Z
CREATED:20260425T031733Z
DTSTART:20230408T121000Z
DTEND:20230408T130500Z
LOCATION:CMCC Field 3
CONTACT:
SUMMARY:Islington Rangers VS. NMSC F U10 2013 MYSL 
DESCRIPTION:League Name: GU10 - Target\nGame Type: Regular\nGame Status: Pe
 nding\nHome Team: Islington Rangers\nAway Team: NMSC F U10 2013 MYSL \n
END:VEVENT
BEGIN:VEVENT
UID:14674105@ezleagues.ezfacility.com
DTSTAMP:20260425T031733Z
CREATED:20260425T031733Z
DTSTART:20230415T134500Z
DTEND:20230415T144000Z
LOCATION:PFFC Dome - Field #4
CONTACT:
SUMMARY:Islington Rangers VS. Blue Devils Girls 2013 Navy
DESCRIPTION:League Name: GU10 - Target\nGame Type: Regular\nGame Status: Pe
 nding\nHome Team: Islington Rangers\nAway Team: Blue Devils Girls 2013 Nav
 y\n
END:VEVENT
BEGIN:VEVENT
UID:14673957@ezleagues.ezfacility.com
DTSTAMP:20260425T031733Z
CREATED:20260425T031733Z
DTSTART:20230422T134500Z
DTEND:20230422T144000Z
LOCATION:PFFC Dome - Field #4
CONTACT:
SUMMARY:Dixie G2013 Black VS. Islington Rangers
DESCRIPTION:League Name: GU10 - Target\nGame Type: Regular\nGame Status: Pe
 nding\nHome Team: Dixie G2013 Black\nAway Team: Islington Rangers\n
END:VEVENT
END:VCALENDAR
