BEGIN:VCALENDAR
VERSION:2.0
PRODID:-//EZFacility.com, Inc.//EZL 2.5.5.28621
BEGIN:VEVENT
UID:14675712@ezleagues.ezfacility.com
DTSTAMP:20260426T033417Z
CREATED:20260426T033417Z
DTSTART:20221105T130000Z
DTEND:20221105T134500Z
LOCATION:Westlake Full Field
CONTACT:
SUMMARY:BSC - SN VS. Westlake
DESCRIPTION:League Name: U12 Boys Lower - Winter I\nGame Type: Regular\nGam
 e Status: Complete\nHome Team: BSC - SN\nAway Team: Westlake\nHome Score: 
 7\nAway Score: 0
END:VEVENT
BEGIN:VEVENT
UID:14675717@ezleagues.ezfacility.com
DTSTAMP:20260426T033417Z
CREATED:20260426T033417Z
DTSTART:20221112T200000Z
DTEND:20221112T204500Z
LOCATION:Westlake Full Field
CONTACT:
SUMMARY:Lakewood United Football Club Purple 12U VS. BSC - SN
DESCRIPTION:League Name: U12 Boys Lower - Winter I\nGame Type: Regular\nGam
 e Status: Complete\nHome Team: Lakewood United Football Club Purple 12U\nA
 way Team: BSC - SN\nHome Score: 0\nAway Score: 6
END:VEVENT
BEGIN:VEVENT
UID:14675721@ezleagues.ezfacility.com
DTSTAMP:20260426T033417Z
CREATED:20260426T033417Z
DTSTART:20221119T230000Z
DTEND:20221119T234500Z
LOCATION:Westlake Full Field
CONTACT:
SUMMARY:BSA B2011 VS. BSC - SN
DESCRIPTION:League Name: U12 Boys Lower - Winter I\nGame Type: Regular\nGam
 e Status: Complete\nHome Team: BSA B2011\nAway Team: BSC - SN\nHome Score:
  3\nAway Score: 9
END:VEVENT
BEGIN:VEVENT
UID:14675724@ezleagues.ezfacility.com
DTSTAMP:20260426T033417Z
CREATED:20260426T033417Z
DTSTART:20221126T190000Z
DTEND:20221126T194500Z
LOCATION:Westlake Full Field
CONTACT:
SUMMARY:BSC - SN VS. CFSC 11B Volt West
DESCRIPTION:League Name: U12 Boys Lower - Winter I\nGame Type: Regular\nGam
 e Status: Complete\nHome Team: BSC - SN\nAway Team: CFSC 11B Volt West\nHo
 me Score: 8\nAway Score: 1
END:VEVENT
BEGIN:VEVENT
UID:14675730@ezleagues.ezfacility.com
DTSTAMP:20260426T033417Z
CREATED:20260426T033417Z
DTSTART:20221210T160000Z
DTEND:20221210T164500Z
LOCATION:Westlake Full Field
CONTACT:
SUMMARY:Atletico Rio Rocoso VS. BSC - SN
DESCRIPTION:League Name: U12 Boys Lower - Winter I\nGame Type: Regular\nGam
 e Status: Complete\nHome Team: Atletico Rio Rocoso\nAway Team: BSC - SN\nH
 ome Score: 1\nAway Score: 4
END:VEVENT
BEGIN:VEVENT
UID:14675735@ezleagues.ezfacility.com
DTSTAMP:20260426T033417Z
CREATED:20260426T033417Z
DTSTART:20221217T130000Z
DTEND:20221217T134500Z
LOCATION:Westlake Full Field
CONTACT:
SUMMARY:BSC - SN VS. BSC - MD
DESCRIPTION:League Name: U12 Boys Lower - Winter I\nGame Type: Regular\nGam
 e Status: Complete\nHome Team: BSC - SN\nAway Team: BSC - MD\nHome Score: 
 1\nAway Score: 1
END:VEVENT
BEGIN:VEVENT
UID:14675740@ezleagues.ezfacility.com
DTSTAMP:20260426T033417Z
CREATED:20260426T033417Z
DTSTART:20230107T140000Z
DTEND:20230107T144500Z
LOCATION:Rocky River 3/4 Yellow
CONTACT:
SUMMARY:Westlake VS. BSC - SN
DESCRIPTION:League Name: U12 Boys Lower - Winter I\nGame Type: Regular\nGam
 e Status: Complete\nHome Team: Westlake\nAway Team: BSC - SN\nHome Score: 
 0\nAway Score: 7
END:VEVENT
BEGIN:VEVENT
UID:14675745@ezleagues.ezfacility.com
DTSTAMP:20260426T033417Z
CREATED:20260426T033417Z
DTSTART:20230114T150000Z
DTEND:20230114T154500Z
LOCATION:Rocky River 3/4 Yellow
CONTACT:
SUMMARY:BSC - SN VS. Lakewood United Football Club Purple 12U
DESCRIPTION:League Name: U12 Boys Lower - Winter I\nGame Type: Regular\nGam
 e Status: Complete\nHome Team: BSC - SN\nAway Team: Lakewood United Footba
 ll Club Purple 12U\nHome Score: 10\nAway Score: 4
END:VEVENT
END:VCALENDAR
