BEGIN:VCALENDAR
VERSION:2.0
PRODID:-//EZFacility.com, Inc.//EZL 2.5.5.28621
BEGIN:VEVENT
UID:14676946@ezleagues.ezfacility.com
DTSTAMP:20260424T044238Z
CREATED:20260424T044238Z
DTSTART:20221112T140000Z
DTEND:20221112T144500Z
LOCATION:Rocky River Half (Yellow 1 & 2
CONTACT:
SUMMARY:Rocky River Rockets U10 VS. Bay Soccer Club - ML
DESCRIPTION:League Name: U10 Boys - Winter I\nGame Type: Regular\nGame Stat
 us: Complete\nHome Team: Rocky River Rockets U10\nAway Team: Bay Soccer Cl
 ub - ML\nHome Score: 0\nAway Score: 4
END:VEVENT
BEGIN:VEVENT
UID:14676962@ezleagues.ezfacility.com
DTSTAMP:20260424T044238Z
CREATED:20260424T044238Z
DTSTART:20221126T180000Z
DTEND:20221126T184500Z
LOCATION:Rocky River Half (Blue 7 & 8)
CONTACT:
SUMMARY:Bay Soccer Club - BW VS. Bay Soccer Club - ML
DESCRIPTION:League Name: U10 Boys - Winter I\nGame Type: Regular\nGame Stat
 us: Complete\nHome Team: Bay Soccer Club - BW\nAway Team: Bay Soccer Club 
 - ML\nHome Score: 8\nAway Score: 4
END:VEVENT
BEGIN:VEVENT
UID:14676970@ezleagues.ezfacility.com
DTSTAMP:20260424T044238Z
CREATED:20260424T044238Z
DTSTART:20221203T150000Z
DTEND:20221203T154500Z
LOCATION:Rocky River Half (Yellow 1 & 2
CONTACT:
SUMMARY:Bay Soccer Club - ML VS. Oh Snap! PSC
DESCRIPTION:League Name: U10 Boys - Winter I\nGame Type: Regular\nGame Stat
 us: Complete\nHome Team: Bay Soccer Club - ML\nAway Team: Oh Snap! PSC\nHo
 me Score: 2\nAway Score: 4
END:VEVENT
BEGIN:VEVENT
UID:14676978@ezleagues.ezfacility.com
DTSTAMP:20260424T044238Z
CREATED:20260424T044238Z
DTSTART:20221210T213000Z
DTEND:20221210T221500Z
LOCATION:Rocky River Half (Blue 7 & 8)
CONTACT:
SUMMARY:CFSC 13B Black West VS. Bay Soccer Club - ML
DESCRIPTION:League Name: U10 Boys - Winter I\nGame Type: Regular\nGame Stat
 us: Complete\nHome Team: CFSC 13B Black West\nAway Team: Bay Soccer Club -
  ML\nHome Score: 1\nAway Score: 1
END:VEVENT
BEGIN:VEVENT
UID:14676985@ezleagues.ezfacility.com
DTSTAMP:20260424T044238Z
CREATED:20260424T044238Z
DTSTART:20221217T150000Z
DTEND:20221217T154500Z
LOCATION:Rocky River Half (Yellow 1 & 2
CONTACT:
SUMMARY:BSA B2013 VS. Bay Soccer Club - ML
DESCRIPTION:League Name: U10 Boys - Winter I\nGame Type: Regular\nGame Stat
 us: Complete\nHome Team: BSA B2013\nAway Team: Bay Soccer Club - ML\nHome 
 Score: 7\nAway Score: 2
END:VEVENT
BEGIN:VEVENT
UID:14676954@ezleagues.ezfacility.com
DTSTAMP:20260424T044238Z
CREATED:20260424T044238Z
DTSTART:20221221T000000Z
DTEND:20221221T004500Z
LOCATION:Rocky River Half (Yellow 3 & 4
CONTACT:
SUMMARY:Bay Soccer Club - ML VS. Strongsville U10 Anagnostou/Hamski
DESCRIPTION:League Name: U10 Boys - Winter I\nGame Type: Regular\nGame Stat
 us: Complete\nHome Team: Bay Soccer Club - ML\nAway Team: Strongsville U10
  Anagnostou/Hamski\nHome Score: 2\nAway Score: 2
END:VEVENT
BEGIN:VEVENT
UID:14676991@ezleagues.ezfacility.com
DTSTAMP:20260424T044238Z
CREATED:20260424T044238Z
DTSTART:20230107T130000Z
DTEND:20230107T134500Z
LOCATION:Rocky River Half (Blue 5 & 6) 
CONTACT:
SUMMARY:Bay Soccer Club - ML VS. LUFC U10 Purple
DESCRIPTION:League Name: U10 Boys - Winter I\nGame Type: Regular\nGame Stat
 us: Complete\nHome Team: Bay Soccer Club - ML\nAway Team: LUFC U10 Purple\
 nHome Score: 3\nAway Score: 7
END:VEVENT
BEGIN:VEVENT
UID:14676997@ezleagues.ezfacility.com
DTSTAMP:20260424T044238Z
CREATED:20260424T044238Z
DTSTART:20230114T210000Z
DTEND:20230114T214500Z
LOCATION:Rocky River Half (Yellow 1 & 2
CONTACT:
SUMMARY:Bay Soccer Club - ML VS. Strongsville Boys U10 - Guzzo
DESCRIPTION:League Name: U10 Boys - Winter I\nGame Type: Regular\nGame Stat
 us: Complete\nHome Team: Bay Soccer Club - ML\nAway Team: Strongsville Boy
 s U10 - Guzzo\nHome Score: 5\nAway Score: 0
END:VEVENT
END:VCALENDAR
