BEGIN:VCALENDAR
VERSION:2.0
PRODID:-//EZFacility.com, Inc.//EZL 2.5.5.28621
BEGIN:VEVENT
UID:14683219@ezleagues.ezfacility.com
DTSTAMP:20260426T033531Z
CREATED:20260426T033531Z
DTSTART:20221106T230000Z
DTEND:20221107T000000Z
LOCATION:Field B (Fronthalf)
CONTACT:
SUMMARY:Medomak Girls Soccer VS. Erskine Academy
DESCRIPTION:League Name: Soccer - League - High School Girls 8 v 8 - Sessio
 n I 2022/23\nGame Type: Regular\nGame Status: Complete\nHome Team: Medomak
  Girls Soccer\nAway Team: Erskine Academy\nHome Score: 3\nAway Score: 3
END:VEVENT
BEGIN:VEVENT
UID:14683222@ezleagues.ezfacility.com
DTSTAMP:20260426T033531Z
CREATED:20260426T033531Z
DTSTART:20221113T220000Z
DTEND:20221113T230000Z
LOCATION:Field A (Backhalf)
CONTACT:
SUMMARY:Lincoln Academy Eagles VS. Erskine Academy
DESCRIPTION:League Name: Soccer - League - High School Girls 8 v 8 - Sessio
 n I 2022/23\nGame Type: Regular\nGame Status: Complete\nHome Team: Lincoln
  Academy Eagles\nAway Team: Erskine Academy\nHome Score: 1\nAway Score: 0
END:VEVENT
BEGIN:VEVENT
UID:14683224@ezleagues.ezfacility.com
DTSTAMP:20260426T033531Z
CREATED:20260426T033531Z
DTSTART:20221120T230000Z
DTEND:20221121T000000Z
LOCATION:Field A (Backhalf)
CONTACT:
SUMMARY:Lady Bucks VS. Erskine Academy
DESCRIPTION:League Name: Soccer - League - High School Girls 8 v 8 - Sessio
 n I 2022/23\nGame Type: Regular\nGame Status: Complete\nHome Team: Lady Bu
 cks\nAway Team: Erskine Academy\nHome Score: 4\nAway Score: 0
END:VEVENT
BEGIN:VEVENT
UID:14683227@ezleagues.ezfacility.com
DTSTAMP:20260426T033531Z
CREATED:20260426T033531Z
DTSTART:20221127T220000Z
DTEND:20221127T230000Z
LOCATION:Field B (Fronthalf)
CONTACT:
SUMMARY:Oceanside Girls Soccer VS. Erskine Academy
DESCRIPTION:League Name: Soccer - League - High School Girls 8 v 8 - Sessio
 n I 2022/23\nGame Type: Regular\nGame Status: Complete\nHome Team: Oceansi
 de Girls Soccer\nAway Team: Erskine Academy\nHome Score: 5\nAway Score: 1
END:VEVENT
BEGIN:VEVENT
UID:14683230@ezleagues.ezfacility.com
DTSTAMP:20260426T033531Z
CREATED:20260426T033531Z
DTSTART:20221204T230000Z
DTEND:20221205T000000Z
LOCATION:Field A (Backhalf)
CONTACT:
SUMMARY:Erskine Academy VS. Camden Girls
DESCRIPTION:League Name: Soccer - League - High School Girls 8 v 8 - Sessio
 n I 2022/23\nGame Type: Regular\nGame Status: Complete\nHome Team: Erskine
  Academy\nAway Team: Camden Girls\nHome Score: 0\nAway Score: 4
END:VEVENT
BEGIN:VEVENT
UID:14683241@ezleagues.ezfacility.com
DTSTAMP:20260426T033531Z
CREATED:20260426T033531Z
DTSTART:20221212T000000Z
DTEND:20221212T010000Z
LOCATION:Field B (Fronthalf)
CONTACT:
SUMMARY:Medomak Girls Soccer VS. Erskine Academy
DESCRIPTION:League Name: Soccer - League - High School Girls 8 v 8 - Sessio
 n I 2022/23\nGame Type: Friendly\nGame Status: Complete\nHome Team: Medoma
 k Girls Soccer\nAway Team: Erskine Academy\nHome Score: 0\nAway Score: 0
END:VEVENT
BEGIN:VEVENT
UID:14683236@ezleagues.ezfacility.com
DTSTAMP:20260426T033531Z
CREATED:20260426T033531Z
DTSTART:20221218T230000Z
DTEND:20221219T000000Z
LOCATION:Field B (Fronthalf)
CONTACT:
SUMMARY:Lady Bucks VS. Erskine Academy
DESCRIPTION:League Name: Soccer - League - High School Girls 8 v 8 - Sessio
 n I 2022/23\nGame Type: Postseason\nGame Status: Complete\nHome Team: Lady
  Bucks\nAway Team: Erskine Academy\nHome Score: 2\nAway Score: 3
END:VEVENT
END:VCALENDAR
