BEGIN:VCALENDAR
VERSION:2.0
PRODID:-//EZFacility.com, Inc.//EZL 2.5.5.28621
BEGIN:VEVENT
UID:14683220@ezleagues.ezfacility.com
DTSTAMP:20260426T034037Z
CREATED:20260426T034037Z
DTSTART:20221107T000000Z
DTEND:20221107T010000Z
LOCATION:Field A (Backhalf)
CONTACT:
SUMMARY:Oceanside Girls Soccer VS. Lincoln Academy Eagles
DESCRIPTION:League Name: Soccer - League - High School Girls 8 v 8 - Sessio
 n I 2022/23\nGame Type: Regular\nGame Status: Complete\nHome Team: Oceansi
 de Girls Soccer\nAway Team: Lincoln Academy Eagles\nHome Score: 0\nAway Sc
 ore: 2
END:VEVENT
BEGIN:VEVENT
UID:14683222@ezleagues.ezfacility.com
DTSTAMP:20260426T034037Z
CREATED:20260426T034037Z
DTSTART:20221113T220000Z
DTEND:20221113T230000Z
LOCATION:Field A (Backhalf)
CONTACT:
SUMMARY:Lincoln Academy Eagles VS. Erskine Academy
DESCRIPTION:League Name: Soccer - League - High School Girls 8 v 8 - Sessio
 n I 2022/23\nGame Type: Regular\nGame Status: Complete\nHome Team: Lincoln
  Academy Eagles\nAway Team: Erskine Academy\nHome Score: 1\nAway Score: 0
END:VEVENT
BEGIN:VEVENT
UID:14683226@ezleagues.ezfacility.com
DTSTAMP:20260426T034037Z
CREATED:20260426T034037Z
DTSTART:20221121T000000Z
DTEND:20221121T010000Z
LOCATION:Field A (Backhalf)
CONTACT:
SUMMARY:Medomak Girls Soccer VS. Lincoln Academy Eagles
DESCRIPTION:League Name: Soccer - League - High School Girls 8 v 8 - Sessio
 n I 2022/23\nGame Type: Regular\nGame Status: Complete\nHome Team: Medomak
  Girls Soccer\nAway Team: Lincoln Academy Eagles\nHome Score: 0\nAway Scor
 e: 4
END:VEVENT
BEGIN:VEVENT
UID:14683229@ezleagues.ezfacility.com
DTSTAMP:20260426T034037Z
CREATED:20260426T034037Z
DTSTART:20221128T000000Z
DTEND:20221128T010000Z
LOCATION:Field A (Backhalf)
CONTACT:
SUMMARY:Camden Girls VS. Lincoln Academy Eagles
DESCRIPTION:League Name: Soccer - League - High School Girls 8 v 8 - Sessio
 n I 2022/23\nGame Type: Regular\nGame Status: Complete\nHome Team: Camden 
 Girls\nAway Team: Lincoln Academy Eagles\nHome Score: 7\nAway Score: 5
END:VEVENT
BEGIN:VEVENT
UID:14683231@ezleagues.ezfacility.com
DTSTAMP:20260426T034037Z
CREATED:20260426T034037Z
DTSTART:20221204T220000Z
DTEND:20221204T230000Z
LOCATION:Field B (Fronthalf)
CONTACT:
SUMMARY:Lincoln Academy Eagles VS. Lady Bucks
DESCRIPTION:League Name: Soccer - League - High School Girls 8 v 8 - Sessio
 n I 2022/23\nGame Type: Regular\nGame Status: Complete\nHome Team: Lincoln
  Academy Eagles\nAway Team: Lady Bucks\nHome Score: 0\nAway Score: 2
END:VEVENT
BEGIN:VEVENT
UID:14683233@ezleagues.ezfacility.com
DTSTAMP:20260426T034037Z
CREATED:20260426T034037Z
DTSTART:20221211T220000Z
DTEND:20221211T230000Z
LOCATION:Field A (Backhalf)
CONTACT:
SUMMARY:Camden Girls VS. Lincoln Academy Eagles
DESCRIPTION:League Name: Soccer - League - High School Girls 8 v 8 - Sessio
 n I 2022/23\nGame Type: Postseason\nGame Status: Complete\nHome Team: Camd
 en Girls\nAway Team: Lincoln Academy Eagles\nHome Score: 5\nAway Score: 3
END:VEVENT
BEGIN:VEVENT
UID:14683242@ezleagues.ezfacility.com
DTSTAMP:20260426T034037Z
CREATED:20260426T034037Z
DTSTART:20221218T220000Z
DTEND:20221218T230000Z
LOCATION:Field B (Fronthalf)
CONTACT:
SUMMARY:Medomak Girls Soccer VS. Lincoln Academy Eagles
DESCRIPTION:League Name: Soccer - League - High School Girls 8 v 8 - Sessio
 n I 2022/23\nGame Type: Friendly\nGame Status: Complete\nHome Team: Medoma
 k Girls Soccer\nAway Team: Lincoln Academy Eagles\nHome Score: 4\nAway Sco
 re: 0
END:VEVENT
END:VCALENDAR
