BEGIN:VCALENDAR
VERSION:2.0
PRODID:-//EZFacility.com, Inc.//EZL 2.5.5.28621
BEGIN:VEVENT
UID:14689970@ezleagues.ezfacility.com
DTSTAMP:20260424T044213Z
CREATED:20260424T044213Z
DTSTART:20221105T130000Z
DTEND:20221105T140000Z
LOCATION:Massapequa Field House CT 2
CONTACT:
SUMMARY:Develup VS. Brooklyn Swarm Cofield
DESCRIPTION:League Name: 2022 November Knockout 7th Grade Boys\nGame Type: 
 Regular\nGame Status: Complete\nHome Team: Develup\nAway Team: Brooklyn Sw
 arm Cofield\nHome Score: 53\nAway Score: 28
END:VEVENT
BEGIN:VEVENT
UID:14689972@ezleagues.ezfacility.com
DTSTAMP:20260424T044213Z
CREATED:20260424T044213Z
DTSTART:20221105T172000Z
DTEND:20221105T182000Z
LOCATION:Massapequa Field House CT 1
CONTACT:
SUMMARY:Brooklyn Swarm Cofield VS. Level Up Stark
DESCRIPTION:League Name: 2022 November Knockout 7th Grade Boys\nGame Type: 
 Regular\nGame Status: Complete\nHome Team: Brooklyn Swarm Cofield\nAway Te
 am: Level Up Stark\nHome Score: 35\nAway Score: 61
END:VEVENT
BEGIN:VEVENT
UID:14689979@ezleagues.ezfacility.com
DTSTAMP:20260424T044213Z
CREATED:20260424T044213Z
DTSTART:20221106T171500Z
DTEND:20221106T181500Z
LOCATION:SUSA Smithtown 
CONTACT:
SUMMARY:Level Up Coalman VS. Brooklyn Swarm Cofield
DESCRIPTION:League Name: 2022 November Knockout 7th Grade Boys\nGame Type: 
 Regular\nGame Status: Complete\nHome Team: Level Up Coalman\nAway Team: Br
 ooklyn Swarm Cofield\nHome Score: 49\nAway Score: 15
END:VEVENT
END:VCALENDAR
