BEGIN:VCALENDAR
VERSION:2.0
PRODID:-//EZFacility.com, Inc.//EZL 2.5.5.28621
BEGIN:VEVENT
UID:14724967@ezleagues.ezfacility.com
DTSTAMP:20260424T044119Z
CREATED:20260424T044119Z
DTSTART:20221117T020000Z
DTEND:20221117T030000Z
LOCATION:Turf 1
CONTACT:
SUMMARY:Cleats and Cleavage  VS. Paramedics
DESCRIPTION:League Name: Women's Soccer (Nov 2022)-Competitive Division (A)
 \nGame Type: Regular\nGame Status: Complete\nHome Team: Cleats and Cleavag
 e \nAway Team: Paramedics\nHome Score: 1\nAway Score: 9
END:VEVENT
BEGIN:VEVENT
UID:14724968@ezleagues.ezfacility.com
DTSTAMP:20260424T044119Z
CREATED:20260424T044119Z
DTSTART:20221124T010000Z
DTEND:20221124T020000Z
LOCATION:Turf 1
CONTACT:
SUMMARY:Cleats and Cleavage  VS. Blue Ballers
DESCRIPTION:League Name: Women's Soccer (Nov 2022)-Competitive Division (A)
 \nGame Type: Regular\nGame Status: Complete\nHome Team: Cleats and Cleavag
 e \nAway Team: Blue Ballers\nHome Score: 1\nAway Score: 0
END:VEVENT
BEGIN:VEVENT
UID:14715030@ezleagues.ezfacility.com
DTSTAMP:20260424T044119Z
CREATED:20260424T044119Z
DTSTART:20221201T000000Z
DTEND:20221201T010000Z
LOCATION:Turf 1
CONTACT:
SUMMARY:Cleats and Cleavage  VS. Cowgirls 
DESCRIPTION:League Name: Women's Soccer (Nov 2022)-Competitive Division (A)
 \nGame Type: Regular\nGame Status: Complete\nHome Team: Cleats and Cleavag
 e \nAway Team: Cowgirls \nHome Score: 1\nAway Score: 9
END:VEVENT
BEGIN:VEVENT
UID:14724970@ezleagues.ezfacility.com
DTSTAMP:20260424T044119Z
CREATED:20260424T044119Z
DTSTART:20221208T020000Z
DTEND:20221208T030000Z
LOCATION:Turf 1
CONTACT:
SUMMARY:Wiz KhaFIFA VS. Cleats and Cleavage 
DESCRIPTION:League Name: Women's Soccer (Nov 2022)-Competitive Division (A)
 \nGame Type: Regular\nGame Status: Complete\nHome Team: Wiz KhaFIFA\nAway 
 Team: Cleats and Cleavage \nHome Score: 4\nAway Score: 4
END:VEVENT
BEGIN:VEVENT
UID:14715036@ezleagues.ezfacility.com
DTSTAMP:20260424T044119Z
CREATED:20260424T044119Z
DTSTART:20221215T000000Z
DTEND:20221215T010000Z
LOCATION:Turf 1
CONTACT:
SUMMARY:Cleats and Cleavage  VS. Margarita Knights
DESCRIPTION:League Name: Women's Soccer (Nov 2022)-Competitive Division (A)
 \nGame Type: Regular\nGame Status: Complete\nHome Team: Cleats and Cleavag
 e \nAway Team: Margarita Knights\nHome Score: 8\nAway Score: 1
END:VEVENT
BEGIN:VEVENT
UID:14715041@ezleagues.ezfacility.com
DTSTAMP:20260424T044119Z
CREATED:20260424T044119Z
DTSTART:20221222T010000Z
DTEND:20221222T020000Z
LOCATION:Turf 1
CONTACT:
SUMMARY:Cleats and Cleavage  VS. Paramedics
DESCRIPTION:League Name: Women's Soccer (Nov 2022)-Competitive Division (A)
 \nGame Type: Regular\nGame Status: Complete\nHome Team: Cleats and Cleavag
 e \nAway Team: Paramedics\nHome Score: 5\nAway Score: 8
END:VEVENT
BEGIN:VEVENT
UID:14715043@ezleagues.ezfacility.com
DTSTAMP:20260424T044119Z
CREATED:20260424T044119Z
DTSTART:20221229T000000Z
DTEND:20221229T010000Z
LOCATION:Turf 1
CONTACT:
SUMMARY:Cleats and Cleavage  VS. Blue Ballers
DESCRIPTION:League Name: Women's Soccer (Nov 2022)-Competitive Division (A)
 \nGame Type: Regular\nGame Status: Complete\nHome Team: Cleats and Cleavag
 e \nAway Team: Blue Ballers\nHome Score: 5\nAway Score: 3
END:VEVENT
BEGIN:VEVENT
UID:14715046@ezleagues.ezfacility.com
DTSTAMP:20260424T044119Z
CREATED:20260424T044119Z
DTSTART:20230105T010000Z
DTEND:20230105T020000Z
LOCATION:Turf 1
CONTACT:
SUMMARY:Cleats and Cleavage  VS. Cowgirls 
DESCRIPTION:League Name: Women's Soccer (Nov 2022)-Competitive Division (A)
 \nGame Type: Regular\nGame Status: Complete\nHome Team: Cleats and Cleavag
 e \nAway Team: Cowgirls \nHome Score: 0\nAway Score: 1
END:VEVENT
BEGIN:VEVENT
UID:14724975@ezleagues.ezfacility.com
DTSTAMP:20260424T044119Z
CREATED:20260424T044119Z
DTSTART:20230112T020000Z
DTEND:20230112T030000Z
LOCATION:Turf 1
CONTACT:
SUMMARY:Wiz KhaFIFA VS. Cleats and Cleavage 
DESCRIPTION:League Name: Women's Soccer (Nov 2022)-Competitive Division (A)
 \nGame Type: Regular\nGame Status: Complete\nHome Team: Wiz KhaFIFA\nAway 
 Team: Cleats and Cleavage \nHome Score: 4\nAway Score: 5
END:VEVENT
BEGIN:VEVENT
UID:14715052@ezleagues.ezfacility.com
DTSTAMP:20260424T044119Z
CREATED:20260424T044119Z
DTSTART:20230119T000000Z
DTEND:20230119T010000Z
LOCATION:Turf 1
CONTACT:
SUMMARY:Cleats and Cleavage  VS. Margarita Knights
DESCRIPTION:League Name: Women's Soccer (Nov 2022)-Competitive Division (A)
 \nGame Type: Regular\nGame Status: Complete\nHome Team: Cleats and Cleavag
 e \nAway Team: Margarita Knights\nHome Score: 12\nAway Score: 3
END:VEVENT
BEGIN:VEVENT
UID:14715063@ezleagues.ezfacility.com
DTSTAMP:20260424T044119Z
CREATED:20260424T044119Z
DTSTART:20230126T000000Z
DTEND:20230126T003000Z
LOCATION:Turf 1
CONTACT:
SUMMARY:Cleats and Cleavage  VS. Margarita Knights
DESCRIPTION:League Name: Women's Soccer (Nov 2022)-Competitive Division (A)
 \nGame Type: Postseason\nGame Status: Complete\nHome Team: Cleats and Clea
 vage \nAway Team: Margarita Knights\nHome Score: 2\nAway Score: 0
END:VEVENT
END:VCALENDAR
