BEGIN:VCALENDAR
VERSION:2.0
PRODID:-//EZFacility.com, Inc.//EZL 2.5.5.28621
BEGIN:VEVENT
UID:14713892@ezleagues.ezfacility.com
DTSTAMP:20260426T034047Z
CREATED:20260426T034047Z
DTSTART:20221113T213500Z
DTEND:20221113T223000Z
LOCATION:Field 2
CONTACT:
SUMMARY:SC Renegades (Black) VS. Hot Heads (Yellow)
DESCRIPTION:League Name: Men's OPEN GREEN - Winter 1\nGame Type: Regular\nG
 ame Status: Complete\nHome Team: SC Renegades (Black)\nAway Team: Hot Head
 s (Yellow)\nHome Score: 2\nAway Score: 12
END:VEVENT
BEGIN:VEVENT
UID:14713896@ezleagues.ezfacility.com
DTSTAMP:20260426T034047Z
CREATED:20260426T034047Z
DTSTART:20221120T204000Z
DTEND:20221120T213500Z
LOCATION:Field 2
CONTACT:
SUMMARY:Shebarbar Nogales (Purple) VS. Hot Heads (Yellow)
DESCRIPTION:League Name: Men's OPEN GREEN - Winter 1\nGame Type: Regular\nG
 ame Status: Complete\nHome Team: Shebarbar Nogales (Purple)\nAway Team: Ho
 t Heads (Yellow)\nHome Score: 13\nAway Score: 10
END:VEVENT
BEGIN:VEVENT
UID:14713902@ezleagues.ezfacility.com
DTSTAMP:20260426T034047Z
CREATED:20260426T034047Z
DTSTART:20221127T232500Z
DTEND:20221128T002000Z
LOCATION:Field 2
CONTACT:
SUMMARY:Hot Heads (Yellow) VS. Sporting OKC Masters (Black)
DESCRIPTION:League Name: Men's OPEN GREEN - Winter 1\nGame Type: Regular\nG
 ame Status: Complete\nHome Team: Hot Heads (Yellow)\nAway Team: Sporting O
 KC Masters (Black)\nHome Score: 13\nAway Score: 4
END:VEVENT
BEGIN:VEVENT
UID:14713908@ezleagues.ezfacility.com
DTSTAMP:20260426T034047Z
CREATED:20260426T034047Z
DTSTART:20221204T213500Z
DTEND:20221204T223000Z
LOCATION:Field 2
CONTACT:
SUMMARY:Hot Heads (Yellow) VS. Shermutas (White)
DESCRIPTION:League Name: Men's OPEN GREEN - Winter 1\nGame Type: Regular\nG
 ame Status: Complete\nHome Team: Hot Heads (Yellow)\nAway Team: Shermutas 
 (White)\nHome Score: 10\nAway Score: 11
END:VEVENT
BEGIN:VEVENT
UID:14713912@ezleagues.ezfacility.com
DTSTAMP:20260426T034047Z
CREATED:20260426T034047Z
DTSTART:20221211T223000Z
DTEND:20221211T232500Z
LOCATION:Field 2
CONTACT:
SUMMARY:Hot Heads (Yellow) VS. SC Avengers (White)
DESCRIPTION:League Name: Men's OPEN GREEN - Winter 1\nGame Type: Regular\nG
 ame Status: Complete\nHome Team: Hot Heads (Yellow)\nAway Team: SC Avenger
 s (White)\nHome Score: 11\nAway Score: 8
END:VEVENT
BEGIN:VEVENT
UID:14713918@ezleagues.ezfacility.com
DTSTAMP:20260426T034047Z
CREATED:20260426T034047Z
DTSTART:20221229T010500Z
DTEND:20221229T020000Z
LOCATION:Field 2
CONTACT:
SUMMARY:Hot Heads (Yellow) VS. DooDoo Browns (White)
DESCRIPTION:League Name: Men's OPEN GREEN - Winter 1\nGame Type: Regular\nG
 ame Status: Complete\nHome Team: Hot Heads (Yellow)\nAway Team: DooDoo Bro
 wns (White)\nHome Score: 7\nAway Score: 7
END:VEVENT
BEGIN:VEVENT
UID:14713926@ezleagues.ezfacility.com
DTSTAMP:20260426T034047Z
CREATED:20260426T034047Z
DTSTART:20230101T232500Z
DTEND:20230102T002000Z
LOCATION:Field 2
CONTACT:
SUMMARY:Grey Balls (Grey) VS. Hot Heads (Yellow)
DESCRIPTION:League Name: Men's OPEN GREEN - Winter 1\nGame Type: Regular\nG
 ame Status: Complete\nHome Team: Grey Balls (Grey)\nAway Team: Hot Heads (
 Yellow)\nHome Score: 5\nAway Score: 6
END:VEVENT
BEGIN:VEVENT
UID:14713923@ezleagues.ezfacility.com
DTSTAMP:20260426T034047Z
CREATED:20260426T034047Z
DTSTART:20230108T204000Z
DTEND:20230108T213500Z
LOCATION:Field 2
CONTACT:
SUMMARY:Safooma FC (Black and Red) VS. Hot Heads (Yellow)
DESCRIPTION:League Name: Men's OPEN GREEN - Winter 1\nGame Type: Regular\nG
 ame Status: Complete\nHome Team: Safooma FC (Black and Red)\nAway Team: Ho
 t Heads (Yellow)\nHome Score: 6\nAway Score: 11
END:VEVENT
END:VCALENDAR
