BEGIN:VCALENDAR
VERSION:2.0
PRODID:-//EZFacility.com, Inc.//EZL 2.5.5.28621
BEGIN:VEVENT
UID:14713895@ezleagues.ezfacility.com
DTSTAMP:20260420T024354Z
CREATED:20260420T024354Z
DTSTART:20221113T232500Z
DTEND:20221114T002000Z
LOCATION:Field 2
CONTACT:
SUMMARY:ISSVC FC (Black) VS. Sporting OKC Masters (Black)
DESCRIPTION:League Name: Men's OPEN GREEN - Winter 1\nGame Type: Regular\nG
 ame Status: Complete\nHome Team: ISSVC FC (Black)\nAway Team: Sporting OKC
  Masters (Black)\nHome Score: 3\nAway Score: 9
END:VEVENT
BEGIN:VEVENT
UID:14713900@ezleagues.ezfacility.com
DTSTAMP:20260420T024354Z
CREATED:20260420T024354Z
DTSTART:20221120T175500Z
DTEND:20221120T185000Z
LOCATION:Field 2
CONTACT:
SUMMARY:ISSVC FC (Black) VS. Shermutas (White)
DESCRIPTION:League Name: Men's OPEN GREEN - Winter 1\nGame Type: Regular\nG
 ame Status: Complete\nHome Team: ISSVC FC (Black)\nAway Team: Shermutas (W
 hite)\nHome Score: 0\nAway Score: 10
END:VEVENT
BEGIN:VEVENT
UID:14713905@ezleagues.ezfacility.com
DTSTAMP:20260420T024354Z
CREATED:20260420T024354Z
DTSTART:20221127T194500Z
DTEND:20221127T204000Z
LOCATION:Field 2
CONTACT:
SUMMARY:SC Avengers (White) VS. ISSVC FC (Black)
DESCRIPTION:League Name: Men's OPEN GREEN - Winter 1\nGame Type: Regular\nG
 ame Status: Complete\nHome Team: SC Avengers (White)\nAway Team: ISSVC FC 
 (Black)\nHome Score: 7\nAway Score: 11
END:VEVENT
BEGIN:VEVENT
UID:14764242@ezleagues.ezfacility.com
DTSTAMP:20260420T024354Z
CREATED:20260420T024354Z
DTSTART:20221205T040000Z
DTEND:20221205T045500Z
LOCATION:Field 2
CONTACT:
SUMMARY:Grey Balls (Grey) VS. ISSVC FC (Black)
DESCRIPTION:League Name: Men's OPEN GREEN - Winter 1\nGame Type: Regular\nG
 ame Status: Complete\nHome Team: Grey Balls (Grey)\nAway Team: ISSVC FC (B
 lack)\nHome Score: 10\nAway Score: 0
END:VEVENT
BEGIN:VEVENT
UID:14713914@ezleagues.ezfacility.com
DTSTAMP:20260420T024354Z
CREATED:20260420T024354Z
DTSTART:20221211T213500Z
DTEND:20221211T223000Z
LOCATION:Field 2
CONTACT:
SUMMARY:Safooma FC (Black and Red) VS. ISSVC FC (Black)
DESCRIPTION:League Name: Men's OPEN GREEN - Winter 1\nGame Type: Regular\nG
 ame Status: Complete\nHome Team: Safooma FC (Black and Red)\nAway Team: IS
 SVC FC (Black)\nHome Score: 10\nAway Score: 4
END:VEVENT
BEGIN:VEVENT
UID:14713917@ezleagues.ezfacility.com
DTSTAMP:20260420T024354Z
CREATED:20260420T024354Z
DTSTART:20221219T021000Z
DTEND:20221219T030500Z
LOCATION:Field 3
CONTACT:
SUMMARY:Team Delicious (Maroon) VS. ISSVC FC (Black)
DESCRIPTION:League Name: Men's OPEN GREEN - Winter 1\nGame Type: Regular\nG
 ame Status: Complete\nHome Team: Team Delicious (Maroon)\nAway Team: ISSVC
  FC (Black)\nHome Score: 0\nAway Score: 0
END:VEVENT
BEGIN:VEVENT
UID:14713928@ezleagues.ezfacility.com
DTSTAMP:20260420T024354Z
CREATED:20260420T024354Z
DTSTART:20230101T213500Z
DTEND:20230101T223000Z
LOCATION:Field 2
CONTACT:
SUMMARY:ISSVC FC (Black) VS. SC Renegades (Black)
DESCRIPTION:League Name: Men's OPEN GREEN - Winter 1\nGame Type: Regular\nG
 ame Status: Complete\nHome Team: ISSVC FC (Black)\nAway Team: SC Renegades
  (Black)\nHome Score: 0\nAway Score: 10
END:VEVENT
END:VCALENDAR
