BEGIN:VCALENDAR
VERSION:2.0
PRODID:-//EZFacility.com, Inc.//EZL 2.5.5.28621
BEGIN:VEVENT
UID:14751753@ezleagues.ezfacility.com
DTSTAMP:20260424T044349Z
CREATED:20260424T044349Z
DTSTART:20221203T000000Z
DTEND:20221203T010000Z
LOCATION:Bridgeville RollerPlex
CONTACT:
SUMMARY:The Gary Roberts Project VS. Mustard Tigers
DESCRIPTION:League Name: Winter Ball (DS 3) (LOWEST LEAGUE) Fri/Sun/2022/23
 \nGame Type: Regular\nGame Status: Complete\nHome Team: The Gary Roberts P
 roject\nAway Team: Mustard Tigers\nHome Score: 6\nAway Score: 1
END:VEVENT
BEGIN:VEVENT
UID:14751756@ezleagues.ezfacility.com
DTSTAMP:20260424T044349Z
CREATED:20260424T044349Z
DTSTART:20221211T230000Z
DTEND:20221212T000000Z
LOCATION:Bridgeville RollerPlex
CONTACT:
SUMMARY:The Gary Roberts Project VS. Disco Dan's Disciples
DESCRIPTION:League Name: Winter Ball (DS 3) (LOWEST LEAGUE) Fri/Sun/2022/23
 \nGame Type: Regular\nGame Status: Complete\nHome Team: The Gary Roberts P
 roject\nAway Team: Disco Dan's Disciples\nHome Score: 6\nAway Score: 1
END:VEVENT
BEGIN:VEVENT
UID:14751759@ezleagues.ezfacility.com
DTSTAMP:20260424T044349Z
CREATED:20260424T044349Z
DTSTART:20221219T000000Z
DTEND:20221219T010000Z
LOCATION:Bridgeville RollerPlex
CONTACT:
SUMMARY:BShox VS. The Gary Roberts Project
DESCRIPTION:League Name: Winter Ball (DS 3) (LOWEST LEAGUE) Fri/Sun/2022/23
 \nGame Type: Regular\nGame Status: Complete\nHome Team: BShox\nAway Team: 
 The Gary Roberts Project\nHome Score: 1\nAway Score: 4
END:VEVENT
BEGIN:VEVENT
UID:14751774@ezleagues.ezfacility.com
DTSTAMP:20260424T044349Z
CREATED:20260424T044349Z
DTSTART:20230107T000000Z
DTEND:20230107T010000Z
LOCATION:Bridgeville RollerPlex
CONTACT:
SUMMARY:The Gary Roberts Project VS. NorthStars
DESCRIPTION:League Name: Winter Ball (DS 3) (LOWEST LEAGUE) Fri/Sun/2022/23
 \nGame Type: Regular\nGame Status: Complete\nHome Team: The Gary Roberts P
 roject\nAway Team: NorthStars\nHome Score: 4\nAway Score: 6
END:VEVENT
BEGIN:VEVENT
UID:14751778@ezleagues.ezfacility.com
DTSTAMP:20260424T044349Z
CREATED:20260424T044349Z
DTSTART:20230116T000000Z
DTEND:20230116T010000Z
LOCATION:Bridgeville RollerPlex
CONTACT:
SUMMARY:The Mighty Schmukers VS. The Gary Roberts Project
DESCRIPTION:League Name: Winter Ball (DS 3) (LOWEST LEAGUE) Fri/Sun/2022/23
 \nGame Type: Regular\nGame Status: Complete\nHome Team: The Mighty Schmuke
 rs\nAway Team: The Gary Roberts Project\nHome Score: 6\nAway Score: 2
END:VEVENT
BEGIN:VEVENT
UID:14751781@ezleagues.ezfacility.com
DTSTAMP:20260424T044349Z
CREATED:20260424T044349Z
DTSTART:20230121T020000Z
DTEND:20230121T030000Z
LOCATION:Bridgeville RollerPlex
CONTACT:
SUMMARY:Mustard Tigers VS. The Gary Roberts Project
DESCRIPTION:League Name: Winter Ball (DS 3) (LOWEST LEAGUE) Fri/Sun/2022/23
 \nGame Type: Regular\nGame Status: Complete\nHome Team: Mustard Tigers\nAw
 ay Team: The Gary Roberts Project\nHome Score: 5\nAway Score: 6
END:VEVENT
BEGIN:VEVENT
UID:14751784@ezleagues.ezfacility.com
DTSTAMP:20260424T044349Z
CREATED:20260424T044349Z
DTSTART:20230129T230000Z
DTEND:20230130T000000Z
LOCATION:Bridgeville RollerPlex
CONTACT:
SUMMARY:Disco Dan's Disciples VS. The Gary Roberts Project
DESCRIPTION:League Name: Winter Ball (DS 3) (LOWEST LEAGUE) Fri/Sun/2022/23
 \nGame Type: Regular\nGame Status: Complete\nHome Team: Disco Dan's Discip
 les\nAway Team: The Gary Roberts Project\nHome Score: 4\nAway Score: 2
END:VEVENT
BEGIN:VEVENT
UID:14751787@ezleagues.ezfacility.com
DTSTAMP:20260424T044349Z
CREATED:20260424T044349Z
DTSTART:20230204T030000Z
DTEND:20230204T040000Z
LOCATION:Bridgeville RollerPlex
CONTACT:
SUMMARY:BShox VS. The Gary Roberts Project
DESCRIPTION:League Name: Winter Ball (DS 3) (LOWEST LEAGUE) Fri/Sun/2022/23
 \nGame Type: Regular\nGame Status: Complete\nHome Team: BShox\nAway Team: 
 The Gary Roberts Project\nHome Score: 2\nAway Score: 8
END:VEVENT
BEGIN:VEVENT
UID:14751769@ezleagues.ezfacility.com
DTSTAMP:20260424T044349Z
CREATED:20260424T044349Z
DTSTART:20230218T000000Z
DTEND:20230218T010000Z
LOCATION:Bridgeville RollerPlex
CONTACT:
SUMMARY:The Gary Roberts Project VS. Canadiens
DESCRIPTION:League Name: Winter Ball (DS 3) (LOWEST LEAGUE) Fri/Sun/2022/23
 \nGame Type: Regular\nGame Status: Complete\nHome Team: The Gary Roberts P
 roject\nAway Team: Canadiens\nHome Score: 5\nAway Score: 1
END:VEVENT
BEGIN:VEVENT
UID:14751764@ezleagues.ezfacility.com
DTSTAMP:20260424T044349Z
CREATED:20260424T044349Z
DTSTART:20230226T230000Z
DTEND:20230227T000000Z
LOCATION:Bridgeville RollerPlex
CONTACT:
SUMMARY:The Gary Roberts Project VS. Phantoms
DESCRIPTION:League Name: Winter Ball (DS 3) (LOWEST LEAGUE) Fri/Sun/2022/23
 \nGame Type: Regular\nGame Status: Complete\nHome Team: The Gary Roberts P
 roject\nAway Team: Phantoms\nHome Score: 6\nAway Score: 3
END:VEVENT
BEGIN:VEVENT
UID:14946956@ezleagues.ezfacility.com
DTSTAMP:20260424T044349Z
CREATED:20260424T044349Z
DTSTART:20230306T010000Z
DTEND:20230306T020000Z
LOCATION:Bridgeville RollerPlex
CONTACT:
SUMMARY:The Gary Roberts Project VS. Phantoms
DESCRIPTION:League Name: Winter Ball (DS 3) (LOWEST LEAGUE) Fri/Sun/2022/23
 \nGame Type: Postseason\nGame Status: Complete\nHome Team: The Gary Robert
 s Project\nAway Team: Phantoms\nHome Score: 1\nAway Score: 3
END:VEVENT
END:VCALENDAR
