BEGIN:VCALENDAR
VERSION:2.0
PRODID:-//EZFacility.com, Inc.//EZL 2.5.5.28621
BEGIN:VEVENT
UID:14780621@ezleagues.ezfacility.com
DTSTAMP:20260426T034100Z
CREATED:20260426T034100Z
DTSTART:20221214T000000Z
DTEND:20221214T010000Z
LOCATION:Turf 1
CONTACT:
SUMMARY:New Era Wolves VS. Rampage
DESCRIPTION:League Name: Tuesday Flag 2022 W1\nGame Type: Regular\nGame Sta
 tus: Complete\nHome Team: New Era Wolves\nAway Team: Rampage\nHome Score: 
 25\nAway Score: 58
END:VEVENT
BEGIN:VEVENT
UID:14780626@ezleagues.ezfacility.com
DTSTAMP:20260426T034100Z
CREATED:20260426T034100Z
DTSTART:20221221T020000Z
DTEND:20221221T030000Z
LOCATION:Turf 1
CONTACT:
SUMMARY:New Bedford VS. New Era Wolves
DESCRIPTION:League Name: Tuesday Flag 2022 W1\nGame Type: Regular\nGame Sta
 tus: Complete\nHome Team: New Bedford\nAway Team: New Era Wolves\nHome Sco
 re: 7\nAway Score: 0
END:VEVENT
BEGIN:VEVENT
UID:14780630@ezleagues.ezfacility.com
DTSTAMP:20260426T034100Z
CREATED:20260426T034100Z
DTSTART:20230104T000000Z
DTEND:20230104T010000Z
LOCATION:Turf 1
CONTACT:
SUMMARY:New Era Wolves VS. Panthers
DESCRIPTION:League Name: Tuesday Flag 2022 W1\nGame Type: Regular\nGame Sta
 tus: Complete\nHome Team: New Era Wolves\nAway Team: Panthers\nHome Score:
  26\nAway Score: 42
END:VEVENT
BEGIN:VEVENT
UID:14780635@ezleagues.ezfacility.com
DTSTAMP:20260426T034100Z
CREATED:20260426T034100Z
DTSTART:20230111T030000Z
DTEND:20230111T040000Z
LOCATION:Turf 1
CONTACT:
SUMMARY:New Era Wolves VS. BB
DESCRIPTION:League Name: Tuesday Flag 2022 W1\nGame Type: Regular\nGame Sta
 tus: Complete\nHome Team: New Era Wolves\nAway Team: BB\nHome Score: 0\nAw
 ay Score: 20
END:VEVENT
END:VCALENDAR
