BEGIN:VCALENDAR
VERSION:2.0
PRODID:-//EZFacility.com, Inc.//EZL 2.5.5.28621
BEGIN:VEVENT
UID:14730233@ezleagues.ezfacility.com
DTSTAMP:20260424T082425Z
CREATED:20260424T082425Z
DTSTART:20221121T002000Z
DTEND:20221121T011500Z
LOCATION:Field 1
CONTACT:
SUMMARY:Braum's (Pink) VS. Xelaju (Red)
DESCRIPTION:League Name: Men's OPEN GREEN - Winter 1\nGame Type: Regular\nG
 ame Status: Complete\nHome Team: Braum's (Pink)\nAway Team: Xelaju (Red)\n
 Home Score: 9\nAway Score: 9
END:VEVENT
BEGIN:VEVENT
UID:14713909@ezleagues.ezfacility.com
DTSTAMP:20260424T082425Z
CREATED:20260424T082425Z
DTSTART:20221204T175500Z
DTEND:20221204T185000Z
LOCATION:Field 2
CONTACT:
SUMMARY:DooDoo Browns (White) VS. Braum's (Pink)
DESCRIPTION:League Name: Men's OPEN GREEN - Winter 1\nGame Type: Regular\nG
 ame Status: Complete\nHome Team: DooDoo Browns (White)\nAway Team: Braum's
  (Pink)\nHome Score: 9\nAway Score: 7
END:VEVENT
BEGIN:VEVENT
UID:14713913@ezleagues.ezfacility.com
DTSTAMP:20260424T082425Z
CREATED:20260424T082425Z
DTSTART:20221211T194500Z
DTEND:20221211T204000Z
LOCATION:Field 2
CONTACT:
SUMMARY:Sporting OKC Masters (Black) VS. Braum's (Pink)
DESCRIPTION:League Name: Men's OPEN GREEN - Winter 1\nGame Type: Regular\nG
 ame Status: Complete\nHome Team: Sporting OKC Masters (Black)\nAway Team: 
 Braum's (Pink)\nHome Score: 1\nAway Score: 9
END:VEVENT
BEGIN:VEVENT
UID:14778013@ezleagues.ezfacility.com
DTSTAMP:20260424T082425Z
CREATED:20260424T082425Z
DTSTART:20221218T204000Z
DTEND:20221218T213500Z
LOCATION:Field 2
CONTACT:
SUMMARY:Grey Balls (Grey) VS. Braum's (Pink)
DESCRIPTION:League Name: Men's OPEN GREEN - Winter 1\nGame Type: Regular\nG
 ame Status: Complete\nHome Team: Grey Balls (Grey)\nAway Team: Braum's (Pi
 nk)\nHome Score: 5\nAway Score: 7
END:VEVENT
BEGIN:VEVENT
UID:14778068@ezleagues.ezfacility.com
DTSTAMP:20260424T082425Z
CREATED:20260424T082425Z
DTSTART:20230101T204000Z
DTEND:20230101T213500Z
LOCATION:Field 2
CONTACT:
SUMMARY:Team Delicious (Maroon) VS. Braum's (Pink)
DESCRIPTION:League Name: Men's OPEN GREEN - Winter 1\nGame Type: Regular\nG
 ame Status: Complete\nHome Team: Team Delicious (Maroon)\nAway Team: Braum
 's (Pink)\nHome Score: 9\nAway Score: 7
END:VEVENT
BEGIN:VEVENT
UID:14787466@ezleagues.ezfacility.com
DTSTAMP:20260424T082425Z
CREATED:20260424T082425Z
DTSTART:20230108T175500Z
DTEND:20230108T185000Z
LOCATION:Field 3
CONTACT:
SUMMARY:Shermutas (White) VS. Braum's (Pink)
DESCRIPTION:League Name: Men's OPEN GREEN - Winter 1\nGame Type: Regular\nG
 ame Status: Complete\nHome Team: Shermutas (White)\nAway Team: Braum's (Pi
 nk)\nHome Score: 4\nAway Score: 2
END:VEVENT
BEGIN:VEVENT
UID:14713922@ezleagues.ezfacility.com
DTSTAMP:20260424T082425Z
CREATED:20260424T082425Z
DTSTART:20230108T194500Z
DTEND:20230108T204000Z
LOCATION:Field 2
CONTACT:
SUMMARY:Braum's (Pink) VS. SC Renegades (Black)
DESCRIPTION:League Name: Men's OPEN GREEN - Winter 1\nGame Type: Regular\nG
 ame Status: Complete\nHome Team: Braum's (Pink)\nAway Team: SC Renegades (
 Black)\nHome Score: 5\nAway Score: 10
END:VEVENT
BEGIN:VEVENT
UID:14787516@ezleagues.ezfacility.com
DTSTAMP:20260424T082425Z
CREATED:20260424T082425Z
DTSTART:20230115T194500Z
DTEND:20230115T204000Z
LOCATION:Field 3
CONTACT:
SUMMARY:DooDoo Browns (White) VS. Braum's (Pink)
DESCRIPTION:League Name: Men's OPEN GREEN - Winter 1\nGame Type: Regular\nG
 ame Status: Complete\nHome Team: DooDoo Browns (White)\nAway Team: Braum's
  (Pink)\nHome Score: 2\nAway Score: 5
END:VEVENT
END:VCALENDAR
