BEGIN:VCALENDAR
VERSION:2.0
PRODID:-//EZFacility.com, Inc.//EZL 2.5.5.28621
BEGIN:VEVENT
UID:14740655@ezleagues.ezfacility.com
DTSTAMP:20260426T035132Z
CREATED:20260426T035132Z
DTSTART:20221122T010000Z
DTEND:20221122T020000Z
LOCATION:Nike Go Field
CONTACT:
SUMMARY:Gun Show VS. Death Squad
DESCRIPTION:League Name: 2022-23 Winter I Coed Soccer Session\nGame Type: R
 egular\nGame Status: Complete\nHome Team: Gun Show\nAway Team: Death Squad
 \nHome Score: 14\nAway Score: 6
END:VEVENT
BEGIN:VEVENT
UID:14748509@ezleagues.ezfacility.com
DTSTAMP:20260426T035132Z
CREATED:20260426T035132Z
DTSTART:20221129T010000Z
DTEND:20221129T020000Z
LOCATION:Foundation Field
CONTACT:
SUMMARY:Gun Show VS. Maine United
DESCRIPTION:League Name: 2022-23 Winter I Coed Soccer Session\nGame Type: R
 egular\nGame Status: Complete\nHome Team: Gun Show\nAway Team: Maine Unite
 d\nHome Score: 7\nAway Score: 10
END:VEVENT
BEGIN:VEVENT
UID:14770228@ezleagues.ezfacility.com
DTSTAMP:20260426T035132Z
CREATED:20260426T035132Z
DTSTART:20221206T000000Z
DTEND:20221206T010000Z
LOCATION:Nike Go Field
CONTACT:
SUMMARY:United Gunners VS. Gun Show
DESCRIPTION:League Name: 2022-23 Winter I Coed Soccer Session\nGame Type: R
 egular\nGame Status: Complete\nHome Team: United Gunners\nAway Team: Gun S
 how\nHome Score: 9\nAway Score: 10
END:VEVENT
BEGIN:VEVENT
UID:14777874@ezleagues.ezfacility.com
DTSTAMP:20260426T035132Z
CREATED:20260426T035132Z
DTSTART:20221213T010000Z
DTEND:20221213T020000Z
LOCATION:Nike Go Field
CONTACT:
SUMMARY:Dyslexia Untied VS. Gun Show
DESCRIPTION:League Name: 2022-23 Winter I Coed Soccer Session\nGame Type: R
 egular\nGame Status: Complete\nHome Team: Dyslexia Untied\nAway Team: Gun 
 Show\nHome Score: 6\nAway Score: 4
END:VEVENT
BEGIN:VEVENT
UID:14787079@ezleagues.ezfacility.com
DTSTAMP:20260426T035132Z
CREATED:20260426T035132Z
DTSTART:20221220T010000Z
DTEND:20221220T020000Z
LOCATION:Nike Go Field
CONTACT:
SUMMARY:SA'ID City VS. Gun Show
DESCRIPTION:League Name: 2022-23 Winter I Coed Soccer Session\nGame Type: R
 egular\nGame Status: Complete\nHome Team: SA'ID City\nAway Team: Gun Show\
 nHome Score: 19\nAway Score: 11
END:VEVENT
BEGIN:VEVENT
UID:14827766@ezleagues.ezfacility.com
DTSTAMP:20260426T035132Z
CREATED:20260426T035132Z
DTSTART:20230103T000000Z
DTEND:20230103T010000Z
LOCATION:Nike Go Field
CONTACT:
SUMMARY:Gun Show VS. Astros
DESCRIPTION:League Name: 2022-23 Winter I Coed Soccer Session\nGame Type: R
 egular\nGame Status: Complete\nHome Team: Gun Show\nAway Team: Astros\nHom
 e Score: 9\nAway Score: 12
END:VEVENT
BEGIN:VEVENT
UID:14847052@ezleagues.ezfacility.com
DTSTAMP:20260426T035132Z
CREATED:20260426T035132Z
DTSTART:20230110T010000Z
DTEND:20230110T020000Z
LOCATION:Nike Go Field
CONTACT:
SUMMARY:Los Tios VS. Gun Show
DESCRIPTION:League Name: 2022-23 Winter I Coed Soccer Session\nGame Type: R
 egular\nGame Status: Complete\nHome Team: Los Tios\nAway Team: Gun Show\nH
 ome Score: 9\nAway Score: 10
END:VEVENT
BEGIN:VEVENT
UID:14850317@ezleagues.ezfacility.com
DTSTAMP:20260426T035132Z
CREATED:20260426T035132Z
DTSTART:20230131T010000Z
DTEND:20230131T020000Z
LOCATION:Nike Go Field
CONTACT:
SUMMARY:Gun Show VS. Maine United
DESCRIPTION:League Name: 2022-23 Winter I Coed Soccer Session\nGame Type: R
 egular\nGame Status: Complete\nHome Team: Gun Show\nAway Team: Maine Unite
 d\nHome Score: 7\nAway Score: 10
END:VEVENT
END:VCALENDAR
