BEGIN:VCALENDAR
VERSION:2.0
PRODID:-//EZFacility.com, Inc.//EZL 2.5.5.28621
BEGIN:VEVENT
UID:14738122@ezleagues.ezfacility.com
DTSTAMP:20260424T114659Z
CREATED:20260424T114659Z
DTSTART:20230108T150000Z
DTEND:20230108T154300Z
LOCATION:Field 1
CONTACT:
SUMMARY:OPRF Alliance 2013 Girls A VS. Evolution 2013/14 Mercurial 2
DESCRIPTION:League Name: Travel Soccer-Girls-2013\nGame Type: Regular\nGame
  Status: Complete\nHome Team: OPRF Alliance 2013 Girls A\nAway Team: Evolu
 tion 2013/14 Mercurial 2\nHome Score: 1\nAway Score: 3
END:VEVENT
BEGIN:VEVENT
UID:14738103@ezleagues.ezfacility.com
DTSTAMP:20260424T114659Z
CREATED:20260424T114659Z
DTSTART:20230115T160000Z
DTEND:20230115T164300Z
LOCATION:Field 2
CONTACT:
SUMMARY:Wheaton United 2014 Academy VS. OPRF Alliance 2013 Girls A
DESCRIPTION:League Name: Travel Soccer-Girls-2013\nGame Type: Regular\nGame
  Status: Complete\nHome Team: Wheaton United 2014 Academy\nAway Team: OPRF
  Alliance 2013 Girls A\nHome Score: 2\nAway Score: 3
END:VEVENT
BEGIN:VEVENT
UID:14738097@ezleagues.ezfacility.com
DTSTAMP:20260424T114659Z
CREATED:20260424T114659Z
DTSTART:20230122T144500Z
DTEND:20230122T152800Z
LOCATION:Field 2
CONTACT:
SUMMARY:OPRF Alliance 2013 Girls A VS. WC Lions Academy 2013 Girls
DESCRIPTION:League Name: Travel Soccer-Girls-2013\nGame Type: Regular\nGame
  Status: Complete\nHome Team: OPRF Alliance 2013 Girls A\nAway Team: WC Li
 ons Academy 2013 Girls\nHome Score: 3\nAway Score: 0
END:VEVENT
BEGIN:VEVENT
UID:14738130@ezleagues.ezfacility.com
DTSTAMP:20260424T114659Z
CREATED:20260424T114659Z
DTSTART:20230205T183000Z
DTEND:20230205T191300Z
LOCATION:Field 2
CONTACT:
SUMMARY:Wheaton United 2014 Academy VS. OPRF Alliance 2013 Girls A
DESCRIPTION:League Name: Travel Soccer-Girls-2013\nGame Type: Regular\nGame
  Status: Complete\nHome Team: Wheaton United 2014 Academy\nAway Team: OPRF
  Alliance 2013 Girls A\nHome Score: 0\nAway Score: 1
END:VEVENT
BEGIN:VEVENT
UID:14738115@ezleagues.ezfacility.com
DTSTAMP:20260424T114659Z
CREATED:20260424T114659Z
DTSTART:20230219T161500Z
DTEND:20230219T165800Z
LOCATION:Field 2
CONTACT:
SUMMARY:Campton United 2013 Girls Red VS. OPRF Alliance 2013 Girls A
DESCRIPTION:League Name: Travel Soccer-Girls-2013\nGame Type: Regular\nGame
  Status: Complete\nHome Team: Campton United 2013 Girls Red\nAway Team: OP
 RF Alliance 2013 Girls A\nHome Score: 6\nAway Score: 1
END:VEVENT
BEGIN:VEVENT
UID:14738126@ezleagues.ezfacility.com
DTSTAMP:20260424T114659Z
CREATED:20260424T114659Z
DTSTART:20230226T170000Z
DTEND:20230226T174300Z
LOCATION:Field 2
CONTACT:
SUMMARY:OPRF Alliance 2013 Girls A VS. Wizard FC 2013 White Girls
DESCRIPTION:League Name: Travel Soccer-Girls-2013\nGame Type: Regular\nGame
  Status: Complete\nHome Team: OPRF Alliance 2013 Girls A\nAway Team: Wizar
 d FC 2013 White Girls\nHome Score: 0\nAway Score: 0
END:VEVENT
BEGIN:VEVENT
UID:14738138@ezleagues.ezfacility.com
DTSTAMP:20260424T114659Z
CREATED:20260424T114659Z
DTSTART:20230305T164500Z
DTEND:20230305T172800Z
LOCATION:Field 2
CONTACT:
SUMMARY:Wizard FC 2013 Gold Girls VS. OPRF Alliance 2013 Girls A
DESCRIPTION:League Name: Travel Soccer-Girls-2013\nGame Type: Regular\nGame
  Status: Complete\nHome Team: Wizard FC 2013 Gold Girls\nAway Team: OPRF A
 lliance 2013 Girls A\nHome Score: 1\nAway Score: 4
END:VEVENT
BEGIN:VEVENT
UID:14738121@ezleagues.ezfacility.com
DTSTAMP:20260424T114659Z
CREATED:20260424T114659Z
DTSTART:20230318T210000Z
DTEND:20230318T214300Z
LOCATION:Field 1
CONTACT:
SUMMARY:OPRF Alliance 2013 Girls A VS. Ajax FC 2013/14 Girls Red
DESCRIPTION:League Name: Travel Soccer-Girls-2013\nGame Type: Regular\nGame
  Status: Complete\nHome Team: OPRF Alliance 2013 Girls A\nAway Team: Ajax 
 FC 2013/14 Girls Red\nHome Score: 0\nAway Score: 2
END:VEVENT
END:VCALENDAR
