BEGIN:VCALENDAR
VERSION:2.0
PRODID:-//EZFacility.com, Inc.//EZL 2.5.5.28621
BEGIN:VEVENT
UID:14738128@ezleagues.ezfacility.com
DTSTAMP:20260424T044401Z
CREATED:20260424T044401Z
DTSTART:20221210T221500Z
DTEND:20221210T225800Z
LOCATION:Field 1
CONTACT:
SUMMARY:Evolution 2013/14 Mercurial 2 VS. Wizard FC 2013 Gold Girls
DESCRIPTION:League Name: Travel Soccer-Girls-2013\nGame Type: Regular\nGame
  Status: Complete\nHome Team: Evolution 2013/14 Mercurial 2\nAway Team: Wi
 zard FC 2013 Gold Girls\nHome Score: 4\nAway Score: 0
END:VEVENT
BEGIN:VEVENT
UID:14738122@ezleagues.ezfacility.com
DTSTAMP:20260424T044401Z
CREATED:20260424T044401Z
DTSTART:20230108T150000Z
DTEND:20230108T154300Z
LOCATION:Field 1
CONTACT:
SUMMARY:OPRF Alliance 2013 Girls A VS. Evolution 2013/14 Mercurial 2
DESCRIPTION:League Name: Travel Soccer-Girls-2013\nGame Type: Regular\nGame
  Status: Complete\nHome Team: OPRF Alliance 2013 Girls A\nAway Team: Evolu
 tion 2013/14 Mercurial 2\nHome Score: 1\nAway Score: 3
END:VEVENT
BEGIN:VEVENT
UID:14738134@ezleagues.ezfacility.com
DTSTAMP:20260424T044401Z
CREATED:20260424T044401Z
DTSTART:20230129T144500Z
DTEND:20230129T152800Z
LOCATION:Field 2
CONTACT:
SUMMARY:WC Lions Academy 2013 Girls VS. Evolution 2013/14 Mercurial 2
DESCRIPTION:League Name: Travel Soccer-Girls-2013\nGame Type: Regular\nGame
  Status: Complete\nHome Team: WC Lions Academy 2013 Girls\nAway Team: Evol
 ution 2013/14 Mercurial 2\nHome Score: 1\nAway Score: 8
END:VEVENT
BEGIN:VEVENT
UID:14738140@ezleagues.ezfacility.com
DTSTAMP:20260424T044401Z
CREATED:20260424T044401Z
DTSTART:20230205T153000Z
DTEND:20230205T161300Z
LOCATION:Field 2
CONTACT:
SUMMARY:Evolution 2013/14 Mercurial 2 VS. WC Rampage 2014 Girls Black
DESCRIPTION:League Name: Travel Soccer-Girls-2013\nGame Type: Regular\nGame
  Status: Complete\nHome Team: Evolution 2013/14 Mercurial 2\nAway Team: WC
  Rampage 2014 Girls Black\nHome Score: 4\nAway Score: 2
END:VEVENT
BEGIN:VEVENT
UID:14738118@ezleagues.ezfacility.com
DTSTAMP:20260424T044401Z
CREATED:20260424T044401Z
DTSTART:20230212T204500Z
DTEND:20230212T212800Z
LOCATION:Field 2
CONTACT:
SUMMARY:Wheaton United 2014 Academy VS. Evolution 2013/14 Mercurial 2
DESCRIPTION:League Name: Travel Soccer-Girls-2013\nGame Type: Regular\nGame
  Status: Complete\nHome Team: Wheaton United 2014 Academy\nAway Team: Evol
 ution 2013/14 Mercurial 2\nHome Score: 4\nAway Score: 1
END:VEVENT
BEGIN:VEVENT
UID:14738110@ezleagues.ezfacility.com
DTSTAMP:20260424T044401Z
CREATED:20260424T044401Z
DTSTART:20230225T220000Z
DTEND:20230225T224300Z
LOCATION:Field 1
CONTACT:
SUMMARY:Ajax FC 2013/14 Girls Red VS. Evolution 2013/14 Mercurial 2
DESCRIPTION:League Name: Travel Soccer-Girls-2013\nGame Type: Regular\nGame
  Status: Complete\nHome Team: Ajax FC 2013/14 Girls Red\nAway Team: Evolut
 ion 2013/14 Mercurial 2\nHome Score: 4\nAway Score: 1
END:VEVENT
BEGIN:VEVENT
UID:14738106@ezleagues.ezfacility.com
DTSTAMP:20260424T044401Z
CREATED:20260424T044401Z
DTSTART:20230304T143000Z
DTEND:20230304T151300Z
LOCATION:Field 2
CONTACT:
SUMMARY:Evolution 2013/14 Mercurial 2 VS. Campton United 2013 Girls Red
DESCRIPTION:League Name: Travel Soccer-Girls-2013\nGame Type: Regular\nGame
  Status: Complete\nHome Team: Evolution 2013/14 Mercurial 2\nAway Team: Ca
 mpton United 2013 Girls Red\nHome Score: 5\nAway Score: 6
END:VEVENT
BEGIN:VEVENT
UID:14738114@ezleagues.ezfacility.com
DTSTAMP:20260424T044401Z
CREATED:20260424T044401Z
DTSTART:20230311T220000Z
DTEND:20230311T224300Z
LOCATION:Field 1
CONTACT:
SUMMARY:Evolution 2013/14 Mercurial 2 VS. Wizard FC 2013 White Girls
DESCRIPTION:League Name: Travel Soccer-Girls-2013\nGame Type: Regular\nGame
  Status: Complete\nHome Team: Evolution 2013/14 Mercurial 2\nAway Team: Wi
 zard FC 2013 White Girls\nHome Score: 7\nAway Score: 1
END:VEVENT
END:VCALENDAR
