BEGIN:VCALENDAR
VERSION:2.0
PRODID:-//EZFacility.com, Inc.//EZL 2.5.5.28621
BEGIN:VEVENT
UID:14738238@ezleagues.ezfacility.com
DTSTAMP:20260424T095741Z
CREATED:20260424T095741Z
DTSTART:20221219T010000Z
DTEND:20221219T014300Z
LOCATION:Field 2
CONTACT:
SUMMARY:Ajax FC 2013 Boys Red VS. AC Warriors 2012
DESCRIPTION:League Name: Travel Soccer-Boys-2012\nGame Type: Regular\nGame 
 Status: Complete\nHome Team: Ajax FC 2013 Boys Red\nAway Team: AC Warriors
  2012\nHome Score: 1\nAway Score: 4
END:VEVENT
BEGIN:VEVENT
UID:14738273@ezleagues.ezfacility.com
DTSTAMP:20260424T095741Z
CREATED:20260424T095741Z
DTSTART:20230108T204500Z
DTEND:20230108T212800Z
LOCATION:Field 2
CONTACT:
SUMMARY:AC Warriors 2012 VS. West Chicago FC 2012 Boys
DESCRIPTION:League Name: Travel Soccer-Boys-2012\nGame Type: Regular\nGame 
 Status: Complete\nHome Team: AC Warriors 2012\nAway Team: West Chicago FC 
 2012 Boys\nHome Score: 5\nAway Score: 0
END:VEVENT
BEGIN:VEVENT
UID:14738298@ezleagues.ezfacility.com
DTSTAMP:20260424T095741Z
CREATED:20260424T095741Z
DTSTART:20230129T200000Z
DTEND:20230129T204300Z
LOCATION:Field 2
CONTACT:
SUMMARY:AC Warriors 2012 VS. Ajax FC 2011/12 Boys White
DESCRIPTION:League Name: Travel Soccer-Boys-2012\nGame Type: Regular\nGame 
 Status: Complete\nHome Team: AC Warriors 2012\nAway Team: Ajax FC 2011/12 
 Boys White\nHome Score: 6\nAway Score: 0
END:VEVENT
BEGIN:VEVENT
UID:14738301@ezleagues.ezfacility.com
DTSTAMP:20260424T095741Z
CREATED:20260424T095741Z
DTSTART:20230205T200000Z
DTEND:20230205T204300Z
LOCATION:Field 2
CONTACT:
SUMMARY:AC Warriors 2012 VS. Kickers SC 2011/12 Blue
DESCRIPTION:League Name: Travel Soccer-Boys-2012\nGame Type: Regular\nGame 
 Status: Complete\nHome Team: AC Warriors 2012\nAway Team: Kickers SC 2011/
 12 Blue\nHome Score: 4\nAway Score: 0
END:VEVENT
BEGIN:VEVENT
UID:14738287@ezleagues.ezfacility.com
DTSTAMP:20260424T095741Z
CREATED:20260424T095741Z
DTSTART:20230211T234500Z
DTEND:20230212T002800Z
LOCATION:Field 1
CONTACT:
SUMMARY:AC Warriors 2012 VS. Campton United 2012 Boys Navy
DESCRIPTION:League Name: Travel Soccer-Boys-2012\nGame Type: Regular\nGame 
 Status: Complete\nHome Team: AC Warriors 2012\nAway Team: Campton United 2
 012 Boys Navy\nHome Score: 1\nAway Score: 4
END:VEVENT
BEGIN:VEVENT
UID:14738259@ezleagues.ezfacility.com
DTSTAMP:20260424T095741Z
CREATED:20260424T095741Z
DTSTART:20230212T141500Z
DTEND:20230212T145800Z
LOCATION:Field 1
CONTACT:
SUMMARY:NSA 2012 Boys Red VS. AC Warriors 2012
DESCRIPTION:League Name: Travel Soccer-Boys-2012\nGame Type: Regular\nGame 
 Status: Complete\nHome Team: NSA 2012 Boys Red\nAway Team: AC Warriors 201
 2\nHome Score: 2\nAway Score: 2
END:VEVENT
BEGIN:VEVENT
UID:14738266@ezleagues.ezfacility.com
DTSTAMP:20260424T095741Z
CREATED:20260424T095741Z
DTSTART:20230226T200000Z
DTEND:20230226T204300Z
LOCATION:Field 2
CONTACT:
SUMMARY:WC Lions Academy 2013 Select Boys VS. AC Warriors 2012
DESCRIPTION:League Name: Travel Soccer-Boys-2012\nGame Type: Regular\nGame 
 Status: Complete\nHome Team: WC Lions Academy 2013 Select Boys\nAway Team:
  AC Warriors 2012\nHome Score: 1\nAway Score: 6
END:VEVENT
BEGIN:VEVENT
UID:14738252@ezleagues.ezfacility.com
DTSTAMP:20260424T095741Z
CREATED:20260424T095741Z
DTSTART:20230305T194500Z
DTEND:20230305T202800Z
LOCATION:Field 2
CONTACT:
SUMMARY:Chicago Rush 2012 Boys Premier 2 VS. AC Warriors 2012
DESCRIPTION:League Name: Travel Soccer-Boys-2012\nGame Type: Regular\nGame 
 Status: Complete\nHome Team: Chicago Rush 2012 Boys Premier 2\nAway Team: 
 AC Warriors 2012\nHome Score: 0\nAway Score: 6
END:VEVENT
BEGIN:VEVENT
UID:14738245@ezleagues.ezfacility.com
DTSTAMP:20260424T095741Z
CREATED:20260424T095741Z
DTSTART:20230312T190000Z
DTEND:20230312T194300Z
LOCATION:Field 2
CONTACT:
SUMMARY:AC Warriors 2012 VS. Chicago Rush 2012 Boys Premier 1
DESCRIPTION:League Name: Travel Soccer-Boys-2012\nGame Type: Regular\nGame 
 Status: Complete\nHome Team: AC Warriors 2012\nAway Team: Chicago Rush 201
 2 Boys Premier 1\nHome Score: 3\nAway Score: 1
END:VEVENT
BEGIN:VEVENT
UID:14738294@ezleagues.ezfacility.com
DTSTAMP:20260424T095741Z
CREATED:20260424T095741Z
DTSTART:20230319T190000Z
DTEND:20230319T194300Z
LOCATION:Field 2
CONTACT:
SUMMARY:OPRF Alliance 2012 VS. AC Warriors 2012
DESCRIPTION:League Name: Travel Soccer-Boys-2012\nGame Type: Regular\nGame 
 Status: Complete\nHome Team: OPRF Alliance 2012\nAway Team: AC Warriors 20
 12\nHome Score: 1\nAway Score: 13
END:VEVENT
END:VCALENDAR
