BEGIN:VCALENDAR
VERSION:2.0
PRODID:-//EZFacility.com, Inc.//EZL 2.5.5.28621
BEGIN:VEVENT
UID:14740816@ezleagues.ezfacility.com
DTSTAMP:20260424T120007Z
CREATED:20260424T120007Z
DTSTART:20230129T031500Z
DTEND:20230129T035800Z
LOCATION:Field 1
CONTACT:
SUMMARY:Chicago Rush 2005/06 B Prem 1 VS. AT Eagles 2005 Boys
DESCRIPTION:League Name: WY Teams @ NY\nGame Type: Regular\nGame Status: Co
 mplete\nHome Team: Chicago Rush 2005/06 B Prem 1\nAway Team: AT Eagles 200
 5 Boys\nHome Score: 2\nAway Score: 3
END:VEVENT
BEGIN:VEVENT
UID:14740808@ezleagues.ezfacility.com
DTSTAMP:20260424T120007Z
CREATED:20260424T120007Z
DTSTART:20230226T031500Z
DTEND:20230226T035800Z
LOCATION:Field 1
CONTACT:
SUMMARY:AT Eagles 2005 Boys VS. Chicago Rush 2005/06 B Prem 2
DESCRIPTION:League Name: WY Teams @ NY\nGame Type: Regular\nGame Status: Co
 mplete\nHome Team: AT Eagles 2005 Boys\nAway Team: Chicago Rush 2005/06 B 
 Prem 2\nHome Score: 3\nAway Score: 0
END:VEVENT
END:VCALENDAR
