BEGIN:VCALENDAR
VERSION:2.0
PRODID:-//EZFacility.com, Inc.//EZL 2.5.5.28621
BEGIN:VEVENT
UID:14744511@ezleagues.ezfacility.com
DTSTAMP:20260421T154902Z
CREATED:20260421T154902Z
DTSTART:20221128T011500Z
DTEND:20221128T021000Z
LOCATION:Field 2
CONTACT:
SUMMARY:Grey Balls (Grey) VS. Xelaju (Red)
DESCRIPTION:League Name: Men's OPEN GREEN - Winter 1\nGame Type: Regular\nG
 ame Status: Complete\nHome Team: Grey Balls (Grey)\nAway Team: Xelaju (Red
 )\nHome Score: 6\nAway Score: 4
END:VEVENT
BEGIN:VEVENT
UID:14764242@ezleagues.ezfacility.com
DTSTAMP:20260421T154902Z
CREATED:20260421T154902Z
DTSTART:20221205T040000Z
DTEND:20221205T045500Z
LOCATION:Field 2
CONTACT:
SUMMARY:Grey Balls (Grey) VS. ISSVC FC (Black)
DESCRIPTION:League Name: Men's OPEN GREEN - Winter 1\nGame Type: Regular\nG
 ame Status: Complete\nHome Team: Grey Balls (Grey)\nAway Team: ISSVC FC (B
 lack)\nHome Score: 10\nAway Score: 0
END:VEVENT
BEGIN:VEVENT
UID:14713915@ezleagues.ezfacility.com
DTSTAMP:20260421T154902Z
CREATED:20260421T154902Z
DTSTART:20221212T011500Z
DTEND:20221212T021000Z
LOCATION:Field 2
CONTACT:
SUMMARY:DooDoo Browns (White) VS. Grey Balls (Grey)
DESCRIPTION:League Name: Men's OPEN GREEN - Winter 1\nGame Type: Regular\nG
 ame Status: Complete\nHome Team: DooDoo Browns (White)\nAway Team: Grey Ba
 lls (Grey)\nHome Score: 1\nAway Score: 8
END:VEVENT
BEGIN:VEVENT
UID:14764318@ezleagues.ezfacility.com
DTSTAMP:20260421T154902Z
CREATED:20260421T154902Z
DTSTART:20221212T021000Z
DTEND:20221212T030500Z
LOCATION:Field 2
CONTACT:
SUMMARY:SC Renegades (Black) VS. Grey Balls (Grey)
DESCRIPTION:League Name: Men's OPEN GREEN - Winter 1\nGame Type: Regular\nG
 ame Status: Complete\nHome Team: SC Renegades (Black)\nAway Team: Grey Bal
 ls (Grey)\nHome Score: 4\nAway Score: 5
END:VEVENT
BEGIN:VEVENT
UID:14778013@ezleagues.ezfacility.com
DTSTAMP:20260421T154902Z
CREATED:20260421T154902Z
DTSTART:20221218T204000Z
DTEND:20221218T213500Z
LOCATION:Field 2
CONTACT:
SUMMARY:Grey Balls (Grey) VS. Braum's (Pink)
DESCRIPTION:League Name: Men's OPEN GREEN - Winter 1\nGame Type: Regular\nG
 ame Status: Complete\nHome Team: Grey Balls (Grey)\nAway Team: Braum's (Pi
 nk)\nHome Score: 5\nAway Score: 7
END:VEVENT
BEGIN:VEVENT
UID:14713926@ezleagues.ezfacility.com
DTSTAMP:20260421T154902Z
CREATED:20260421T154902Z
DTSTART:20230101T232500Z
DTEND:20230102T002000Z
LOCATION:Field 2
CONTACT:
SUMMARY:Grey Balls (Grey) VS. Hot Heads (Yellow)
DESCRIPTION:League Name: Men's OPEN GREEN - Winter 1\nGame Type: Regular\nG
 ame Status: Complete\nHome Team: Grey Balls (Grey)\nAway Team: Hot Heads (
 Yellow)\nHome Score: 5\nAway Score: 6
END:VEVENT
BEGIN:VEVENT
UID:14787468@ezleagues.ezfacility.com
DTSTAMP:20260421T154902Z
CREATED:20260421T154902Z
DTSTART:20230108T232500Z
DTEND:20230109T002000Z
LOCATION:Field 2
CONTACT:
SUMMARY:Xelaju (Red) VS. Grey Balls (Grey)
DESCRIPTION:League Name: Men's OPEN GREEN - Winter 1\nGame Type: Regular\nG
 ame Status: Complete\nHome Team: Xelaju (Red)\nAway Team: Grey Balls (Grey
 )\nHome Score: 4\nAway Score: 6
END:VEVENT
BEGIN:VEVENT
UID:14787517@ezleagues.ezfacility.com
DTSTAMP:20260421T154902Z
CREATED:20260421T154902Z
DTSTART:20230116T011500Z
DTEND:20230116T021000Z
LOCATION:Field 3
CONTACT:
SUMMARY:SC Avengers (White) VS. Grey Balls (Grey)
DESCRIPTION:League Name: Men's OPEN GREEN - Winter 1\nGame Type: Regular\nG
 ame Status: Complete\nHome Team: SC Avengers (White)\nAway Team: Grey Ball
 s (Grey)\nHome Score: 6\nAway Score: 6
END:VEVENT
END:VCALENDAR
