BEGIN:VCALENDAR
VERSION:2.0
PRODID:-//EZFacility.com, Inc.//EZL 2.5.5.28621
BEGIN:VEVENT
UID:14747234@ezleagues.ezfacility.com
DTSTAMP:20260426T034942Z
CREATED:20260426T034942Z
DTSTART:20221211T180000Z
DTEND:20221211T185500Z
LOCATION:Jessup Premier Field #2
CONTACT:
SUMMARY:2010 FSA Dragons B VS. 2010 LFCIA Blue
DESCRIPTION:League Name: Youth (WINTER 1) 2022-23 SD1 S/S 2010 Boys Gold\nG
 ame Type: Regular\nGame Status: Complete\nHome Team: 2010 FSA Dragons B\nA
 way Team: 2010 LFCIA Blue\nHome Score: 3\nAway Score: 2
END:VEVENT
BEGIN:VEVENT
UID:14747261@ezleagues.ezfacility.com
DTSTAMP:20260426T034942Z
CREATED:20260426T034942Z
DTSTART:20221217T125500Z
DTEND:20221217T135000Z
LOCATION:Jessup Premier Field #1
CONTACT:
SUMMARY:2010 ASA FC Elite VS. 2010 LFCIA Blue
DESCRIPTION:League Name: Youth (WINTER 1) 2022-23 SD1 S/S 2010 Boys Gold\nG
 ame Type: Regular\nGame Status: Complete\nHome Team: 2010 ASA FC Elite\nAw
 ay Team: 2010 LFCIA Blue\nHome Score: 1\nAway Score: 4
END:VEVENT
BEGIN:VEVENT
UID:14747346@ezleagues.ezfacility.com
DTSTAMP:20260426T034942Z
CREATED:20260426T034942Z
DTSTART:20230107T084000Z
DTEND:20230107T093500Z
LOCATION:Jessup Premier Field #2
CONTACT:
SUMMARY:2010 LFCIA Blue VS. 2010 Academia Glen Burnie Seahorses
DESCRIPTION:League Name: Youth (WINTER 1) 2022-23 SD1 S/S 2010 Boys Gold\nG
 ame Type: Regular\nGame Status: Postponed\nHome Team: 2010 LFCIA Blue\nAwa
 y Team: 2010 Academia Glen Burnie Seahorses\n
END:VEVENT
BEGIN:VEVENT
UID:14747207@ezleagues.ezfacility.com
DTSTAMP:20260426T034942Z
CREATED:20260426T034942Z
DTSTART:20230116T180000Z
DTEND:20230116T185500Z
LOCATION:Jessup Premier Field #2
CONTACT:
SUMMARY:2010 LFCIA Blue VS. 2010 ASA FC Elite 2
DESCRIPTION:League Name: Youth (WINTER 1) 2022-23 SD1 S/S 2010 Boys Gold\nG
 ame Type: Regular\nGame Status: Complete\nHome Team: 2010 LFCIA Blue\nAway
  Team: 2010 ASA FC Elite 2\nHome Score: 0\nAway Score: 1
END:VEVENT
BEGIN:VEVENT
UID:14747403@ezleagues.ezfacility.com
DTSTAMP:20260426T034942Z
CREATED:20260426T034942Z
DTSTART:20230121T144500Z
DTEND:20230121T154000Z
LOCATION:Jessup Premier Field #2
CONTACT:
SUMMARY:2010 ASA FC Elite 2 VS. 2010 LFCIA Blue
DESCRIPTION:League Name: Youth (WINTER 1) 2022-23 SD1 S/S 2010 Boys Gold\nG
 ame Type: Regular\nGame Status: Complete\nHome Team: 2010 ASA FC Elite 2\n
 Away Team: 2010 LFCIA Blue\nHome Score: 2\nAway Score: 2
END:VEVENT
BEGIN:VEVENT
UID:14747288@ezleagues.ezfacility.com
DTSTAMP:20260426T034942Z
CREATED:20260426T034942Z
DTSTART:20230128T182500Z
DTEND:20230128T192000Z
LOCATION:Jessup Premier Field #2
CONTACT:
SUMMARY:2010 SDFC Elite A VS. 2010 LFCIA Blue
DESCRIPTION:League Name: Youth (WINTER 1) 2022-23 SD1 S/S 2010 Boys Gold\nG
 ame Type: Regular\nGame Status: Complete\nHome Team: 2010 SDFC Elite A\nAw
 ay Team: 2010 LFCIA Blue\nHome Score: 4\nAway Score: 5
END:VEVENT
BEGIN:VEVENT
UID:14747317@ezleagues.ezfacility.com
DTSTAMP:20260426T034942Z
CREATED:20260426T034942Z
DTSTART:20230204T082500Z
DTEND:20230204T092000Z
LOCATION:Jessup Premier Field #2
CONTACT:
SUMMARY:2010 LFCIA Blue VS. 2010 GSPAA White
DESCRIPTION:League Name: Youth (WINTER 1) 2022-23 SD1 S/S 2010 Boys Gold\nG
 ame Type: Regular\nGame Status: Postponed\nHome Team: 2010 LFCIA Blue\nAwa
 y Team: 2010 GSPAA White\n
END:VEVENT
BEGIN:VEVENT
UID:14908100@ezleagues.ezfacility.com
DTSTAMP:20260426T034942Z
CREATED:20260426T034942Z
DTSTART:20230204T163500Z
DTEND:20230204T173000Z
LOCATION:Jessup Premier Field #2
CONTACT:
SUMMARY:2010 LFCIA Blue VS. 2010 LFCIA Red
DESCRIPTION:League Name: Youth (WINTER 1) 2022-23 SD1 S/S 2010 Boys Gold\nG
 ame Type: Regular\nGame Status: Pending\nHome Team: 2010 LFCIA Blue\nAway 
 Team: 2010 LFCIA Red\n
END:VEVENT
END:VCALENDAR
