BEGIN:VCALENDAR
VERSION:2.0
PRODID:-//EZFacility.com, Inc.//EZL 2.5.5.28621
BEGIN:VEVENT
UID:14753362@ezleagues.ezfacility.com
DTSTAMP:20260426T035047Z
CREATED:20260426T035047Z
DTSTART:20221203T222000Z
DTEND:20221203T231000Z
LOCATION:Masia 2
CONTACT:
SUMMARY:SW Gunners  VS. SAC United White 
DESCRIPTION:League Name: 2013 Boys Winter Futsal 22\nGame Type: Regular\nGa
 me Status: Complete\nHome Team: SW Gunners \nAway Team: SAC United White \
 nHome Score: 8\nAway Score: 10
END:VEVENT
BEGIN:VEVENT
UID:14753378@ezleagues.ezfacility.com
DTSTAMP:20260426T035047Z
CREATED:20260426T035047Z
DTSTART:20221210T231000Z
DTEND:20221211T000000Z
LOCATION:Masia 2
CONTACT:
SUMMARY:Total Futbol 13 VS. SAC United White 
DESCRIPTION:League Name: 2013 Boys Winter Futsal 22\nGame Type: Regular\nGa
 me Status: Complete\nHome Team: Total Futbol 13\nAway Team: SAC United Whi
 te \nHome Score: 4\nAway Score: 5
END:VEVENT
BEGIN:VEVENT
UID:14753393@ezleagues.ezfacility.com
DTSTAMP:20260426T035047Z
CREATED:20260426T035047Z
DTSTART:20221217T231000Z
DTEND:20221218T000000Z
LOCATION:Masia 2
CONTACT:
SUMMARY:Maryland International  VS. SAC United White 
DESCRIPTION:League Name: 2013 Boys Winter Futsal 22\nGame Type: Regular\nGa
 me Status: Complete\nHome Team: Maryland International \nAway Team: SAC Un
 ited White \nHome Score: 8\nAway Score: 8
END:VEVENT
BEGIN:VEVENT
UID:14753437@ezleagues.ezfacility.com
DTSTAMP:20260426T035047Z
CREATED:20260426T035047Z
DTSTART:20230107T222000Z
DTEND:20230107T231000Z
LOCATION:Masia 2
CONTACT:
SUMMARY:SAC United White  VS. Maryland International 
DESCRIPTION:League Name: 2013 Boys Winter Futsal 22\nGame Type: Regular\nGa
 me Status: Complete\nHome Team: SAC United White \nAway Team: Maryland Int
 ernational \nHome Score: 13\nAway Score: 6
END:VEVENT
BEGIN:VEVENT
UID:14753453@ezleagues.ezfacility.com
DTSTAMP:20260426T035047Z
CREATED:20260426T035047Z
DTSTART:20230114T231000Z
DTEND:20230115T000000Z
LOCATION:Masia 2
CONTACT:
SUMMARY:SAC United White  VS. Total Futbol 13
DESCRIPTION:League Name: 2013 Boys Winter Futsal 22\nGame Type: Regular\nGa
 me Status: Complete\nHome Team: SAC United White \nAway Team: Total Futbol
  13\nHome Score: 3\nAway Score: 10
END:VEVENT
BEGIN:VEVENT
UID:14753421@ezleagues.ezfacility.com
DTSTAMP:20260426T035047Z
CREATED:20260426T035047Z
DTSTART:20230115T162000Z
DTEND:20230115T171000Z
LOCATION:Masia 1
CONTACT:
SUMMARY:SAC United White  VS. Montgomery United 
DESCRIPTION:League Name: 2013 Boys Winter Futsal 22\nGame Type: Regular\nGa
 me Status: Complete\nHome Team: SAC United White \nAway Team: Montgomery U
 nited \nHome Score: 7\nAway Score: 12
END:VEVENT
BEGIN:VEVENT
UID:14753407@ezleagues.ezfacility.com
DTSTAMP:20260426T035047Z
CREATED:20260426T035047Z
DTSTART:20230121T231000Z
DTEND:20230122T000000Z
LOCATION:Masia 1
CONTACT:
SUMMARY:Friends United  VS. SAC United White 
DESCRIPTION:League Name: 2013 Boys Winter Futsal 22\nGame Type: Regular\nGa
 me Status: Complete\nHome Team: Friends United \nAway Team: SAC United Whi
 te \nHome Score: 4\nAway Score: 7
END:VEVENT
END:VCALENDAR
