BEGIN:VCALENDAR
VERSION:2.0
PRODID:-//EZFacility.com, Inc.//EZL 2.5.5.28621
BEGIN:VEVENT
UID:14756940@ezleagues.ezfacility.com
DTSTAMP:20260420T083405Z
CREATED:20260420T083405Z
DTSTART:20221205T020500Z
DTEND:20221205T030500Z
LOCATION:Rocky River 3/4 Yellow
CONTACT:
SUMMARY:FC Unreal VS. Touch Grass
DESCRIPTION:League Name: Adult Coed - Sunday Division - Winter 2022/23\nGam
 e Type: Regular\nGame Status: Complete\nHome Team: FC Unreal\nAway Team: T
 ouch Grass\nHome Score: 5\nAway Score: 6
END:VEVENT
BEGIN:VEVENT
UID:14757071@ezleagues.ezfacility.com
DTSTAMP:20260420T083405Z
CREATED:20260420T083405Z
DTSTART:20221219T020500Z
DTEND:20221219T030500Z
LOCATION:Rocky River 3/4 Yellow
CONTACT:
SUMMARY:FC Unreal VS. The Underdogs
DESCRIPTION:League Name: Adult Coed - Sunday Division - Winter 2022/23\nGam
 e Type: Regular\nGame Status: Complete\nHome Team: FC Unreal\nAway Team: T
 he Underdogs\nHome Score: 5\nAway Score: 2
END:VEVENT
BEGIN:VEVENT
UID:14756970@ezleagues.ezfacility.com
DTSTAMP:20260420T083405Z
CREATED:20260420T083405Z
DTSTART:20230109T010500Z
DTEND:20230109T020500Z
LOCATION:Rocky River 3/4 Yellow
CONTACT:
SUMMARY:FC Unreal VS. NARPs
DESCRIPTION:League Name: Adult Coed - Sunday Division - Winter 2022/23\nGam
 e Type: Regular\nGame Status: Complete\nHome Team: FC Unreal\nAway Team: N
 ARPs\nHome Score: 5\nAway Score: 6
END:VEVENT
BEGIN:VEVENT
UID:14756975@ezleagues.ezfacility.com
DTSTAMP:20260420T083405Z
CREATED:20260420T083405Z
DTSTART:20230116T010500Z
DTEND:20230116T020500Z
LOCATION:Rocky River 3/4 Blue
CONTACT:
SUMMARY:Turtles VS. FC Unreal
DESCRIPTION:League Name: Adult Coed - Sunday Division - Winter 2022/23\nGam
 e Type: Regular\nGame Status: Complete\nHome Team: Turtles\nAway Team: FC 
 Unreal\nHome Score: 10\nAway Score: 6
END:VEVENT
BEGIN:VEVENT
UID:14756980@ezleagues.ezfacility.com
DTSTAMP:20260420T083405Z
CREATED:20260420T083405Z
DTSTART:20230123T020500Z
DTEND:20230123T030500Z
LOCATION:Westlake Full Field
CONTACT:
SUMMARY:FC Unreal VS. Mastodons FC
DESCRIPTION:League Name: Adult Coed - Sunday Division - Winter 2022/23\nGam
 e Type: Regular\nGame Status: Complete\nHome Team: FC Unreal\nAway Team: M
 astodons FC\nHome Score: 3\nAway Score: 4
END:VEVENT
BEGIN:VEVENT
UID:14756985@ezleagues.ezfacility.com
DTSTAMP:20260420T083405Z
CREATED:20260420T083405Z
DTSTART:20230130T020500Z
DTEND:20230130T030500Z
LOCATION:Westlake Full Field
CONTACT:
SUMMARY:All Pain No Gain VS. FC Unreal
DESCRIPTION:League Name: Adult Coed - Sunday Division - Winter 2022/23\nGam
 e Type: Regular\nGame Status: Complete\nHome Team: All Pain No Gain\nAway 
 Team: FC Unreal\nHome Score: 10\nAway Score: 1
END:VEVENT
BEGIN:VEVENT
UID:14756960@ezleagues.ezfacility.com
DTSTAMP:20260420T083405Z
CREATED:20260420T083405Z
DTSTART:20230206T010500Z
DTEND:20230206T020500Z
LOCATION:Rocky River 3/4 Yellow
CONTACT:
SUMMARY:Cleveland Steamers VS. FC Unreal
DESCRIPTION:League Name: Adult Coed - Sunday Division - Winter 2022/23\nGam
 e Type: Regular\nGame Status: Complete\nHome Team: Cleveland Steamers\nAwa
 y Team: FC Unreal\nHome Score: 2\nAway Score: 1
END:VEVENT
BEGIN:VEVENT
UID:14756965@ezleagues.ezfacility.com
DTSTAMP:20260420T083405Z
CREATED:20260420T083405Z
DTSTART:20230220T020500Z
DTEND:20230220T030500Z
LOCATION:Rocky River 3/4 Blue
CONTACT:
SUMMARY:Forest City FC VS. FC Unreal
DESCRIPTION:League Name: Adult Coed - Sunday Division - Winter 2022/23\nGam
 e Type: Regular\nGame Status: Complete\nHome Team: Forest City FC\nAway Te
 am: FC Unreal\nHome Score: 5\nAway Score: 0
END:VEVENT
END:VCALENDAR
