BEGIN:VCALENDAR
VERSION:2.0
PRODID:-//EZFacility.com, Inc.//EZL 2.5.5.28621
BEGIN:VEVENT
UID:15046658@ezleagues.ezfacility.com
DTSTAMP:20260426T033658Z
CREATED:20260426T033658Z
DTSTART:20230506T174500Z
DTEND:20230506T194500Z
LOCATION:Legends Ballpark Field 2
CONTACT:
SUMMARY:PA Rebels 12U VS. Marlton Chiefs
DESCRIPTION:League Name: 2023 Show No Mercy 12u\nGame Type: Regular\nGame S
 tatus: Complete\nHome Team: PA Rebels 12U\nAway Team: Marlton Chiefs\nHome
  Score: 3\nAway Score: 13
END:VEVENT
BEGIN:VEVENT
UID:15046667@ezleagues.ezfacility.com
DTSTAMP:20260426T033658Z
CREATED:20260426T033658Z
DTSTART:20230506T211500Z
DTEND:20230506T231500Z
LOCATION:Legends Ballpark Field 2
CONTACT:
SUMMARY:ITZ 12u Knights Black VS. PA Rebels 12U
DESCRIPTION:League Name: 2023 Show No Mercy 12u\nGame Type: Regular\nGame S
 tatus: Complete\nHome Team: ITZ 12u Knights Black\nAway Team: PA Rebels 12
 U\nHome Score: 2\nAway Score: 12
END:VEVENT
BEGIN:VEVENT
UID:15046776@ezleagues.ezfacility.com
DTSTAMP:20260426T033658Z
CREATED:20260426T033658Z
DTSTART:20230507T140000Z
DTEND:20230507T160000Z
LOCATION:Legends Ballpark Field 2
CONTACT:
SUMMARY:Marlton Chiefs VS. PA Rebels 12U
DESCRIPTION:League Name: 2023 Show No Mercy 12u\nGame Type: Regular\nGame S
 tatus: Complete\nHome Team: Marlton Chiefs\nAway Team: PA Rebels 12U\nHome
  Score: 1\nAway Score: 0
END:VEVENT
END:VCALENDAR
