BEGIN:VCALENDAR
VERSION:2.0
PRODID:-//EZFacility.com, Inc.//EZL 2.5.5.28621
BEGIN:VEVENT
UID:14762495@ezleagues.ezfacility.com
DTSTAMP:20260421T073838Z
CREATED:20260421T073838Z
DTSTART:20221203T010000Z
DTEND:20221203T020000Z
LOCATION:Field 2
CONTACT:
SUMMARY:NELA Black VS. Southington
DESCRIPTION:League Name: Session 1 Lacrosse Boys MS 2022/2023\nGame Type: R
 egular\nGame Status: Pending\nHome Team: NELA Black\nAway Team: Southingto
 n\n
END:VEVENT
BEGIN:VEVENT
UID:14776395@ezleagues.ezfacility.com
DTSTAMP:20260421T073838Z
CREATED:20260421T073838Z
DTSTART:20221210T010000Z
DTEND:20221210T020000Z
LOCATION:Field 2
CONTACT:
SUMMARY:Southington VS. Wethersfield
DESCRIPTION:League Name: Session 1 Lacrosse Boys MS 2022/2023\nGame Type: R
 egular\nGame Status: Pending\nHome Team: Southington\nAway Team: Wethersfi
 eld\n
END:VEVENT
BEGIN:VEVENT
UID:14788213@ezleagues.ezfacility.com
DTSTAMP:20260421T073838Z
CREATED:20260421T073838Z
DTSTART:20221216T230000Z
DTEND:20221217T000000Z
LOCATION:Field 2
CONTACT:
SUMMARY:Wethersfield VS. Southington
DESCRIPTION:League Name: Session 1 Lacrosse Boys MS 2022/2023\nGame Type: R
 egular\nGame Status: Pending\nHome Team: Wethersfield\nAway Team: Southing
 ton\n
END:VEVENT
BEGIN:VEVENT
UID:14788208@ezleagues.ezfacility.com
DTSTAMP:20260421T073838Z
CREATED:20260421T073838Z
DTSTART:20221217T000000Z
DTEND:20221217T010000Z
LOCATION:Field 1
CONTACT:
SUMMARY:Southington VS. Granby Srs
DESCRIPTION:League Name: Session 1 Lacrosse Boys MS 2022/2023\nGame Type: R
 egular\nGame Status: Pending\nHome Team: Southington\nAway Team: Granby Sr
 s\n
END:VEVENT
BEGIN:VEVENT
UID:14806027@ezleagues.ezfacility.com
DTSTAMP:20260421T073838Z
CREATED:20260421T073838Z
DTSTART:20221223T230000Z
DTEND:20221224T000000Z
LOCATION:Field 2
CONTACT:
SUMMARY:Suffield Srs VS. Southington
DESCRIPTION:League Name: Session 1 Lacrosse Boys MS 2022/2023\nGame Type: R
 egular\nGame Status: Pending\nHome Team: Suffield Srs\nAway Team: Southing
 ton\n
END:VEVENT
BEGIN:VEVENT
UID:14838795@ezleagues.ezfacility.com
DTSTAMP:20260421T073838Z
CREATED:20260421T073838Z
DTSTART:20230107T010000Z
DTEND:20230107T020000Z
LOCATION:Field 2
CONTACT:
SUMMARY:Southington VS. Wethersfield II
DESCRIPTION:League Name: Session 1 Lacrosse Boys MS 2022/2023\nGame Type: R
 egular\nGame Status: Pending\nHome Team: Southington\nAway Team: Wethersfi
 eld II\n
END:VEVENT
BEGIN:VEVENT
UID:14861753@ezleagues.ezfacility.com
DTSTAMP:20260421T073838Z
CREATED:20260421T073838Z
DTSTART:20230114T010000Z
DTEND:20230114T020000Z
LOCATION:Field 2
CONTACT:
SUMMARY:Southington VS. Wethersfield
DESCRIPTION:League Name: Session 1 Lacrosse Boys MS 2022/2023\nGame Type: R
 egular\nGame Status: Pending\nHome Team: Southington\nAway Team: Wethersfi
 eld\n
END:VEVENT
BEGIN:VEVENT
UID:14879020@ezleagues.ezfacility.com
DTSTAMP:20260421T073838Z
CREATED:20260421T073838Z
DTSTART:20230121T010000Z
DTEND:20230121T020000Z
LOCATION:Field 1
CONTACT:
SUMMARY:NELA Gold VS. Southington
DESCRIPTION:League Name: Session 1 Lacrosse Boys MS 2022/2023\nGame Type: R
 egular\nGame Status: Pending\nHome Team: NELA Gold\nAway Team: Southington
 \n
END:VEVENT
END:VCALENDAR
