BEGIN:VCALENDAR
VERSION:2.0
PRODID:-//EZFacility.com, Inc.//EZL 2.5.5.28621
BEGIN:VEVENT
UID:14764122@ezleagues.ezfacility.com
DTSTAMP:20260426T035120Z
CREATED:20260426T035120Z
DTSTART:20221218T010000Z
DTEND:20221218T014500Z
LOCATION:Soccer Field Back
CONTACT:
SUMMARY:EGSA Kingsway Premier VS. Mantua Strikers
DESCRIPTION:League Name: DSA 22-23 WINTER - BOYS 2009\nGame Type: Regular\n
 Game Status: Pending\nHome Team: EGSA Kingsway Premier\nAway Team: Mantua 
 Strikers\n
END:VEVENT
BEGIN:VEVENT
UID:14764123@ezleagues.ezfacility.com
DTSTAMP:20260426T035120Z
CREATED:20260426T035120Z
DTSTART:20221231T151500Z
DTEND:20221231T160000Z
LOCATION:Soccer Field Back
CONTACT:
SUMMARY:EGSA Kingsway Premier VS. Bobcats 2009/2010
DESCRIPTION:League Name: DSA 22-23 WINTER - BOYS 2009\nGame Type: Regular\n
 Game Status: Complete\nHome Team: EGSA Kingsway Premier\nAway Team: Bobcat
 s 2009/2010\nHome Score: 5\nAway Score: 2
END:VEVENT
BEGIN:VEVENT
UID:14764134@ezleagues.ezfacility.com
DTSTAMP:20260426T035120Z
CREATED:20260426T035120Z
DTSTART:20230114T164500Z
DTEND:20230114T173000Z
LOCATION:Soccer Field Front
CONTACT:
SUMMARY:Bobcats 2009/2010 VS. EGSA Kingsway Premier
DESCRIPTION:League Name: DSA 22-23 WINTER - BOYS 2009\nGame Type: Regular\n
 Game Status: Complete\nHome Team: Bobcats 2009/2010\nAway Team: EGSA Kings
 way Premier\nHome Score: 2\nAway Score: 6
END:VEVENT
BEGIN:VEVENT
UID:14764143@ezleagues.ezfacility.com
DTSTAMP:20260426T035120Z
CREATED:20260426T035120Z
DTSTART:20230219T023000Z
DTEND:20230219T031500Z
LOCATION:Soccer Field Front
CONTACT:
SUMMARY:SWSA SWAT VS. EGSA Kingsway Premier
DESCRIPTION:League Name: DSA 22-23 WINTER - BOYS 2009\nGame Type: Regular\n
 Game Status: Complete\nHome Team: SWSA SWAT\nAway Team: EGSA Kingsway Prem
 ier\nHome Score: 7\nAway Score: 0
END:VEVENT
BEGIN:VEVENT
UID:14766570@ezleagues.ezfacility.com
DTSTAMP:20260426T035120Z
CREATED:20260426T035120Z
DTSTART:20230226T014500Z
DTEND:20230226T023000Z
LOCATION:Soccer Field Back
CONTACT:
SUMMARY:SWSA SWAT VS. EGSA Kingsway Premier
DESCRIPTION:League Name: DSA 22-23 WINTER - BOYS 2009\nGame Type: Regular\n
 Game Status: Complete\nHome Team: SWSA SWAT\nAway Team: EGSA Kingsway Prem
 ier\nHome Score: 5\nAway Score: 0
END:VEVENT
BEGIN:VEVENT
UID:14764136@ezleagues.ezfacility.com
DTSTAMP:20260426T035120Z
CREATED:20260426T035120Z
DTSTART:20230304T143000Z
DTEND:20230304T151500Z
LOCATION:Soccer Field Back
CONTACT:
SUMMARY:SWSA SWAT VS. EGSA Kingsway Premier
DESCRIPTION:League Name: DSA 22-23 WINTER - BOYS 2009\nGame Type: Regular\n
 Game Status: Complete\nHome Team: SWSA SWAT\nAway Team: EGSA Kingsway Prem
 ier\nHome Score: 1\nAway Score: 1
END:VEVENT
BEGIN:VEVENT
UID:14766572@ezleagues.ezfacility.com
DTSTAMP:20260426T035120Z
CREATED:20260426T035120Z
DTSTART:20230312T001500Z
DTEND:20230312T010000Z
LOCATION:Soccer Field Back
CONTACT:
SUMMARY:EGSA Kingsway Premier VS. Mantua Strikers
DESCRIPTION:League Name: DSA 22-23 WINTER - BOYS 2009\nGame Type: Regular\n
 Game Status: Complete\nHome Team: EGSA Kingsway Premier\nAway Team: Mantua
  Strikers\nHome Score: 1\nAway Score: 3
END:VEVENT
BEGIN:VEVENT
UID:14764131@ezleagues.ezfacility.com
DTSTAMP:20260426T035120Z
CREATED:20260426T035120Z
DTSTART:20230312T023000Z
DTEND:20230312T031500Z
LOCATION:Soccer Field Front
CONTACT:
SUMMARY:EGSA Kingsway Premier VS. Bobcats 2009/2010
DESCRIPTION:League Name: DSA 22-23 WINTER - BOYS 2009\nGame Type: Regular\n
 Game Status: Complete\nHome Team: EGSA Kingsway Premier\nAway Team: Bobcat
 s 2009/2010\nHome Score: 4\nAway Score: 3
END:VEVENT
END:VCALENDAR
