BEGIN:VCALENDAR
VERSION:2.0
PRODID:-//EZFacility.com, Inc.//EZL 2.5.5.28621
BEGIN:VEVENT
UID:14765323@ezleagues.ezfacility.com
DTSTAMP:20260421T133318Z
CREATED:20260421T133318Z
DTSTART:20221218T010000Z
DTEND:20221218T014500Z
LOCATION:Soccer Field Front
CONTACT:
SUMMARY:EGSA Kingsway Premier 10G VS. Hamilton Elite Sand Sharks
DESCRIPTION:League Name: DSA 22-23 WINTER - GIRLS 2010\nGame Type: Regular\
 nGame Status: Pending\nHome Team: EGSA Kingsway Premier 10G\nAway Team: Ha
 milton Elite Sand Sharks\n
END:VEVENT
BEGIN:VEVENT
UID:14765363@ezleagues.ezfacility.com
DTSTAMP:20260421T133318Z
CREATED:20260421T133318Z
DTSTART:20230108T001500Z
DTEND:20230108T010000Z
LOCATION:Soccer Field Back
CONTACT:
SUMMARY:Hamilton Elite Sand Sharks VS. Deptford Killer Bees
DESCRIPTION:League Name: DSA 22-23 WINTER - GIRLS 2010\nGame Type: Regular\
 nGame Status: Complete\nHome Team: Hamilton Elite Sand Sharks\nAway Team: 
 Deptford Killer Bees\nHome Score: 7\nAway Score: 1
END:VEVENT
BEGIN:VEVENT
UID:14764870@ezleagues.ezfacility.com
DTSTAMP:20260421T133318Z
CREATED:20260421T133318Z
DTSTART:20230114T010000Z
DTEND:20230114T014500Z
LOCATION:Soccer Field Front
CONTACT:
SUMMARY:Hamilton Elite Sand Sharks VS. WT Lightning
DESCRIPTION:League Name: DSA 22-23 WINTER - GIRLS 2010\nGame Type: Regular\
 nGame Status: Complete\nHome Team: Hamilton Elite Sand Sharks\nAway Team: 
 WT Lightning\nHome Score: 7\nAway Score: 1
END:VEVENT
BEGIN:VEVENT
UID:14765370@ezleagues.ezfacility.com
DTSTAMP:20260421T133318Z
CREATED:20260421T133318Z
DTSTART:20230115T023000Z
DTEND:20230115T031500Z
LOCATION:Soccer Field Back
CONTACT:
SUMMARY:Freedom 2010 VS. Hamilton Elite Sand Sharks
DESCRIPTION:League Name: DSA 22-23 WINTER - GIRLS 2010\nGame Type: Regular\
 nGame Status: Complete\nHome Team: Freedom 2010\nAway Team: Hamilton Elite
  Sand Sharks\nHome Score: 0\nAway Score: 5
END:VEVENT
BEGIN:VEVENT
UID:14764876@ezleagues.ezfacility.com
DTSTAMP:20260421T133318Z
CREATED:20260421T133318Z
DTSTART:20230204T010000Z
DTEND:20230204T014500Z
LOCATION:Soccer Field Front
CONTACT:
SUMMARY:WT Thunder VS. Hamilton Elite Sand Sharks
DESCRIPTION:League Name: DSA 22-23 WINTER - GIRLS 2010\nGame Type: Regular\
 nGame Status: Complete\nHome Team: WT Thunder\nAway Team: Hamilton Elite S
 and Sharks\nHome Score: 1\nAway Score: 9
END:VEVENT
BEGIN:VEVENT
UID:14765394@ezleagues.ezfacility.com
DTSTAMP:20260421T133318Z
CREATED:20260421T133318Z
DTSTART:20230211T220000Z
DTEND:20230211T224500Z
LOCATION:Soccer Field Front
CONTACT:
SUMMARY:Hamilton Elite Sand Sharks VS. Pittsgrove Napoli Girls 2010
DESCRIPTION:League Name: DSA 22-23 WINTER - GIRLS 2010\nGame Type: Regular\
 nGame Status: Complete\nHome Team: Hamilton Elite Sand Sharks\nAway Team: 
 Pittsgrove Napoli Girls 2010\nHome Score: 6\nAway Score: 1
END:VEVENT
BEGIN:VEVENT
UID:14765395@ezleagues.ezfacility.com
DTSTAMP:20260421T133318Z
CREATED:20260421T133318Z
DTSTART:20230312T001500Z
DTEND:20230312T010000Z
LOCATION:Soccer Field Front
CONTACT:
SUMMARY:Hamilton Elite Sand Sharks VS. Deptford Killer Bees
DESCRIPTION:League Name: DSA 22-23 WINTER - GIRLS 2010\nGame Type: Regular\
 nGame Status: Complete\nHome Team: Hamilton Elite Sand Sharks\nAway Team: 
 Deptford Killer Bees\nHome Score: 7\nAway Score: 2
END:VEVENT
BEGIN:VEVENT
UID:14765399@ezleagues.ezfacility.com
DTSTAMP:20260421T133318Z
CREATED:20260421T133318Z
DTSTART:20230312T010000Z
DTEND:20230312T014500Z
LOCATION:Soccer Field Front
CONTACT:
SUMMARY:EGSA Kingsway Premier 10G VS. Hamilton Elite Sand Sharks
DESCRIPTION:League Name: DSA 22-23 WINTER - GIRLS 2010\nGame Type: Regular\
 nGame Status: Complete\nHome Team: EGSA Kingsway Premier 10G\nAway Team: H
 amilton Elite Sand Sharks\nHome Score: 0\nAway Score: 2
END:VEVENT
END:VCALENDAR
