BEGIN:VCALENDAR
VERSION:2.0
PRODID:-//EZFacility.com, Inc.//EZL 2.5.5.28621
BEGIN:VEVENT
UID:14794115@ezleagues.ezfacility.com
DTSTAMP:20260426T033809Z
CREATED:20260426T033809Z
DTSTART:20221203T231000Z
DTEND:20221204T000000Z
LOCATION:Field 2 Full
CONTACT:
SUMMARY:Tigers VS. Gladiators
DESCRIPTION:League Name: U14 Winter Indoor Soccer 6v6\nGame Type: Regular\n
 Game Status: Complete\nHome Team: Tigers\nAway Team: Gladiators\nHome Scor
 e: 3\nAway Score: 3
END:VEVENT
BEGIN:VEVENT
UID:14794122@ezleagues.ezfacility.com
DTSTAMP:20260426T033809Z
CREATED:20260426T033809Z
DTSTART:20221218T000000Z
DTEND:20221218T005000Z
LOCATION:Field 2 Full
CONTACT:
SUMMARY:Gladiators VS. BYSA
DESCRIPTION:League Name: U14 Winter Indoor Soccer 6v6\nGame Type: Regular\n
 Game Status: Complete\nHome Team: Gladiators\nAway Team: BYSA\nHome Score:
  7\nAway Score: 6
END:VEVENT
BEGIN:VEVENT
UID:14794130@ezleagues.ezfacility.com
DTSTAMP:20260426T033809Z
CREATED:20260426T033809Z
DTSTART:20230107T222000Z
DTEND:20230107T231000Z
LOCATION:Field 2 Full
CONTACT:
SUMMARY:Gladiators VS. Tigers
DESCRIPTION:League Name: U14 Winter Indoor Soccer 6v6\nGame Type: Regular\n
 Game Status: Complete\nHome Team: Gladiators\nAway Team: Tigers\nHome Scor
 e: 1\nAway Score: 3
END:VEVENT
BEGIN:VEVENT
UID:14794134@ezleagues.ezfacility.com
DTSTAMP:20260426T033809Z
CREATED:20260426T033809Z
DTSTART:20230115T000000Z
DTEND:20230115T005000Z
LOCATION:Field 2 Full
CONTACT:
SUMMARY:Gladiators VS. Columbia FC
DESCRIPTION:League Name: U14 Winter Indoor Soccer 6v6\nGame Type: Regular\n
 Game Status: Complete\nHome Team: Gladiators\nAway Team: Columbia FC\nHome
  Score: 7\nAway Score: 4
END:VEVENT
BEGIN:VEVENT
UID:14794137@ezleagues.ezfacility.com
DTSTAMP:20260426T033809Z
CREATED:20260426T033809Z
DTSTART:20230121T231000Z
DTEND:20230122T000000Z
LOCATION:Field 2 Full
CONTACT:
SUMMARY:BYSA VS. Gladiators
DESCRIPTION:League Name: U14 Winter Indoor Soccer 6v6\nGame Type: Regular\n
 Game Status: Complete\nHome Team: BYSA\nAway Team: Gladiators\nHome Score:
  4\nAway Score: 6
END:VEVENT
BEGIN:VEVENT
UID:14794139@ezleagues.ezfacility.com
DTSTAMP:20260426T033809Z
CREATED:20260426T033809Z
DTSTART:20230128T222000Z
DTEND:20230128T231000Z
LOCATION:Field 2 Full
CONTACT:
SUMMARY:Shade 1v 1 VS. Gladiators
DESCRIPTION:League Name: U14 Winter Indoor Soccer 6v6\nGame Type: Regular\n
 Game Status: Complete\nHome Team: Shade 1v 1\nAway Team: Gladiators\nHome 
 Score: 3\nAway Score: 3
END:VEVENT
BEGIN:VEVENT
UID:14794141@ezleagues.ezfacility.com
DTSTAMP:20260426T033809Z
CREATED:20260426T033809Z
DTSTART:20230205T000000Z
DTEND:20230205T005000Z
LOCATION:Field 2 Full
CONTACT:
SUMMARY:Gladiators VS. UAE White 09
DESCRIPTION:League Name: U14 Winter Indoor Soccer 6v6\nGame Type: Regular\n
 Game Status: Complete\nHome Team: Gladiators\nAway Team: UAE White 09\nHom
 e Score: 6\nAway Score: 1
END:VEVENT
BEGIN:VEVENT
UID:14794126@ezleagues.ezfacility.com
DTSTAMP:20260426T033809Z
CREATED:20260426T033809Z
DTSTART:20230211T231000Z
DTEND:20230212T000000Z
LOCATION:Field 2 Full
CONTACT:
SUMMARY:UAE White 09 VS. Gladiators
DESCRIPTION:League Name: U14 Winter Indoor Soccer 6v6\nGame Type: Regular\n
 Game Status: Complete\nHome Team: UAE White 09\nAway Team: Gladiators\nHom
 e Score: 5\nAway Score: 1
END:VEVENT
BEGIN:VEVENT
UID:14794124@ezleagues.ezfacility.com
DTSTAMP:20260426T033809Z
CREATED:20260426T033809Z
DTSTART:20230218T222000Z
DTEND:20230218T231000Z
LOCATION:Field 2 Full
CONTACT:
SUMMARY:Gladiators VS. Shade 1v 1
DESCRIPTION:League Name: U14 Winter Indoor Soccer 6v6\nGame Type: Regular\n
 Game Status: Complete\nHome Team: Gladiators\nAway Team: Shade 1v 1\nHome 
 Score: 3\nAway Score: 0
END:VEVENT
BEGIN:VEVENT
UID:14794119@ezleagues.ezfacility.com
DTSTAMP:20260426T033809Z
CREATED:20260426T033809Z
DTSTART:20230225T210000Z
DTEND:20230225T215000Z
LOCATION:Field 2 Full
CONTACT:
SUMMARY:Columbia FC VS. Gladiators
DESCRIPTION:League Name: U14 Winter Indoor Soccer 6v6\nGame Type: Regular\n
 Game Status: Complete\nHome Team: Columbia FC\nAway Team: Gladiators\nHome
  Score: 4\nAway Score: 3
END:VEVENT
END:VCALENDAR
