BEGIN:VCALENDAR
VERSION:2.0
PRODID:-//EZFacility.com, Inc.//EZL 2.5.5.28621
BEGIN:VEVENT
UID:14773196@ezleagues.ezfacility.com
DTSTAMP:20260426T034838Z
CREATED:20260426T034838Z
DTSTART:20221211T003500Z
DTEND:20221211T012000Z
LOCATION:Field 1
CONTACT:Tellez 
SUMMARY:Valor 05 White VS. 360 Mustangs
DESCRIPTION:League Name: Youth Soccer 2022 Winter 1 Boys High School South\
 nGame Type: Regular\nGame Status: Complete\nHome Team: Valor 05 White\nAwa
 y Team: 360 Mustangs\nHome Score: 3\nAway Score: 0
END:VEVENT
BEGIN:VEVENT
UID:14773202@ezleagues.ezfacility.com
DTSTAMP:20260426T034838Z
CREATED:20260426T034838Z
DTSTART:20221211T213500Z
DTEND:20221211T222000Z
LOCATION:Field 1
CONTACT:Esquerre
SUMMARY:360 Mustangs VS. DMV United
DESCRIPTION:League Name: Youth Soccer 2022 Winter 1 Boys High School South\
 nGame Type: Regular\nGame Status: Complete\nHome Team: 360 Mustangs\nAway 
 Team: DMV United\nHome Score: 6\nAway Score: 2
END:VEVENT
BEGIN:VEVENT
UID:14773206@ezleagues.ezfacility.com
DTSTAMP:20260426T034838Z
CREATED:20260426T034838Z
DTSTART:20221218T010000Z
DTEND:20221218T014500Z
LOCATION: Field 3
CONTACT:Hernandez
SUMMARY:360 Mustangs VS. Mambas FC
DESCRIPTION:League Name: Youth Soccer 2022 Winter 1 Boys High School South\
 nGame Type: Regular\nGame Status: Complete\nHome Team: 360 Mustangs\nAway 
 Team: Mambas FC\nHome Score: 0\nAway Score: 6
END:VEVENT
BEGIN:VEVENT
UID:14773198@ezleagues.ezfacility.com
DTSTAMP:20260426T034838Z
CREATED:20260426T034838Z
DTSTART:20230107T233000Z
DTEND:20230108T001500Z
LOCATION:Field 1
CONTACT:Tellez 
SUMMARY:Baba FC VS. 360 Mustangs
DESCRIPTION:League Name: Youth Soccer 2022 Winter 1 Boys High School South\
 nGame Type: Regular\nGame Status: Complete\nHome Team: Baba FC\nAway Team:
  360 Mustangs\nHome Score: 5\nAway Score: 8
END:VEVENT
BEGIN:VEVENT
UID:14776800@ezleagues.ezfacility.com
DTSTAMP:20260426T034838Z
CREATED:20260426T034838Z
DTSTART:20230115T020000Z
DTEND:20230115T024500Z
LOCATION:VA Army National Guard Field 2
CONTACT:Tellez 
SUMMARY:Baba FC VS. 360 Mustangs
DESCRIPTION:League Name: Youth Soccer 2022 Winter 1 Boys High School South\
 nGame Type: Postseason\nGame Status: Complete\nHome Team: Baba FC\nAway Te
 am: 360 Mustangs\nHome Score: 9\nAway Score: 6
END:VEVENT
BEGIN:VEVENT
UID:14776803@ezleagues.ezfacility.com
DTSTAMP:20260426T034838Z
CREATED:20260426T034838Z
DTSTART:20230115T214500Z
DTEND:20230115T223000Z
LOCATION:VA Army National Guard Field 2
CONTACT:Pedemonte
SUMMARY:Valor 05 White VS. 360 Mustangs
DESCRIPTION:League Name: Youth Soccer 2022 Winter 1 Boys High School South\
 nGame Type: Postseason\nGame Status: Complete\nHome Team: Valor 05 White\n
 Away Team: 360 Mustangs\nHome Score: 3\nAway Score: 6
END:VEVENT
BEGIN:VEVENT
UID:14776806@ezleagues.ezfacility.com
DTSTAMP:20260426T034838Z
CREATED:20260426T034838Z
DTSTART:20230122T023000Z
DTEND:20230122T031500Z
LOCATION:Field 1
CONTACT:Esquerre
SUMMARY:Mambas FC VS. 360 Mustangs
DESCRIPTION:League Name: Youth Soccer 2022 Winter 1 Boys High School South\
 nGame Type: Postseason\nGame Status: Complete\nHome Team: Mambas FC\nAway 
 Team: 360 Mustangs\nHome Score: 2\nAway Score: 11
END:VEVENT
END:VCALENDAR
