BEGIN:VCALENDAR
VERSION:2.0
PRODID:-//EZFacility.com, Inc.//EZL 2.5.5.28621
BEGIN:VEVENT
UID:14811311@ezleagues.ezfacility.com
DTSTAMP:20260424T114629Z
CREATED:20260424T114629Z
DTSTART:20221227T142500Z
DTEND:20221227T144000Z
LOCATION:Arena 1 - Pitch 2
CONTACT:
SUMMARY:Crompton FC U10 Girls VS. West Coast Sports U9 Panthers
DESCRIPTION:League Name: Christmas Cup 2022 - U9s Mixed - Group 1\nGame Typ
 e: Regular\nGame Status: Complete\nHome Team: Crompton FC U10 Girls\nAway 
 Team: West Coast Sports U9 Panthers\nHome Score: 1\nAway Score: 1
END:VEVENT
BEGIN:VEVENT
UID:14811299@ezleagues.ezfacility.com
DTSTAMP:20260424T114629Z
CREATED:20260424T114629Z
DTSTART:20221227T145000Z
DTEND:20221227T150500Z
LOCATION:Arena 1 - Pitch 1 
CONTACT:
SUMMARY:Fylde Coast Soccer U9 Ronaldinhos VS. West Coast Sports U9 Panthers
DESCRIPTION:League Name: Christmas Cup 2022 - U9s Mixed - Group 1\nGame Typ
 e: Regular\nGame Status: Complete\nHome Team: Fylde Coast Soccer U9 Ronald
 inhos\nAway Team: West Coast Sports U9 Panthers\nHome Score: 0\nAway Score
 : 0
END:VEVENT
BEGIN:VEVENT
UID:14811301@ezleagues.ezfacility.com
DTSTAMP:20260424T114629Z
CREATED:20260424T114629Z
DTSTART:20221227T154000Z
DTEND:20221227T155500Z
LOCATION:Arena 1 - Pitch 1 
CONTACT:
SUMMARY:Poulton Town U9 Panthers VS. West Coast Sports U9 Panthers
DESCRIPTION:League Name: Christmas Cup 2022 - U9s Mixed - Group 1\nGame Typ
 e: Regular\nGame Status: Complete\nHome Team: Poulton Town U9 Panthers\nAw
 ay Team: West Coast Sports U9 Panthers\nHome Score: 1\nAway Score: 1
END:VEVENT
BEGIN:VEVENT
UID:14811302@ezleagues.ezfacility.com
DTSTAMP:20260424T114629Z
CREATED:20260424T114629Z
DTSTART:20221227T160500Z
DTEND:20221227T162000Z
LOCATION:Arena 1 - Pitch 1 
CONTACT:
SUMMARY:Fleetwood Town Juniors U9 Reds VS. West Coast Sports U9 Panthers
DESCRIPTION:League Name: Christmas Cup 2022 - U9s Mixed - Group 1\nGame Typ
 e: Regular\nGame Status: Complete\nHome Team: Fleetwood Town Juniors U9 Re
 ds\nAway Team: West Coast Sports U9 Panthers\nHome Score: 2\nAway Score: 0
END:VEVENT
BEGIN:VEVENT
UID:14811305@ezleagues.ezfacility.com
DTSTAMP:20260424T114629Z
CREATED:20260424T114629Z
DTSTART:20221227T165500Z
DTEND:20221227T171000Z
LOCATION:Arena 1 - Pitch 2
CONTACT:
SUMMARY:Bispham J.F.F U8 Lasers VS. West Coast Sports U9 Panthers
DESCRIPTION:League Name: Christmas Cup 2022 - U9s Mixed - Group 1\nGame Typ
 e: Regular\nGame Status: Complete\nHome Team: Bispham J.F.F U8 Lasers\nAwa
 y Team: West Coast Sports U9 Panthers\nHome Score: 1\nAway Score: 1
END:VEVENT
END:VCALENDAR
