BEGIN:VCALENDAR
VERSION:2.0
PRODID:-//EZFacility.com, Inc.//EZL 2.5.5.28621
BEGIN:VEVENT
UID:1251256@ezleagues.ezfacility.com
DTSTAMP:20260426T034057Z
CREATED:20260426T034057Z
DTSTART:20080209T230000Z
DTEND:20080209T235000Z
LOCATION:SANDHILLS (Field #2) 
CONTACT:
SUMMARY:Dep. Hidalgo VS. Toluca
DESCRIPTION:League Name: Winter II Latino League Verde\nGame Type: Regular\
 nGame Status: Complete\nHome Team: Dep. Hidalgo\nAway Team: Toluca\nHome S
 core: 1\nAway Score: 10
END:VEVENT
BEGIN:VEVENT
UID:1264475@ezleagues.ezfacility.com
DTSTAMP:20260426T034057Z
CREATED:20260426T034057Z
DTSTART:20080215T222000Z
DTEND:20080215T231000Z
LOCATION:SANDHILLS (Bi-Lo #1)
CONTACT:Mower
SUMMARY:Dep. Zimapan VS. Toluca
DESCRIPTION:League Name: Winter II Latino League Verde\nGame Type: Regular\
 nGame Status: Complete\nHome Team: Dep. Zimapan\nAway Team: Toluca\nHome S
 core: 3\nAway Score: 6
END:VEVENT
BEGIN:VEVENT
UID:1272048@ezleagues.ezfacility.com
DTSTAMP:20260426T034057Z
CREATED:20260426T034057Z
DTSTART:20080223T230000Z
DTEND:20080223T235000Z
LOCATION:SANDHILLS (Field #2) 
CONTACT:
SUMMARY:Mapaches VS. Toluca
DESCRIPTION:League Name: Winter II Latino League Verde\nGame Type: Regular\
 nGame Status: Complete\nHome Team: Mapaches\nAway Team: Toluca\nHome Score
 : 3\nAway Score: 9
END:VEVENT
BEGIN:VEVENT
UID:1283203@ezleagues.ezfacility.com
DTSTAMP:20260426T034057Z
CREATED:20260426T034057Z
DTSTART:20080301T230000Z
DTEND:20080301T235000Z
LOCATION:SANDHILLS (Bi-Lo #1)
CONTACT:
SUMMARY:La Coruña VS. Toluca
DESCRIPTION:League Name: Winter II Latino League Verde\nGame Type: Regular\
 nGame Status: Complete\nHome Team: La Coruña\nAway Team: Toluca\nHome Sco
 re: 9\nAway Score: 2
END:VEVENT
BEGIN:VEVENT
UID:1299108@ezleagues.ezfacility.com
DTSTAMP:20260426T034057Z
CREATED:20260426T034057Z
DTSTART:20080308T203000Z
DTEND:20080308T212000Z
LOCATION:SANDHILLS (Bi-Lo #1)
CONTACT:
SUMMARY:Toluca VS. Combinado
DESCRIPTION:League Name: Winter II Latino League Verde\nGame Type: Regular\
 nGame Status: Complete\nHome Team: Toluca\nAway Team: Combinado\nHome Scor
 e: 0\nAway Score: 6
END:VEVENT
BEGIN:VEVENT
UID:1311545@ezleagues.ezfacility.com
DTSTAMP:20260426T034057Z
CREATED:20260426T034057Z
DTSTART:20080315T221000Z
DTEND:20080315T230000Z
LOCATION:SANDHILLS (Field #2) 
CONTACT:Mower
SUMMARY:Los Kings VS. Toluca
DESCRIPTION:League Name: Winter II Latino League Verde\nGame Type: Regular\
 nGame Status: Complete\nHome Team: Los Kings\nAway Team: Toluca\nHome Scor
 e: 4\nAway Score: 5
END:VEVENT
BEGIN:VEVENT
UID:1325396@ezleagues.ezfacility.com
DTSTAMP:20260426T034057Z
CREATED:20260426T034057Z
DTSTART:20080322T221000Z
DTEND:20080322T230000Z
LOCATION:SANDHILLS (Bi-Lo #1)
CONTACT:
SUMMARY:Dep. Huatulco VS. Toluca
DESCRIPTION:League Name: Winter II Latino League Verde\nGame Type: Regular\
 nGame Status: Complete\nHome Team: Dep. Huatulco\nAway Team: Toluca\nHome 
 Score: 3\nAway Score: 4
END:VEVENT
BEGIN:VEVENT
UID:1343253@ezleagues.ezfacility.com
DTSTAMP:20260426T034057Z
CREATED:20260426T034057Z
DTSTART:20080404T221000Z
DTEND:20080404T230000Z
LOCATION:SANDHILLS (Field #2) 
CONTACT:
SUMMARY:Toluca VS. Juventus
DESCRIPTION:League Name: Winter II Latino League Verde\nGame Type: Regular\
 nGame Status: Complete\nHome Team: Toluca\nAway Team: Juventus\nHome Score
 : 4\nAway Score: 5
END:VEVENT
BEGIN:VEVENT
UID:1334311@ezleagues.ezfacility.com
DTSTAMP:20260426T034057Z
CREATED:20260426T034057Z
DTSTART:20080405T162000Z
DTEND:20080405T171000Z
LOCATION:SANDHILLS (Field #2) 
CONTACT:
SUMMARY:Atl. San Pancho VS. Toluca
DESCRIPTION:League Name: Winter II Latino League Verde\nGame Type: Regular\
 nGame Status: Complete\nHome Team: Atl. San Pancho\nAway Team: Toluca\nHom
 e Score: 5\nAway Score: 2
END:VEVENT
END:VCALENDAR
