BEGIN:VCALENDAR
VERSION:2.0
PRODID:-//EZFacility.com, Inc.//EZL 2.5.5.28621
BEGIN:VEVENT
UID:14796976@ezleagues.ezfacility.com
DTSTAMP:20260426T034046Z
CREATED:20260426T034046Z
DTSTART:20221217T003000Z
DTEND:20221217T005000Z
LOCATION:Turf 2
CONTACT:
SUMMARY:Long Shots VS. JOFAS
DESCRIPTION:League Name: Cornhole Winter 2022 Recreational\nGame Type: Regu
 lar\nGame Status: Complete\nHome Team: Long Shots\nAway Team: JOFAS\nHome 
 Score: 19\nAway Score: 21
END:VEVENT
BEGIN:VEVENT
UID:14796980@ezleagues.ezfacility.com
DTSTAMP:20260426T034046Z
CREATED:20260426T034046Z
DTSTART:20221217T010000Z
DTEND:20221217T012000Z
LOCATION:Turf 2
CONTACT:
SUMMARY:Long Shots VS. Totally Tossame 
DESCRIPTION:League Name: Cornhole Winter 2022 Recreational\nGame Type: Regu
 lar\nGame Status: Complete\nHome Team: Long Shots\nAway Team: Totally Toss
 ame \nHome Score: 18\nAway Score: 21
END:VEVENT
BEGIN:VEVENT
UID:14796982@ezleagues.ezfacility.com
DTSTAMP:20260426T034046Z
CREATED:20260426T034046Z
DTSTART:20221217T013000Z
DTEND:20221217T015000Z
LOCATION:Turf 2
CONTACT:
SUMMARY:Pirates of the Cornibbeans VS. Long Shots
DESCRIPTION:League Name: Cornhole Winter 2022 Recreational\nGame Type: Regu
 lar\nGame Status: Complete\nHome Team: Pirates of the Cornibbeans\nAway Te
 am: Long Shots\nHome Score: 21\nAway Score: 12
END:VEVENT
BEGIN:VEVENT
UID:14808787@ezleagues.ezfacility.com
DTSTAMP:20260426T034046Z
CREATED:20260426T034046Z
DTSTART:20221224T000000Z
DTEND:20221224T002000Z
LOCATION:Turf 2
CONTACT:
SUMMARY:Long Shots VS. The Dirty Old Bags
DESCRIPTION:League Name: Cornhole Winter 2022 Recreational\nGame Type: Regu
 lar\nGame Status: Complete\nHome Team: Long Shots\nAway Team: The Dirty Ol
 d Bags\nHome Score: 21\nAway Score: 10
END:VEVENT
BEGIN:VEVENT
UID:14808792@ezleagues.ezfacility.com
DTSTAMP:20260426T034046Z
CREATED:20260426T034046Z
DTSTART:20221224T003000Z
DTEND:20221224T005000Z
LOCATION:Turf 2
CONTACT:
SUMMARY:Pirates of the Cornibbeans VS. Long Shots
DESCRIPTION:League Name: Cornhole Winter 2022 Recreational\nGame Type: Regu
 lar\nGame Status: Complete\nHome Team: Pirates of the Cornibbeans\nAway Te
 am: Long Shots\nHome Score: 10\nAway Score: 21
END:VEVENT
BEGIN:VEVENT
UID:14808795@ezleagues.ezfacility.com
DTSTAMP:20260426T034046Z
CREATED:20260426T034046Z
DTSTART:20221224T010000Z
DTEND:20221224T012000Z
LOCATION:Turf 2
CONTACT:
SUMMARY:Long Shots VS. Seabags
DESCRIPTION:League Name: Cornhole Winter 2022 Recreational\nGame Type: Regu
 lar\nGame Status: Complete\nHome Team: Long Shots\nAway Team: Seabags\nHom
 e Score: 17\nAway Score: 21
END:VEVENT
BEGIN:VEVENT
UID:14826427@ezleagues.ezfacility.com
DTSTAMP:20260426T034046Z
CREATED:20260426T034046Z
DTSTART:20221231T000000Z
DTEND:20221231T002000Z
LOCATION:Turf 2
CONTACT:
SUMMARY:Half In The Bag VS. Long Shots
DESCRIPTION:League Name: Cornhole Winter 2022 Recreational\nGame Type: Regu
 lar\nGame Status: Complete\nHome Team: Half In The Bag\nAway Team: Long Sh
 ots\nHome Score: 21\nAway Score: 10
END:VEVENT
BEGIN:VEVENT
UID:14826435@ezleagues.ezfacility.com
DTSTAMP:20260426T034046Z
CREATED:20260426T034046Z
DTSTART:20221231T003000Z
DTEND:20221231T005000Z
LOCATION:Turf 2
CONTACT:
SUMMARY:Long Shots VS. The Dirty Old Bags
DESCRIPTION:League Name: Cornhole Winter 2022 Recreational\nGame Type: Regu
 lar\nGame Status: Complete\nHome Team: Long Shots\nAway Team: The Dirty Ol
 d Bags\nHome Score: 21\nAway Score: 7
END:VEVENT
BEGIN:VEVENT
UID:14826439@ezleagues.ezfacility.com
DTSTAMP:20260426T034046Z
CREATED:20260426T034046Z
DTSTART:20221231T010000Z
DTEND:20221231T012000Z
LOCATION:Turf 2
CONTACT:
SUMMARY:Totally Tossame  VS. Long Shots
DESCRIPTION:League Name: Cornhole Winter 2022 Recreational\nGame Type: Regu
 lar\nGame Status: Complete\nHome Team: Totally Tossame \nAway Team: Long S
 hots\nHome Score: 6\nAway Score: 21
END:VEVENT
BEGIN:VEVENT
UID:14846217@ezleagues.ezfacility.com
DTSTAMP:20260426T034046Z
CREATED:20260426T034046Z
DTSTART:20230107T000000Z
DTEND:20230107T002000Z
LOCATION:Turf 2
CONTACT:
SUMMARY:Long Shots VS. The Dirty Old Bags
DESCRIPTION:League Name: Cornhole Winter 2022 Recreational\nGame Type: Regu
 lar\nGame Status: Complete\nHome Team: Long Shots\nAway Team: The Dirty Ol
 d Bags\nHome Score: 21\nAway Score: 2
END:VEVENT
BEGIN:VEVENT
UID:14846221@ezleagues.ezfacility.com
DTSTAMP:20260426T034046Z
CREATED:20260426T034046Z
DTSTART:20230107T003000Z
DTEND:20230107T005000Z
LOCATION:Turf 2
CONTACT:
SUMMARY:JOFAS VS. Long Shots
DESCRIPTION:League Name: Cornhole Winter 2022 Recreational\nGame Type: Regu
 lar\nGame Status: Complete\nHome Team: JOFAS\nAway Team: Long Shots\nHome 
 Score: 13\nAway Score: 21
END:VEVENT
BEGIN:VEVENT
UID:14846226@ezleagues.ezfacility.com
DTSTAMP:20260426T034046Z
CREATED:20260426T034046Z
DTSTART:20230107T010000Z
DTEND:20230107T012000Z
LOCATION:Turf 2
CONTACT:
SUMMARY:Pirates of the Cornibbeans VS. Long Shots
DESCRIPTION:League Name: Cornhole Winter 2022 Recreational\nGame Type: Regu
 lar\nGame Status: Complete\nHome Team: Pirates of the Cornibbeans\nAway Te
 am: Long Shots\nHome Score: 21\nAway Score: 8
END:VEVENT
BEGIN:VEVENT
UID:14870042@ezleagues.ezfacility.com
DTSTAMP:20260426T034046Z
CREATED:20260426T034046Z
DTSTART:20230114T000000Z
DTEND:20230114T002000Z
LOCATION:Turf 2
CONTACT:
SUMMARY:Long Shots VS. Seabags
DESCRIPTION:League Name: Cornhole Winter 2022 Recreational\nGame Type: Regu
 lar\nGame Status: Complete\nHome Team: Long Shots\nAway Team: Seabags\nHom
 e Score: 21\nAway Score: 4
END:VEVENT
BEGIN:VEVENT
UID:14870047@ezleagues.ezfacility.com
DTSTAMP:20260426T034046Z
CREATED:20260426T034046Z
DTSTART:20230114T003000Z
DTEND:20230114T005000Z
LOCATION:Turf 2
CONTACT:
SUMMARY:JOFAS VS. Long Shots
DESCRIPTION:League Name: Cornhole Winter 2022 Recreational\nGame Type: Regu
 lar\nGame Status: Complete\nHome Team: JOFAS\nAway Team: Long Shots\nHome 
 Score: 2\nAway Score: 21
END:VEVENT
BEGIN:VEVENT
UID:14870048@ezleagues.ezfacility.com
DTSTAMP:20260426T034046Z
CREATED:20260426T034046Z
DTSTART:20230114T010000Z
DTEND:20230114T012000Z
LOCATION:Turf 2
CONTACT:
SUMMARY:Half In The Bag VS. Long Shots
DESCRIPTION:League Name: Cornhole Winter 2022 Recreational\nGame Type: Regu
 lar\nGame Status: Complete\nHome Team: Half In The Bag\nAway Team: Long Sh
 ots\nHome Score: 7\nAway Score: 21
END:VEVENT
END:VCALENDAR
