BEGIN:VCALENDAR
VERSION:2.0
PRODID:-//EZFacility.com, Inc.//EZL 2.5.5.28621
BEGIN:VEVENT
UID:14797497@ezleagues.ezfacility.com
DTSTAMP:20260420T045206Z
CREATED:20260420T045206Z
DTSTART:20221221T190000Z
DTEND:20221221T194500Z
LOCATION:1 John Charles
CONTACT:
SUMMARY:Transplant Surgeons VS. PA FC
DESCRIPTION:League Name: Cardiff Wednesday Works League Division 2\nGame Ty
 pe: Regular\nGame Status: Complete\nHome Team: Transplant Surgeons\nAway T
 eam: PA FC\nHome Score: 3\nAway Score: 6
END:VEVENT
BEGIN:VEVENT
UID:14797511@ezleagues.ezfacility.com
DTSTAMP:20260420T045206Z
CREATED:20260420T045206Z
DTSTART:20230104T181500Z
DTEND:20230104T190000Z
LOCATION:6 Joey Jones
CONTACT:
SUMMARY:Haines Painting + Decorating VS. PA FC
DESCRIPTION:League Name: Cardiff Wednesday Works League Division 2\nGame Ty
 pe: Regular\nGame Status: Complete\nHome Team: Haines Painting + Decoratin
 g\nAway Team: PA FC\nHome Score: 3\nAway Score: 4
END:VEVENT
BEGIN:VEVENT
UID:14797517@ezleagues.ezfacility.com
DTSTAMP:20260420T045206Z
CREATED:20260420T045206Z
DTSTART:20230111T190000Z
DTEND:20230111T194500Z
LOCATION:6 Joey Jones
CONTACT:
SUMMARY:PA FC VS. PD FC
DESCRIPTION:League Name: Cardiff Wednesday Works League Division 2\nGame Ty
 pe: Regular\nGame Status: Complete\nHome Team: PA FC\nAway Team: PD FC\nHo
 me Score: 14\nAway Score: 1
END:VEVENT
BEGIN:VEVENT
UID:14797522@ezleagues.ezfacility.com
DTSTAMP:20260420T045206Z
CREATED:20260420T045206Z
DTSTART:20230118T181500Z
DTEND:20230118T190000Z
LOCATION:5 Neville Southall
CONTACT:
SUMMARY:PA FC VS. Howells
DESCRIPTION:League Name: Cardiff Wednesday Works League Division 2\nGame Ty
 pe: Regular\nGame Status: Complete\nHome Team: PA FC\nAway Team: Howells\n
 Home Score: 6\nAway Score: 2
END:VEVENT
BEGIN:VEVENT
UID:14797527@ezleagues.ezfacility.com
DTSTAMP:20260420T045206Z
CREATED:20260420T045206Z
DTSTART:20230125T190000Z
DTEND:20230125T194500Z
LOCATION:1 John Charles
CONTACT:
SUMMARY:PA FC VS. Transplant Surgeons
DESCRIPTION:League Name: Cardiff Wednesday Works League Division 2\nGame Ty
 pe: Regular\nGame Status: Complete\nHome Team: PA FC\nAway Team: Transplan
 t Surgeons\nHome Score: 7\nAway Score: 1
END:VEVENT
BEGIN:VEVENT
UID:14797534@ezleagues.ezfacility.com
DTSTAMP:20260420T045206Z
CREATED:20260420T045206Z
DTSTART:20230201T181500Z
DTEND:20230201T190000Z
LOCATION:5 Neville Southall
CONTACT:
SUMMARY:PA FC VS. Pacing Santander
DESCRIPTION:League Name: Cardiff Wednesday Works League Division 2\nGame Ty
 pe: Regular\nGame Status: Complete\nHome Team: PA FC\nAway Team: Pacing Sa
 ntander\nHome Score: 0\nAway Score: 5
END:VEVENT
BEGIN:VEVENT
UID:14797541@ezleagues.ezfacility.com
DTSTAMP:20260420T045206Z
CREATED:20260420T045206Z
DTSTART:20230208T181500Z
DTEND:20230208T190000Z
LOCATION:6 Joey Jones
CONTACT:
SUMMARY:PA FC VS. Haines Painting + Decorating
DESCRIPTION:League Name: Cardiff Wednesday Works League Division 2\nGame Ty
 pe: Regular\nGame Status: Complete\nHome Team: PA FC\nAway Team: Haines Pa
 inting + Decorating\nHome Score: 2\nAway Score: 2
END:VEVENT
BEGIN:VEVENT
UID:14797547@ezleagues.ezfacility.com
DTSTAMP:20260420T045206Z
CREATED:20260420T045206Z
DTSTART:20230215T181500Z
DTEND:20230215T190000Z
LOCATION:6 Joey Jones
CONTACT:
SUMMARY:PD FC VS. PA FC
DESCRIPTION:League Name: Cardiff Wednesday Works League Division 2\nGame Ty
 pe: Regular\nGame Status: Complete\nHome Team: PD FC\nAway Team: PA FC\nHo
 me Score: 2\nAway Score: 10
END:VEVENT
BEGIN:VEVENT
UID:14797552@ezleagues.ezfacility.com
DTSTAMP:20260420T045206Z
CREATED:20260420T045206Z
DTSTART:20230222T181500Z
DTEND:20230222T190000Z
LOCATION:5 Neville Southall
CONTACT:
SUMMARY:Howells VS. PA FC
DESCRIPTION:League Name: Cardiff Wednesday Works League Division 2\nGame Ty
 pe: Regular\nGame Status: Complete\nHome Team: Howells\nAway Team: PA FC\n
 Home Score: 5\nAway Score: 8
END:VEVENT
BEGIN:VEVENT
UID:14797504@ezleagues.ezfacility.com
DTSTAMP:20260420T045206Z
CREATED:20260420T045206Z
DTSTART:20230301T181500Z
DTEND:20230301T190000Z
LOCATION:5 Neville Southall
CONTACT:
SUMMARY:Pacing Santander VS. PA FC
DESCRIPTION:League Name: Cardiff Wednesday Works League Division 2\nGame Ty
 pe: Regular\nGame Status: Complete\nHome Team: Pacing Santander\nAway Team
 : PA FC\nHome Score: 0\nAway Score: 7
END:VEVENT
END:VCALENDAR
