BEGIN:VCALENDAR
VERSION:2.0
PRODID:-//EZFacility.com, Inc.//EZL 2.5.5.28621
BEGIN:VEVENT
UID:14814267@ezleagues.ezfacility.com
DTSTAMP:20260424T044120Z
CREATED:20260424T044120Z
DTSTART:20230115T000000Z
DTEND:20230115T010000Z
LOCATION:Eastlake
CONTACT:
SUMMARY:West Geauga High School VS. Cuyahoga heights grey
DESCRIPTION:League Name: HS Soccer League - Boys Lower Division\nGame Type:
  Regular\nGame Status: Pending\nHome Team: West Geauga High School\nAway T
 eam: Cuyahoga heights grey\n
END:VEVENT
BEGIN:VEVENT
UID:14814272@ezleagues.ezfacility.com
DTSTAMP:20260424T044120Z
CREATED:20260424T044120Z
DTSTART:20230121T184000Z
DTEND:20230121T193000Z
LOCATION:Richmond Main Field
CONTACT:
SUMMARY:West Geauga High School VS. SYSA HS BU18
DESCRIPTION:League Name: HS Soccer League - Boys Lower Division\nGame Type:
  Regular\nGame Status: Pending\nHome Team: West Geauga High School\nAway T
 eam: SYSA HS BU18\n
END:VEVENT
BEGIN:VEVENT
UID:14814279@ezleagues.ezfacility.com
DTSTAMP:20260424T044120Z
CREATED:20260424T044120Z
DTSTART:20230205T013500Z
DTEND:20230205T022500Z
LOCATION:Northfield Full Field (3/4)
CONTACT:
SUMMARY:Streetsboro VS. West Geauga High School
DESCRIPTION:League Name: HS Soccer League - Boys Lower Division\nGame Type:
  Regular\nGame Status: Complete\nHome Team: Streetsboro\nAway Team: West G
 eauga High School\nHome Score: 4\nAway Score: 1
END:VEVENT
BEGIN:VEVENT
UID:14814282@ezleagues.ezfacility.com
DTSTAMP:20260424T044120Z
CREATED:20260424T044120Z
DTSTART:20230211T230000Z
DTEND:20230212T000000Z
LOCATION:Eastlake
CONTACT:
SUMMARY:RHS Girls VS. West Geauga High School
DESCRIPTION:League Name: HS Soccer League - Boys Lower Division\nGame Type:
  Regular\nGame Status: Complete\nHome Team: RHS Girls\nAway Team: West Gea
 uga High School\nHome Score: 0\nAway Score: 13
END:VEVENT
BEGIN:VEVENT
UID:14814285@ezleagues.ezfacility.com
DTSTAMP:20260424T044120Z
CREATED:20260424T044120Z
DTSTART:20230218T230000Z
DTEND:20230219T000000Z
LOCATION:Eastlake
CONTACT:
SUMMARY:West Geauga High School VS. Chagrin 2
DESCRIPTION:League Name: HS Soccer League - Boys Lower Division\nGame Type:
  Regular\nGame Status: Complete\nHome Team: West Geauga High School\nAway 
 Team: Chagrin 2\nHome Score: 4\nAway Score: 3
END:VEVENT
BEGIN:VEVENT
UID:14814290@ezleagues.ezfacility.com
DTSTAMP:20260424T044120Z
CREATED:20260424T044120Z
DTSTART:20230226T135000Z
DTEND:20230226T144000Z
LOCATION:Richmond Main Field
CONTACT:
SUMMARY:West Geauga High School VS. walsh jesuit
DESCRIPTION:League Name: HS Soccer League - Boys Lower Division\nGame Type:
  Regular\nGame Status: Complete\nHome Team: West Geauga High School\nAway 
 Team: walsh jesuit\nHome Score: 2\nAway Score: 4
END:VEVENT
BEGIN:VEVENT
UID:14814262@ezleagues.ezfacility.com
DTSTAMP:20260424T044120Z
CREATED:20260424T044120Z
DTSTART:20230305T130000Z
DTEND:20230305T140000Z
LOCATION:Richmond Main Field
CONTACT:
SUMMARY:walsh jesuit VS. West Geauga High School
DESCRIPTION:League Name: HS Soccer League - Boys Lower Division\nGame Type:
  Regular\nGame Status: Complete\nHome Team: walsh jesuit\nAway Team: West 
 Geauga High School\nHome Score: 1\nAway Score: 1
END:VEVENT
BEGIN:VEVENT
UID:14814276@ezleagues.ezfacility.com
DTSTAMP:20260424T044120Z
CREATED:20260424T044120Z
DTSTART:20230312T010000Z
DTEND:20230312T020000Z
LOCATION:Eastlake
CONTACT:
SUMMARY:Wickliffe VS. West Geauga High School
DESCRIPTION:League Name: HS Soccer League - Boys Lower Division\nGame Type:
  Regular\nGame Status: Complete\nHome Team: Wickliffe\nAway Team: West Gea
 uga High School\nHome Score: 0\nAway Score: 6
END:VEVENT
END:VCALENDAR
