BEGIN:VCALENDAR
VERSION:2.0
PRODID:-//EZFacility.com, Inc.//EZL 2.5.5.28621
BEGIN:VEVENT
UID:14829261@ezleagues.ezfacility.com
DTSTAMP:20260422T042326Z
CREATED:20260422T042326Z
DTSTART:20230108T000000Z
DTEND:20230108T010000Z
LOCATION:Kingdom Field
CONTACT:
SUMMARY:9-11 Black Bolts VS. 9-11 Blue Lions
DESCRIPTION:League Name: F 9-11 A Youth 2- 2022-2023\nGame Type: Regular\nG
 ame Status: Complete\nHome Team: 9-11 Black Bolts\nAway Team: 9-11 Blue Li
 ons\nHome Score: 0\nAway Score: 93
END:VEVENT
BEGIN:VEVENT
UID:14829267@ezleagues.ezfacility.com
DTSTAMP:20260422T042326Z
CREATED:20260422T042326Z
DTSTART:20230114T200000Z
DTEND:20230114T210000Z
LOCATION:Kingdom Field
CONTACT:Regan
SUMMARY:9-11 Schoolcraft Gold VS. 9-11 Blue Lions
DESCRIPTION:League Name: F 9-11 A Youth 2- 2022-2023\nGame Type: Regular\nG
 ame Status: Complete\nHome Team: 9-11 Schoolcraft Gold\nAway Team: 9-11 Bl
 ue Lions\nHome Score: 14\nAway Score: 42
END:VEVENT
BEGIN:VEVENT
UID:14829273@ezleagues.ezfacility.com
DTSTAMP:20260422T042326Z
CREATED:20260422T042326Z
DTSTART:20230121T200000Z
DTEND:20230121T210000Z
LOCATION:Kingdom Field
CONTACT:
SUMMARY:9-11 Wildcats VS. 9-11 Blue Lions
DESCRIPTION:League Name: F 9-11 A Youth 2- 2022-2023\nGame Type: Regular\nG
 ame Status: Complete\nHome Team: 9-11 Wildcats\nAway Team: 9-11 Blue Lions
 \nHome Score: 14\nAway Score: 56
END:VEVENT
BEGIN:VEVENT
UID:14829279@ezleagues.ezfacility.com
DTSTAMP:20260422T042326Z
CREATED:20260422T042326Z
DTSTART:20230128T210000Z
DTEND:20230128T220000Z
LOCATION:Kingdom Field
CONTACT:
SUMMARY:9-11 Blue Lions VS. 9-11 Team Support
DESCRIPTION:League Name: F 9-11 A Youth 2- 2022-2023\nGame Type: Regular\nG
 ame Status: Complete\nHome Team: 9-11 Blue Lions\nAway Team: 9-11 Team Sup
 port\nHome Score: 35\nAway Score: 28
END:VEVENT
BEGIN:VEVENT
UID:14829285@ezleagues.ezfacility.com
DTSTAMP:20260422T042326Z
CREATED:20260422T042326Z
DTSTART:20230205T120000Z
DTEND:20230205T130000Z
LOCATION:Kingdom Field
CONTACT:
SUMMARY:9-11 Kzoo Punishers VS. 9-11 Blue Lions
DESCRIPTION:League Name: F 9-11 A Youth 2- 2022-2023\nGame Type: Regular\nG
 ame Status: Complete\nHome Team: 9-11 Kzoo Punishers\nAway Team: 9-11 Blue
  Lions\nHome Score: 21\nAway Score: 35
END:VEVENT
BEGIN:VEVENT
UID:14829291@ezleagues.ezfacility.com
DTSTAMP:20260422T042326Z
CREATED:20260422T042326Z
DTSTART:20230212T200000Z
DTEND:20230212T210000Z
LOCATION:Kingdom Field
CONTACT:
SUMMARY:9-11 Blue Lions VS. 9-11 Wolverines
DESCRIPTION:League Name: F 9-11 A Youth 2- 2022-2023\nGame Type: Regular\nG
 ame Status: Complete\nHome Team: 9-11 Blue Lions\nAway Team: 9-11 Wolverin
 es\nHome Score: 56\nAway Score: 0
END:VEVENT
BEGIN:VEVENT
UID:14829307@ezleagues.ezfacility.com
DTSTAMP:20260422T042326Z
CREATED:20260422T042326Z
DTSTART:20230212T210000Z
DTEND:20230212T220000Z
LOCATION:Kingdom Field
CONTACT:
SUMMARY:9-11 Blue Lions VS. 9-11 Gull Lake Blue
DESCRIPTION:League Name: F 9-11 A Youth 2- 2022-2023\nGame Type: Regular\nG
 ame Status: Complete\nHome Team: 9-11 Blue Lions\nAway Team: 9-11 Gull Lak
 e Blue\nHome Score: 56\nAway Score: 49
END:VEVENT
BEGIN:VEVENT
UID:14829299@ezleagues.ezfacility.com
DTSTAMP:20260422T042326Z
CREATED:20260422T042326Z
DTSTART:20230218T003000Z
DTEND:20230218T013000Z
LOCATION:Kingdom Field
CONTACT:Stough\, Nassaney
SUMMARY:9-11 Blue Lions VS. 9-11 Green Goblins
DESCRIPTION:League Name: F 9-11 A Youth 2- 2022-2023\nGame Type: Regular\nG
 ame Status: Complete\nHome Team: 9-11 Blue Lions\nAway Team: 9-11 Green Go
 blins\nHome Score: 35\nAway Score: 7
END:VEVENT
END:VCALENDAR
