BEGIN:VCALENDAR
VERSION:2.0
PRODID:-//EZFacility.com, Inc.//EZL 2.5.5.28621
BEGIN:VEVENT
UID:14837298@ezleagues.ezfacility.com
DTSTAMP:20260424T041506Z
CREATED:20260424T041506Z
DTSTART:20230105T023000Z
DTEND:20230105T033000Z
LOCATION:6v6 Field 2
CONTACT:
SUMMARY:Crime Dogs VS. Scrubs
DESCRIPTION:League Name: 2nd Session 2023- Coed Open Wednesday Red Boarded\
 nGame Type: Regular\nGame Status: Complete\nHome Team: Crime Dogs\nAway Te
 am: Scrubs\nHome Score: 7\nAway Score: 9
END:VEVENT
BEGIN:VEVENT
UID:14837302@ezleagues.ezfacility.com
DTSTAMP:20260424T041506Z
CREATED:20260424T041506Z
DTSTART:20230112T033000Z
DTEND:20230112T043000Z
LOCATION:6v6 Field 2
CONTACT:
SUMMARY:MFG  VS. Crime Dogs
DESCRIPTION:League Name: 2nd Session 2023- Coed Open Wednesday Red Boarded\
 nGame Type: Regular\nGame Status: Complete\nHome Team: MFG \nAway Team: Cr
 ime Dogs\nHome Score: 9\nAway Score: 13
END:VEVENT
BEGIN:VEVENT
UID:14837305@ezleagues.ezfacility.com
DTSTAMP:20260424T041506Z
CREATED:20260424T041506Z
DTSTART:20230119T023000Z
DTEND:20230119T033000Z
LOCATION:6v6 Field 2
CONTACT:
SUMMARY:Ninja Ballers VS. Crime Dogs
DESCRIPTION:League Name: 2nd Session 2023- Coed Open Wednesday Red Boarded\
 nGame Type: Regular\nGame Status: Complete\nHome Team: Ninja Ballers\nAway
  Team: Crime Dogs\nHome Score: 11\nAway Score: 10
END:VEVENT
BEGIN:VEVENT
UID:14837324@ezleagues.ezfacility.com
DTSTAMP:20260424T041506Z
CREATED:20260424T041506Z
DTSTART:20230124T020000Z
DTEND:20230124T030000Z
LOCATION:6v6 Field 1
CONTACT:
SUMMARY:Club 402 VS. Crime Dogs
DESCRIPTION:League Name: 2nd Session 2023- Coed Open Wednesday Red Boarded\
 nGame Type: Regular\nGame Status: Complete\nHome Team: Club 402\nAway Team
 : Crime Dogs\nHome Score: 4\nAway Score: 10
END:VEVENT
BEGIN:VEVENT
UID:14837309@ezleagues.ezfacility.com
DTSTAMP:20260424T041506Z
CREATED:20260424T041506Z
DTSTART:20230202T023000Z
DTEND:20230202T033000Z
LOCATION:6v6 Field 2
CONTACT:
SUMMARY:Crime Dogs VS. Club 402
DESCRIPTION:League Name: 2nd Session 2023- Coed Open Wednesday Red Boarded\
 nGame Type: Regular\nGame Status: Complete\nHome Team: Crime Dogs\nAway Te
 am: Club 402\nHome Score: 5\nAway Score: 12
END:VEVENT
BEGIN:VEVENT
UID:14837313@ezleagues.ezfacility.com
DTSTAMP:20260424T041506Z
CREATED:20260424T041506Z
DTSTART:20230209T020000Z
DTEND:20230209T030000Z
LOCATION:6v6 Field 1
CONTACT:
SUMMARY:Scrubs VS. Crime Dogs
DESCRIPTION:League Name: 2nd Session 2023- Coed Open Wednesday Red Boarded\
 nGame Type: Regular\nGame Status: Complete\nHome Team: Scrubs\nAway Team: 
 Crime Dogs\nHome Score: 8\nAway Score: 10
END:VEVENT
BEGIN:VEVENT
UID:14837317@ezleagues.ezfacility.com
DTSTAMP:20260424T041506Z
CREATED:20260424T041506Z
DTSTART:20230216T033000Z
DTEND:20230216T043000Z
LOCATION:6v6 Field 2
CONTACT:
SUMMARY:Crime Dogs VS. MFG 
DESCRIPTION:League Name: 2nd Session 2023- Coed Open Wednesday Red Boarded\
 nGame Type: Regular\nGame Status: Complete\nHome Team: Crime Dogs\nAway Te
 am: MFG \nHome Score: 4\nAway Score: 6
END:VEVENT
BEGIN:VEVENT
UID:14837320@ezleagues.ezfacility.com
DTSTAMP:20260424T041506Z
CREATED:20260424T041506Z
DTSTART:20230223T020000Z
DTEND:20230223T030000Z
LOCATION:6v6 Field 1
CONTACT:
SUMMARY:Crime Dogs VS. Ninja Ballers
DESCRIPTION:League Name: 2nd Session 2023- Coed Open Wednesday Red Boarded\
 nGame Type: Regular\nGame Status: Complete\nHome Team: Crime Dogs\nAway Te
 am: Ninja Ballers\nHome Score: 8\nAway Score: 10
END:VEVENT
END:VCALENDAR
