BEGIN:VCALENDAR
VERSION:2.0
PRODID:-//EZFacility.com, Inc.//EZL 2.5.5.28621
BEGIN:VEVENT
UID:14826171@ezleagues.ezfacility.com
DTSTAMP:20260422T040032Z
CREATED:20260422T040032Z
DTSTART:20230114T035000Z
DTEND:20230114T050000Z
LOCATION:Field 2
CONTACT:
SUMMARY:Shenanigans VS. Stay Humble
DESCRIPTION:League Name: Coed Softball - Winter 2022/2023\nGame Type: Regul
 ar\nGame Status: Complete\nHome Team: Shenanigans\nAway Team: Stay Humble\
 nHome Score: 6\nAway Score: 20
END:VEVENT
BEGIN:VEVENT
UID:14826186@ezleagues.ezfacility.com
DTSTAMP:20260422T040033Z
CREATED:20260422T040033Z
DTSTART:20230121T050000Z
DTEND:20230121T061000Z
LOCATION:Field 3
CONTACT:
SUMMARY:One More Time VS. Shenanigans
DESCRIPTION:League Name: Coed Softball - Winter 2022/2023\nGame Type: Regul
 ar\nGame Status: Complete\nHome Team: One More Time\nAway Team: Shenanigan
 s\nHome Score: 3\nAway Score: 25
END:VEVENT
BEGIN:VEVENT
UID:14826193@ezleagues.ezfacility.com
DTSTAMP:20260422T040033Z
CREATED:20260422T040033Z
DTSTART:20230128T024000Z
DTEND:20230128T035000Z
LOCATION:Field 3
CONTACT:
SUMMARY:Flying High VS. Shenanigans
DESCRIPTION:League Name: Coed Softball - Winter 2022/2023\nGame Type: Regul
 ar\nGame Status: Complete\nHome Team: Flying High\nAway Team: Shenanigans\
 nHome Score: 21\nAway Score: 7
END:VEVENT
BEGIN:VEVENT
UID:14826200@ezleagues.ezfacility.com
DTSTAMP:20260422T040033Z
CREATED:20260422T040033Z
DTSTART:20230204T024000Z
DTEND:20230204T035000Z
LOCATION:Field 2
CONTACT:
SUMMARY:Shenanigans VS. Balls Deep
DESCRIPTION:League Name: Coed Softball - Winter 2022/2023\nGame Type: Regul
 ar\nGame Status: Complete\nHome Team: Shenanigans\nAway Team: Balls Deep\n
 Home Score: 14\nAway Score: 5
END:VEVENT
BEGIN:VEVENT
UID:14826207@ezleagues.ezfacility.com
DTSTAMP:20260422T040033Z
CREATED:20260422T040033Z
DTSTART:20230211T035000Z
DTEND:20230211T050000Z
LOCATION:Field 2
CONTACT:
SUMMARY:Shenanigans VS. F.E.R
DESCRIPTION:League Name: Coed Softball - Winter 2022/2023\nGame Type: Regul
 ar\nGame Status: Complete\nHome Team: Shenanigans\nAway Team: F.E.R\nHome 
 Score: 8\nAway Score: 5
END:VEVENT
BEGIN:VEVENT
UID:14826214@ezleagues.ezfacility.com
DTSTAMP:20260422T040033Z
CREATED:20260422T040033Z
DTSTART:20230218T050000Z
DTEND:20230218T061000Z
LOCATION:Field 3
CONTACT:
SUMMARY:Los Chingones VS. Shenanigans
DESCRIPTION:League Name: Coed Softball - Winter 2022/2023\nGame Type: Regul
 ar\nGame Status: Complete\nHome Team: Los Chingones\nAway Team: Shenanigan
 s\nHome Score: 14\nAway Score: 13
END:VEVENT
BEGIN:VEVENT
UID:14826170@ezleagues.ezfacility.com
DTSTAMP:20260422T040033Z
CREATED:20260422T040033Z
DTSTART:20230318T025000Z
DTEND:20230318T040000Z
LOCATION:Field 3
CONTACT:
SUMMARY:Shenanigans VS. Whiskey Business
DESCRIPTION:League Name: Coed Softball - Winter 2022/2023\nGame Type: Regul
 ar\nGame Status: Complete\nHome Team: Shenanigans\nAway Team: Whiskey Busi
 ness\nHome Score: 22\nAway Score: 3
END:VEVENT
BEGIN:VEVENT
UID:14826228@ezleagues.ezfacility.com
DTSTAMP:20260422T040033Z
CREATED:20260422T040033Z
DTSTART:20230401T025000Z
DTEND:20230401T040000Z
LOCATION:Field 3
CONTACT:
SUMMARY:Innies  Outies VS. Shenanigans
DESCRIPTION:League Name: Coed Softball - Winter 2022/2023\nGame Type: Regul
 ar\nGame Status: Complete\nHome Team: Innies  Outies\nAway Team: Shenaniga
 ns\nHome Score: 20\nAway Score: 16
END:VEVENT
BEGIN:VEVENT
UID:14826221@ezleagues.ezfacility.com
DTSTAMP:20260422T040033Z
CREATED:20260422T040033Z
DTSTART:20230408T014000Z
DTEND:20230408T025000Z
LOCATION:Field 2
CONTACT:
SUMMARY:Sluggers VS. Shenanigans
DESCRIPTION:League Name: Coed Softball - Winter 2022/2023\nGame Type: Regul
 ar\nGame Status: Complete\nHome Team: Sluggers\nAway Team: Shenanigans\nHo
 me Score: 0\nAway Score: 7
END:VEVENT
BEGIN:VEVENT
UID:14826236@ezleagues.ezfacility.com
DTSTAMP:20260422T040033Z
CREATED:20260422T040033Z
DTSTART:20230415T040000Z
DTEND:20230415T051000Z
LOCATION:Field 3
CONTACT:
SUMMARY:Shenanigans VS. Ball Busters
DESCRIPTION:League Name: Coed Softball - Winter 2022/2023\nGame Type: Regul
 ar\nGame Status: Complete\nHome Team: Shenanigans\nAway Team: Ball Busters
 \nHome Score: 8\nAway Score: 26
END:VEVENT
BEGIN:VEVENT
UID:15027985@ezleagues.ezfacility.com
DTSTAMP:20260422T040033Z
CREATED:20260422T040033Z
DTSTART:20230429T025000Z
DTEND:20230429T035000Z
LOCATION:Field 2
CONTACT:
SUMMARY:Stay Humble VS. Shenanigans
DESCRIPTION:League Name: Coed Softball - Winter 2022/2023\nGame Type: Posts
 eason\nGame Status: Complete\nHome Team: Stay Humble\nAway Team: Shenaniga
 ns\nHome Score: 20\nAway Score: 0
END:VEVENT
END:VCALENDAR
