BEGIN:VCALENDAR
VERSION:2.0
PRODID:-//EZFacility.com, Inc.//EZL 2.5.5.28621
BEGIN:VEVENT
UID:14833192@ezleagues.ezfacility.com
DTSTAMP:20260424T044131Z
CREATED:20260424T044131Z
DTSTART:20230115T123000Z
DTEND:20230115T133000Z
LOCATION:Black Field
CONTACT:Stough
SUMMARY:U9B Golden Grizzlies VS. U9B/G Pumitas
DESCRIPTION:League Name: S U9/10 Boys SILVER YOUTH 2 2022/2023\nGame Type: 
 Regular\nGame Status: Complete\nHome Team: U9B Golden Grizzlies\nAway Team
 : U9B/G Pumitas\nHome Score: 2\nAway Score: 9
END:VEVENT
BEGIN:VEVENT
UID:14833197@ezleagues.ezfacility.com
DTSTAMP:20260424T044131Z
CREATED:20260424T044131Z
DTSTART:20230122T193000Z
DTEND:20230122T203000Z
LOCATION:Black Field
CONTACT:
SUMMARY:U9B Golden Grizzlies VS. U9B Portage SC 2015B
DESCRIPTION:League Name: S U9/10 Boys SILVER YOUTH 2 2022/2023\nGame Type: 
 Regular\nGame Status: Complete\nHome Team: U9B Golden Grizzlies\nAway Team
 : U9B Portage SC 2015B\nHome Score: 2\nAway Score: 9
END:VEVENT
BEGIN:VEVENT
UID:14833201@ezleagues.ezfacility.com
DTSTAMP:20260424T044131Z
CREATED:20260424T044131Z
DTSTART:20230128T130000Z
DTEND:20230128T140000Z
LOCATION:Black Field
CONTACT:Stough
SUMMARY:U9B Marshall SC 2014B VS. U9B Golden Grizzlies
DESCRIPTION:League Name: S U9/10 Boys SILVER YOUTH 2 2022/2023\nGame Type: 
 Regular\nGame Status: Complete\nHome Team: U9B Marshall SC 2014B\nAway Tea
 m: U9B Golden Grizzlies\nHome Score: 2\nAway Score: 8
END:VEVENT
BEGIN:VEVENT
UID:14833204@ezleagues.ezfacility.com
DTSTAMP:20260424T044131Z
CREATED:20260424T044131Z
DTSTART:20230204T200000Z
DTEND:20230204T210000Z
LOCATION:Black Field
CONTACT:
SUMMARY:U9B TKO 2014B Red VS. U9B Golden Grizzlies
DESCRIPTION:League Name: S U9/10 Boys SILVER YOUTH 2 2022/2023\nGame Type: 
 Regular\nGame Status: Complete\nHome Team: U9B TKO 2014B Red\nAway Team: U
 9B Golden Grizzlies\nHome Score: 11\nAway Score: 1
END:VEVENT
BEGIN:VEVENT
UID:14833207@ezleagues.ezfacility.com
DTSTAMP:20260424T044131Z
CREATED:20260424T044131Z
DTSTART:20230211T150000Z
DTEND:20230211T160000Z
LOCATION:Black Field
CONTACT:Stough
SUMMARY:U9B Red Arrow Blue VS. U9B Golden Grizzlies
DESCRIPTION:League Name: S U9/10 Boys SILVER YOUTH 2 2022/2023\nGame Type: 
 Regular\nGame Status: Complete\nHome Team: U9B Red Arrow Blue\nAway Team: 
 U9B Golden Grizzlies\nHome Score: 6\nAway Score: 2
END:VEVENT
BEGIN:VEVENT
UID:14833210@ezleagues.ezfacility.com
DTSTAMP:20260424T044131Z
CREATED:20260424T044131Z
DTSTART:20230218T200000Z
DTEND:20230218T210000Z
LOCATION:Black Field
CONTACT:Vargas
SUMMARY:U9B Golden Grizzlies VS. U10B Maroon Mafia
DESCRIPTION:League Name: S U9/10 Boys SILVER YOUTH 2 2022/2023\nGame Type: 
 Regular\nGame Status: Complete\nHome Team: U9B Golden Grizzlies\nAway Team
 : U10B Maroon Mafia\nHome Score: 3\nAway Score: 9
END:VEVENT
BEGIN:VEVENT
UID:14833215@ezleagues.ezfacility.com
DTSTAMP:20260424T044131Z
CREATED:20260424T044131Z
DTSTART:20230225T200000Z
DTEND:20230225T210000Z
LOCATION:Black Field
CONTACT:
SUMMARY:U9B Golden Grizzlies VS. U10B Yellow Bananas 
DESCRIPTION:League Name: S U9/10 Boys SILVER YOUTH 2 2022/2023\nGame Type: 
 Regular\nGame Status: Complete\nHome Team: U9B Golden Grizzlies\nAway Team
 : U10B Yellow Bananas \nHome Score: 2\nAway Score: 9
END:VEVENT
END:VCALENDAR
