BEGIN:VCALENDAR
VERSION:2.0
PRODID:-//EZFacility.com, Inc.//EZL 2.5.5.28621
BEGIN:VEVENT
UID:14837177@ezleagues.ezfacility.com
DTSTAMP:20260423T092146Z
CREATED:20260423T092146Z
DTSTART:20230107T003000Z
DTEND:20230107T013000Z
LOCATION:6v6 Field 2
CONTACT:
SUMMARY:Too Easy VS. Snot Rockets 
DESCRIPTION:League Name: 2nd Session 2023- O30 Coed Boarded\nGame Type: Reg
 ular\nGame Status: Complete\nHome Team: Too Easy\nAway Team: Snot Rockets 
 \nHome Score: 8\nAway Score: 7
END:VEVENT
BEGIN:VEVENT
UID:14837140@ezleagues.ezfacility.com
DTSTAMP:20260423T092146Z
CREATED:20260423T092146Z
DTSTART:20230114T010000Z
DTEND:20230114T020000Z
LOCATION:6v6 Field 1
CONTACT:
SUMMARY:From Behind VS. Snot Rockets 
DESCRIPTION:League Name: 2nd Session 2023- O30 Coed Boarded\nGame Type: Reg
 ular\nGame Status: Complete\nHome Team: From Behind\nAway Team: Snot Rocke
 ts \nHome Score: 7\nAway Score: 11
END:VEVENT
BEGIN:VEVENT
UID:14837144@ezleagues.ezfacility.com
DTSTAMP:20260423T092146Z
CREATED:20260423T092146Z
DTSTART:20230121T020000Z
DTEND:20230121T030000Z
LOCATION:6v6 Field 1
CONTACT:
SUMMARY:Easily Distracted VS. Snot Rockets 
DESCRIPTION:League Name: 2nd Session 2023- O30 Coed Boarded\nGame Type: Reg
 ular\nGame Status: Complete\nHome Team: Easily Distracted\nAway Team: Snot
  Rockets \nHome Score: 7\nAway Score: 11
END:VEVENT
BEGIN:VEVENT
UID:14851276@ezleagues.ezfacility.com
DTSTAMP:20260423T092146Z
CREATED:20260423T092146Z
DTSTART:20230128T020000Z
DTEND:20230128T030000Z
LOCATION:6v6 Field 1
CONTACT:
SUMMARY:Kane You Kick It VS. Snot Rockets 
DESCRIPTION:League Name: 2nd Session 2023- O30 Coed Boarded\nGame Type: Reg
 ular\nGame Status: Complete\nHome Team: Kane You Kick It\nAway Team: Snot 
 Rockets \nHome Score: 4\nAway Score: 11
END:VEVENT
BEGIN:VEVENT
UID:14837154@ezleagues.ezfacility.com
DTSTAMP:20260423T092146Z
CREATED:20260423T092146Z
DTSTART:20230204T010000Z
DTEND:20230204T020000Z
LOCATION:6v6 Field 1
CONTACT:
SUMMARY:Snot Rockets  VS. Twisted Ankles
DESCRIPTION:League Name: 2nd Session 2023- O30 Coed Boarded\nGame Type: Reg
 ular\nGame Status: Complete\nHome Team: Snot Rockets \nAway Team: Twisted 
 Ankles\nHome Score: 9\nAway Score: 2
END:VEVENT
BEGIN:VEVENT
UID:14837160@ezleagues.ezfacility.com
DTSTAMP:20260423T092146Z
CREATED:20260423T092146Z
DTSTART:20230211T023000Z
DTEND:20230211T033000Z
LOCATION:6v6 Field 2
CONTACT:
SUMMARY:Snot Rockets  VS. Lester Holt
DESCRIPTION:League Name: 2nd Session 2023- O30 Coed Boarded\nGame Type: Reg
 ular\nGame Status: Complete\nHome Team: Snot Rockets \nAway Team: Lester H
 olt\nHome Score: 9\nAway Score: 6
END:VEVENT
BEGIN:VEVENT
UID:14837166@ezleagues.ezfacility.com
DTSTAMP:20260423T092146Z
CREATED:20260423T092146Z
DTSTART:20230218T013000Z
DTEND:20230218T023000Z
LOCATION:6v6 Field 2
CONTACT:
SUMMARY:Snot Rockets  VS. CO Jones
DESCRIPTION:League Name: 2nd Session 2023- O30 Coed Boarded\nGame Type: Reg
 ular\nGame Status: Complete\nHome Team: Snot Rockets \nAway Team: CO Jones
 \nHome Score: 10\nAway Score: 5
END:VEVENT
BEGIN:VEVENT
UID:14837172@ezleagues.ezfacility.com
DTSTAMP:20260423T092146Z
CREATED:20260423T092146Z
DTSTART:20230225T020000Z
DTEND:20230225T030000Z
LOCATION:6v6 Field 1
CONTACT:
SUMMARY:Snot Rockets  VS. House team- O30 Coed
DESCRIPTION:League Name: 2nd Session 2023- O30 Coed Boarded\nGame Type: Reg
 ular\nGame Status: Complete\nHome Team: Snot Rockets \nAway Team: House te
 am- O30 Coed\nHome Score: 16\nAway Score: 9
END:VEVENT
END:VCALENDAR
