BEGIN:VCALENDAR
VERSION:2.0
PRODID:-//EZFacility.com, Inc.//EZL 2.5.5.28621
BEGIN:VEVENT
UID:14848761@ezleagues.ezfacility.com
DTSTAMP:20260424T043151Z
CREATED:20260424T043151Z
DTSTART:20221227T230000Z
DTEND:20221228T000000Z
LOCATION:Field #1
CONTACT:
SUMMARY:WBYAA (Botelho) VS. BW
DESCRIPTION:League Name: 12U Boys B, Session 2, 2022/2023\nGame Type: Regul
 ar\nGame Status: Complete\nHome Team: WBYAA (Botelho)\nAway Team: BW\nHome
  Score: 2\nAway Score: 5
END:VEVENT
BEGIN:VEVENT
UID:14848865@ezleagues.ezfacility.com
DTSTAMP:20260424T043151Z
CREATED:20260424T043151Z
DTSTART:20230104T000000Z
DTEND:20230104T010000Z
LOCATION:Field #2
CONTACT:
SUMMARY:Raynham (Pilling) VS. WBYAA (Botelho)
DESCRIPTION:League Name: 12U Boys B, Session 2, 2022/2023\nGame Type: Regul
 ar\nGame Status: Complete\nHome Team: Raynham (Pilling)\nAway Team: WBYAA 
 (Botelho)\nHome Score: 4\nAway Score: 2
END:VEVENT
BEGIN:VEVENT
UID:14845688@ezleagues.ezfacility.com
DTSTAMP:20260424T043151Z
CREATED:20260424T043151Z
DTSTART:20230111T000000Z
DTEND:20230111T010000Z
LOCATION:Field #1
CONTACT:
SUMMARY:Middleboro Warriors (Frawley) VS. WBYAA (Botelho)
DESCRIPTION:League Name: 12U Boys B, Session 2, 2022/2023\nGame Type: Regul
 ar\nGame Status: Complete\nHome Team: Middleboro Warriors (Frawley)\nAway 
 Team: WBYAA (Botelho)\nHome Score: 2\nAway Score: 3
END:VEVENT
BEGIN:VEVENT
UID:14848920@ezleagues.ezfacility.com
DTSTAMP:20260424T043151Z
CREATED:20260424T043151Z
DTSTART:20230117T220000Z
DTEND:20230117T230000Z
LOCATION:Field #1
CONTACT:
SUMMARY:WBYAA (Vaughan) VS. WBYAA (Botelho)
DESCRIPTION:League Name: 12U Boys B, Session 2, 2022/2023\nGame Type: Regul
 ar\nGame Status: Complete\nHome Team: WBYAA (Vaughan)\nAway Team: WBYAA (B
 otelho)\nHome Score: 4\nAway Score: 4
END:VEVENT
BEGIN:VEVENT
UID:14848924@ezleagues.ezfacility.com
DTSTAMP:20260424T043151Z
CREATED:20260424T043151Z
DTSTART:20230124T230000Z
DTEND:20230125T000000Z
LOCATION:Field #2
CONTACT:
SUMMARY:Carver (LaBelle) VS. WBYAA (Botelho)
DESCRIPTION:League Name: 12U Boys B, Session 2, 2022/2023\nGame Type: Regul
 ar\nGame Status: Complete\nHome Team: Carver (LaBelle)\nAway Team: WBYAA (
 Botelho)\nHome Score: 0\nAway Score: 5
END:VEVENT
BEGIN:VEVENT
UID:14848927@ezleagues.ezfacility.com
DTSTAMP:20260424T043151Z
CREATED:20260424T043151Z
DTSTART:20230201T000000Z
DTEND:20230201T010000Z
LOCATION:Field #2
CONTACT:
SUMMARY:WBYAA (Botelho) VS. Stoughton Knights (Cox)
DESCRIPTION:League Name: 12U Boys B, Session 2, 2022/2023\nGame Type: Regul
 ar\nGame Status: Complete\nHome Team: WBYAA (Botelho)\nAway Team: Stoughto
 n Knights (Cox)\nHome Score: 2\nAway Score: 3
END:VEVENT
BEGIN:VEVENT
UID:14848928@ezleagues.ezfacility.com
DTSTAMP:20260424T043151Z
CREATED:20260424T043151Z
DTSTART:20230207T220000Z
DTEND:20230207T230000Z
LOCATION:Field #1
CONTACT:
SUMMARY:Raynham (Pilling) VS. WBYAA (Botelho)
DESCRIPTION:League Name: 12U Boys B, Session 2, 2022/2023\nGame Type: Regul
 ar\nGame Status: Complete\nHome Team: Raynham (Pilling)\nAway Team: WBYAA 
 (Botelho)\nHome Score: 3\nAway Score: 3
END:VEVENT
END:VCALENDAR
