BEGIN:VCALENDAR
VERSION:2.0
PRODID:-//EZFacility.com, Inc.//EZL 2.5.5.28621
BEGIN:VEVENT
UID:14851272@ezleagues.ezfacility.com
DTSTAMP:20260424T041431Z
CREATED:20260424T041431Z
DTSTART:20230114T030000Z
DTEND:20230114T040000Z
LOCATION:6v6 Field 1
CONTACT:
SUMMARY:Kane You Kick It VS. Blood\, Sweat\, and Beers
DESCRIPTION:League Name: 2nd Session 2023- O30 Coed Boarded\nGame Type: Reg
 ular\nGame Status: Complete\nHome Team: Kane You Kick It\nAway Team: Blood
 , Sweat, and Beers\nHome Score: 8\nAway Score: 5
END:VEVENT
BEGIN:VEVENT
UID:14851273@ezleagues.ezfacility.com
DTSTAMP:20260424T041431Z
CREATED:20260424T041431Z
DTSTART:20230121T013000Z
DTEND:20230121T023000Z
LOCATION:6v6 Field 2
CONTACT:
SUMMARY:Blood\, Sweat\, and Beers VS. Lester Holt
DESCRIPTION:League Name: 2nd Session 2023- O30 Coed Boarded\nGame Type: Reg
 ular\nGame Status: Complete\nHome Team: Blood, Sweat, and Beers\nAway Team
 : Lester Holt\nHome Score: 14\nAway Score: 7
END:VEVENT
BEGIN:VEVENT
UID:14851277@ezleagues.ezfacility.com
DTSTAMP:20260424T041431Z
CREATED:20260424T041431Z
DTSTART:20230128T003000Z
DTEND:20230128T013000Z
LOCATION:6v6 Field 2
CONTACT:
SUMMARY:Blood\, Sweat\, and Beers VS. Are We Done Yet
DESCRIPTION:League Name: 2nd Session 2023- O30 Coed Boarded\nGame Type: Reg
 ular\nGame Status: Complete\nHome Team: Blood, Sweat, and Beers\nAway Team
 : Are We Done Yet\nHome Score: 12\nAway Score: 5
END:VEVENT
BEGIN:VEVENT
UID:14851278@ezleagues.ezfacility.com
DTSTAMP:20260424T041431Z
CREATED:20260424T041431Z
DTSTART:20230204T023000Z
DTEND:20230204T033000Z
LOCATION:6v6 Field 2
CONTACT:
SUMMARY:Blood\, Sweat\, and Beers VS. CO Jones
DESCRIPTION:League Name: 2nd Session 2023- O30 Coed Boarded\nGame Type: Reg
 ular\nGame Status: Complete\nHome Team: Blood, Sweat, and Beers\nAway Team
 : CO Jones\nHome Score: 11\nAway Score: 3
END:VEVENT
BEGIN:VEVENT
UID:14851281@ezleagues.ezfacility.com
DTSTAMP:20260424T041431Z
CREATED:20260424T041431Z
DTSTART:20230211T010000Z
DTEND:20230211T020000Z
LOCATION:6v6 Field 1
CONTACT:
SUMMARY:Blood\, Sweat\, and Beers VS. The Offsiders
DESCRIPTION:League Name: 2nd Session 2023- O30 Coed Boarded\nGame Type: Reg
 ular\nGame Status: Complete\nHome Team: Blood, Sweat, and Beers\nAway Team
 : The Offsiders\nHome Score: 5\nAway Score: 2
END:VEVENT
BEGIN:VEVENT
UID:14851283@ezleagues.ezfacility.com
DTSTAMP:20260424T041431Z
CREATED:20260424T041431Z
DTSTART:20230218T023000Z
DTEND:20230218T033000Z
LOCATION:6v6 Field 2
CONTACT:
SUMMARY:Blood\, Sweat\, and Beers VS. House team- O30 Coed
DESCRIPTION:League Name: 2nd Session 2023- O30 Coed Boarded\nGame Type: Reg
 ular\nGame Status: Complete\nHome Team: Blood, Sweat, and Beers\nAway Team
 : House team- O30 Coed\nHome Score: 6\nAway Score: 4
END:VEVENT
BEGIN:VEVENT
UID:14837171@ezleagues.ezfacility.com
DTSTAMP:20260424T041431Z
CREATED:20260424T041431Z
DTSTART:20230225T013000Z
DTEND:20230225T023000Z
LOCATION:6v6 Field 2
CONTACT:
SUMMARY:Blood\, Sweat\, and Beers VS. Easily Distracted
DESCRIPTION:League Name: 2nd Session 2023- O30 Coed Boarded\nGame Type: Reg
 ular\nGame Status: Complete\nHome Team: Blood, Sweat, and Beers\nAway Team
 : Easily Distracted\nHome Score: 10\nAway Score: 12
END:VEVENT
BEGIN:VEVENT
UID:14851287@ezleagues.ezfacility.com
DTSTAMP:20260424T041431Z
CREATED:20260424T041431Z
DTSTART:20230303T180000Z
DTEND:20230303T190000Z
LOCATION:6v6 Field 2
CONTACT:
SUMMARY:Blood\, Sweat\, and Beers VS. Kane You Kick It
DESCRIPTION:League Name: 2nd Session 2023- O30 Coed Boarded\nGame Type: Reg
 ular\nGame Status: Rescheduled\nHome Team: Blood, Sweat, and Beers\nAway T
 eam: Kane You Kick It\n
END:VEVENT
BEGIN:VEVENT
UID:14956826@ezleagues.ezfacility.com
DTSTAMP:20260424T041431Z
CREATED:20260424T041431Z
DTSTART:20230311T013000Z
DTEND:20230311T023000Z
LOCATION:6v6 Field 2
CONTACT:
SUMMARY:Blood\, Sweat\, and Beers VS. Kane You Kick It
DESCRIPTION:League Name: 2nd Session 2023- O30 Coed Boarded\nGame Type: Reg
 ular\nGame Status: Complete\nHome Team: Blood, Sweat, and Beers\nAway Team
 : Kane You Kick It\nHome Score: 2\nAway Score: 9
END:VEVENT
END:VCALENDAR
