BEGIN:VCALENDAR
VERSION:2.0
PRODID:-//EZFacility.com, Inc.//EZL 2.5.5.28621
BEGIN:VEVENT
UID:14849500@ezleagues.ezfacility.com
DTSTAMP:20260419T213123Z
CREATED:20260419T213123Z
DTSTART:20230115T170000Z
DTEND:20230115T183000Z
LOCATION:Q.E.P. Court #2  -2302 Bridge 
CONTACT:
SUMMARY:Team ORANGE  VS. Team GOLD 
DESCRIPTION:League Name: 2023 WINTER SKILL LEAGUE-Freshman Boys  (ages 7-9)
 \nGame Type: Regular\nGame Status: Complete\nHome Team: Team ORANGE \nAway
  Team: Team GOLD \nHome Score: 14\nAway Score: 14
END:VEVENT
BEGIN:VEVENT
UID:14849503@ezleagues.ezfacility.com
DTSTAMP:20260419T213123Z
CREATED:20260419T213123Z
DTSTART:20230122T170000Z
DTEND:20230122T183000Z
LOCATION:Q.E.P  .-   2302 Bridge Rd.
CONTACT:
SUMMARY:Team GOLD  VS. Team RED 
DESCRIPTION:League Name: 2023 WINTER SKILL LEAGUE-Freshman Boys  (ages 7-9)
 \nGame Type: Regular\nGame Status: Complete\nHome Team: Team GOLD \nAway T
 eam: Team RED \nHome Score: 24\nAway Score: 30
END:VEVENT
BEGIN:VEVENT
UID:14849505@ezleagues.ezfacility.com
DTSTAMP:20260419T213123Z
CREATED:20260419T213123Z
DTSTART:20230129T170000Z
DTEND:20230129T183000Z
LOCATION:Q.E.P  .-   2302 Bridge Rd.
CONTACT:
SUMMARY:Team GOLD  VS. Team BLUE 
DESCRIPTION:League Name: 2023 WINTER SKILL LEAGUE-Freshman Boys  (ages 7-9)
 \nGame Type: Regular\nGame Status: Complete\nHome Team: Team GOLD \nAway T
 eam: Team BLUE \nHome Score: 28\nAway Score: 28
END:VEVENT
BEGIN:VEVENT
UID:14849507@ezleagues.ezfacility.com
DTSTAMP:20260419T213123Z
CREATED:20260419T213123Z
DTSTART:20230205T183000Z
DTEND:20230205T200000Z
LOCATION:Q.E.P  .-   2302 Bridge Rd.
CONTACT:
SUMMARY:Team BLACK  VS. Team GOLD 
DESCRIPTION:League Name: 2023 WINTER SKILL LEAGUE-Freshman Boys  (ages 7-9)
 \nGame Type: Regular\nGame Status: Complete\nHome Team: Team BLACK \nAway 
 Team: Team GOLD \nHome Score: 24\nAway Score: 24
END:VEVENT
BEGIN:VEVENT
UID:14849511@ezleagues.ezfacility.com
DTSTAMP:20260419T213123Z
CREATED:20260419T213123Z
DTSTART:20230212T170000Z
DTEND:20230212T183000Z
LOCATION:Q.E.P. Court #2  -2302 Bridge 
CONTACT:
SUMMARY:Team PURPLE  VS. Team GOLD 
DESCRIPTION:League Name: 2023 WINTER SKILL LEAGUE-Freshman Boys  (ages 7-9)
 \nGame Type: Regular\nGame Status: Complete\nHome Team: Team PURPLE \nAway
  Team: Team GOLD \nHome Score: 26\nAway Score: 26
END:VEVENT
BEGIN:VEVENT
UID:14849515@ezleagues.ezfacility.com
DTSTAMP:20260419T213123Z
CREATED:20260419T213123Z
DTSTART:20230219T170000Z
DTEND:20230219T183000Z
LOCATION:Q.E.P  .-   2302 Bridge Rd.
CONTACT:
SUMMARY:Team GOLD  VS. Team ORANGE 
DESCRIPTION:League Name: 2023 WINTER SKILL LEAGUE-Freshman Boys  (ages 7-9)
 \nGame Type: Regular\nGame Status: Complete\nHome Team: Team GOLD \nAway T
 eam: Team ORANGE \nHome Score: 10\nAway Score: 22
END:VEVENT
BEGIN:VEVENT
UID:14849518@ezleagues.ezfacility.com
DTSTAMP:20260419T213123Z
CREATED:20260419T213123Z
DTSTART:20230226T170000Z
DTEND:20230226T183000Z
LOCATION:Q.E.P  .-   2302 Bridge Rd.
CONTACT:
SUMMARY:Team RED  VS. Team GOLD 
DESCRIPTION:League Name: 2023 WINTER SKILL LEAGUE-Freshman Boys  (ages 7-9)
 \nGame Type: Regular\nGame Status: Complete\nHome Team: Team RED \nAway Te
 am: Team GOLD \nHome Score: 20\nAway Score: 18
END:VEVENT
BEGIN:VEVENT
UID:14849520@ezleagues.ezfacility.com
DTSTAMP:20260419T213123Z
CREATED:20260419T213123Z
DTSTART:20230305T183000Z
DTEND:20230305T200000Z
LOCATION:Q.E.P  .-   2302 Bridge Rd.
CONTACT:
SUMMARY:Team BLUE  VS. Team GOLD 
DESCRIPTION:League Name: 2023 WINTER SKILL LEAGUE-Freshman Boys  (ages 7-9)
 \nGame Type: Regular\nGame Status: Complete\nHome Team: Team BLUE \nAway T
 eam: Team GOLD \nHome Score: 46\nAway Score: 32
END:VEVENT
BEGIN:VEVENT
UID:14849522@ezleagues.ezfacility.com
DTSTAMP:20260419T213123Z
CREATED:20260419T213123Z
DTSTART:20230312T173000Z
DTEND:20230312T190000Z
LOCATION:Q.E.P  .-   2302 Bridge Rd.
CONTACT:
SUMMARY:Team GOLD  VS. Team BLACK 
DESCRIPTION:League Name: 2023 WINTER SKILL LEAGUE-Freshman Boys  (ages 7-9)
 \nGame Type: Regular\nGame Status: Complete\nHome Team: Team GOLD \nAway T
 eam: Team BLACK \nHome Score: 42\nAway Score: 26
END:VEVENT
BEGIN:VEVENT
UID:14849526@ezleagues.ezfacility.com
DTSTAMP:20260419T213123Z
CREATED:20260419T213123Z
DTSTART:20230319T160000Z
DTEND:20230319T173000Z
LOCATION:Q.E.P. Court #2  -2302 Bridge 
CONTACT:
SUMMARY:Team GOLD  VS. Team PURPLE 
DESCRIPTION:League Name: 2023 WINTER SKILL LEAGUE-Freshman Boys  (ages 7-9)
 \nGame Type: Regular\nGame Status: Complete\nHome Team: Team GOLD \nAway T
 eam: Team PURPLE \nHome Score: 29\nAway Score: 29
END:VEVENT
BEGIN:VEVENT
UID:14849530@ezleagues.ezfacility.com
DTSTAMP:20260419T213123Z
CREATED:20260419T213123Z
DTSTART:20230326T160000Z
DTEND:20230326T173000Z
LOCATION:Q.E.P  .-   2302 Bridge Rd.
CONTACT:
SUMMARY:Team GOLD  VS. Team ORANGE 
DESCRIPTION:League Name: 2023 WINTER SKILL LEAGUE-Freshman Boys  (ages 7-9)
 \nGame Type: Regular\nGame Status: Complete\nHome Team: Team GOLD \nAway T
 eam: Team ORANGE \nHome Score: 18\nAway Score: 20
END:VEVENT
BEGIN:VEVENT
UID:14849533@ezleagues.ezfacility.com
DTSTAMP:20260419T213123Z
CREATED:20260419T213123Z
DTSTART:20230402T160000Z
DTEND:20230402T173000Z
LOCATION:Q.E.P  .-   2302 Bridge Rd.
CONTACT:
SUMMARY:Team GOLD  VS. Team BLACK 
DESCRIPTION:League Name: 2023 WINTER SKILL LEAGUE-Freshman Boys  (ages 7-9)
 \nGame Type: Postseason\nGame Status: Pending\nHome Team: Team GOLD \nAway
  Team: Team BLACK \n
END:VEVENT
END:VCALENDAR
