BEGIN:VCALENDAR
VERSION:2.0
PRODID:-//EZFacility.com, Inc.//EZL 2.5.5.28621
BEGIN:VEVENT
UID:14862319@ezleagues.ezfacility.com
DTSTAMP:20260426T034846Z
CREATED:20260426T034846Z
DTSTART:20230115T200000Z
DTEND:20230115T213000Z
LOCATION:King's-528 Burnhamthorpe Rd. W
CONTACT:
SUMMARY:Team #12 Black VS. Team #2 Red
DESCRIPTION:League Name: 2023 WINTER LEAGUE-Kings Christian Collegiate\nGam
 e Type: Regular\nGame Status: Complete\nHome Team: Team #12 Black\nAway Te
 am: Team #2 Red\nHome Score: 23\nAway Score: 40
END:VEVENT
BEGIN:VEVENT
UID:14862325@ezleagues.ezfacility.com
DTSTAMP:20260426T034846Z
CREATED:20260426T034846Z
DTSTART:20230122T183000Z
DTEND:20230122T200000Z
LOCATION:Kings- 528 Burnhamthorpe Rd. W
CONTACT:
SUMMARY:Team #11 Grey VS. Team #2 Red
DESCRIPTION:League Name: 2023 WINTER LEAGUE-Kings Christian Collegiate\nGam
 e Type: Regular\nGame Status: Complete\nHome Team: Team #11 Grey\nAway Tea
 m: Team #2 Red\nHome Score: 30\nAway Score: 50
END:VEVENT
BEGIN:VEVENT
UID:14862331@ezleagues.ezfacility.com
DTSTAMP:20260426T034846Z
CREATED:20260426T034846Z
DTSTART:20230129T213000Z
DTEND:20230129T230000Z
LOCATION:King's-528 Burnhamthorpe Rd. W
CONTACT:
SUMMARY:Team #1 Light Green VS. Team #2 Red
DESCRIPTION:League Name: 2023 WINTER LEAGUE-Kings Christian Collegiate\nGam
 e Type: Regular\nGame Status: Complete\nHome Team: Team #1 Light Green\nAw
 ay Team: Team #2 Red\nHome Score: 42\nAway Score: 27
END:VEVENT
BEGIN:VEVENT
UID:14862339@ezleagues.ezfacility.com
DTSTAMP:20260426T034846Z
CREATED:20260426T034846Z
DTSTART:20230205T170000Z
DTEND:20230205T183000Z
LOCATION:Kings- 528 Burnhamthorpe Rd. W
CONTACT:
SUMMARY:Team #2 Red VS. Team #6 Gold
DESCRIPTION:League Name: 2023 WINTER LEAGUE-Kings Christian Collegiate\nGam
 e Type: Regular\nGame Status: Complete\nHome Team: Team #2 Red\nAway Team:
  Team #6 Gold\nHome Score: 73\nAway Score: 28
END:VEVENT
BEGIN:VEVENT
UID:14862347@ezleagues.ezfacility.com
DTSTAMP:20260426T034846Z
CREATED:20260426T034846Z
DTSTART:20230212T170000Z
DTEND:20230212T183000Z
LOCATION:King's-528 Burnhamthorpe Rd. W
CONTACT:
SUMMARY:Team #2 Red VS. Team #9 Grey
DESCRIPTION:League Name: 2023 WINTER LEAGUE-Kings Christian Collegiate\nGam
 e Type: Regular\nGame Status: Complete\nHome Team: Team #2 Red\nAway Team:
  Team #9 Grey\nHome Score: 49\nAway Score: 81
END:VEVENT
BEGIN:VEVENT
UID:14862355@ezleagues.ezfacility.com
DTSTAMP:20260426T034846Z
CREATED:20260426T034846Z
DTSTART:20230219T170000Z
DTEND:20230219T183000Z
LOCATION:King's-528 Burnhamthorpe Rd. W
CONTACT:
SUMMARY:Team #2 Red VS. Team #5 Green
DESCRIPTION:League Name: 2023 WINTER LEAGUE-Kings Christian Collegiate\nGam
 e Type: Regular\nGame Status: Complete\nHome Team: Team #2 Red\nAway Team:
  Team #5 Green\nHome Score: 16\nAway Score: 53
END:VEVENT
BEGIN:VEVENT
UID:14862363@ezleagues.ezfacility.com
DTSTAMP:20260426T034846Z
CREATED:20260426T034846Z
DTSTART:20230226T183000Z
DTEND:20230226T200000Z
LOCATION:Kings- 528 Burnhamthorpe Rd. W
CONTACT:
SUMMARY:Team #2 Red VS. Team #14 White
DESCRIPTION:League Name: 2023 WINTER LEAGUE-Kings Christian Collegiate\nGam
 e Type: Regular\nGame Status: Complete\nHome Team: Team #2 Red\nAway Team:
  Team #14 White\nHome Score: 24\nAway Score: 36
END:VEVENT
BEGIN:VEVENT
UID:14862371@ezleagues.ezfacility.com
DTSTAMP:20260426T034846Z
CREATED:20260426T034846Z
DTSTART:20230305T200000Z
DTEND:20230305T213000Z
LOCATION:King's-528 Burnhamthorpe Rd. W
CONTACT:
SUMMARY:Team #2 Red VS. Team #10 Purple
DESCRIPTION:League Name: 2023 WINTER LEAGUE-Kings Christian Collegiate\nGam
 e Type: Regular\nGame Status: Complete\nHome Team: Team #2 Red\nAway Team:
  Team #10 Purple\nHome Score: 38\nAway Score: 39
END:VEVENT
BEGIN:VEVENT
UID:14862379@ezleagues.ezfacility.com
DTSTAMP:20260426T034846Z
CREATED:20260426T034846Z
DTSTART:20230312T190000Z
DTEND:20230312T203000Z
LOCATION:King's-528 Burnhamthorpe Rd. W
CONTACT:
SUMMARY:Team #2 Red VS. Team #13 Blue
DESCRIPTION:League Name: 2023 WINTER LEAGUE-Kings Christian Collegiate\nGam
 e Type: Regular\nGame Status: Complete\nHome Team: Team #2 Red\nAway Team:
  Team #13 Blue\nHome Score: 35\nAway Score: 64
END:VEVENT
BEGIN:VEVENT
UID:14862386@ezleagues.ezfacility.com
DTSTAMP:20260426T034846Z
CREATED:20260426T034846Z
DTSTART:20230319T190000Z
DTEND:20230319T203000Z
LOCATION:King's-528 Burnhamthorpe Rd. W
CONTACT:
SUMMARY:Team #4 Maroon VS. Team #2 Red
DESCRIPTION:League Name: 2023 WINTER LEAGUE-Kings Christian Collegiate\nGam
 e Type: Regular\nGame Status: Complete\nHome Team: Team #4 Maroon\nAway Te
 am: Team #2 Red\nHome Score: 50\nAway Score: 32
END:VEVENT
BEGIN:VEVENT
UID:14862392@ezleagues.ezfacility.com
DTSTAMP:20260426T034846Z
CREATED:20260426T034846Z
DTSTART:20230326T160000Z
DTEND:20230326T173000Z
LOCATION:King's-528 Burnhamthorpe Rd. W
CONTACT:
SUMMARY:Team #8 Orange VS. Team #2 Red
DESCRIPTION:League Name: 2023 WINTER LEAGUE-Kings Christian Collegiate\nGam
 e Type: Regular\nGame Status: Complete\nHome Team: Team #8 Orange\nAway Te
 am: Team #2 Red\nHome Score: 63\nAway Score: 43
END:VEVENT
BEGIN:VEVENT
UID:14862398@ezleagues.ezfacility.com
DTSTAMP:20260426T034846Z
CREATED:20260426T034846Z
DTSTART:20230402T173000Z
DTEND:20230402T190000Z
LOCATION:King's-528 Burnhamthorpe Rd. W
CONTACT:
SUMMARY:Team #1 Light Green VS. Team #2 Red
DESCRIPTION:League Name: 2023 WINTER LEAGUE-Kings Christian Collegiate\nGam
 e Type: Postseason\nGame Status: Pending\nHome Team: Team #1 Light Green\n
 Away Team: Team #2 Red\n
END:VEVENT
END:VCALENDAR
