BEGIN:VCALENDAR
VERSION:2.0
PRODID:-//EZFacility.com, Inc.//EZL 2.5.5.28621
BEGIN:VEVENT
UID:14853761@ezleagues.ezfacility.com
DTSTAMP:20260426T035129Z
CREATED:20260426T035129Z
DTSTART:20230121T190000Z
DTEND:20230121T200000Z
LOCATION:Richmond Back Field
CONTACT:
SUMMARY:Shaker BU9- Black VS. Chagrin Falls 2014/15
DESCRIPTION:League Name: U9 Boys (2014) - Upper\nGame Type: Regular\nGame S
 tatus: Complete\nHome Team: Shaker BU9- Black\nAway Team: Chagrin Falls 20
 14/15\nHome Score: 5\nAway Score: 5
END:VEVENT
BEGIN:VEVENT
UID:14853768@ezleagues.ezfacility.com
DTSTAMP:20260426T035129Z
CREATED:20260426T035129Z
DTSTART:20230205T175000Z
DTEND:20230205T184000Z
LOCATION:Northfield Half (A & B)
CONTACT:
SUMMARY:Chagrin Falls 2014/15 VS. GFSC 2014/2015B
DESCRIPTION:League Name: U9 Boys (2014) - Upper\nGame Type: Regular\nGame S
 tatus: Complete\nHome Team: Chagrin Falls 2014/15\nAway Team: GFSC 2014/20
 15B\nHome Score: 5\nAway Score: 1
END:VEVENT
BEGIN:VEVENT
UID:14853772@ezleagues.ezfacility.com
DTSTAMP:20260426T035129Z
CREATED:20260426T035129Z
DTSTART:20230218T230000Z
DTEND:20230219T000000Z
LOCATION:Richmond Back Field
CONTACT:
SUMMARY:Chagrin Falls 2014/15 VS. CFSC- 14B Volt East
DESCRIPTION:League Name: U9 Boys (2014) - Upper\nGame Type: Regular\nGame S
 tatus: Complete\nHome Team: Chagrin Falls 2014/15\nAway Team: CFSC- 14B Vo
 lt East\nHome Score: 2\nAway Score: 6
END:VEVENT
BEGIN:VEVENT
UID:14853776@ezleagues.ezfacility.com
DTSTAMP:20260426T035129Z
CREATED:20260426T035129Z
DTSTART:20230225T123000Z
DTEND:20230225T133000Z
LOCATION:Northfield Half (C & D)
CONTACT:
SUMMARY:Chagrin Falls 2014/15 VS. Shaker BU9- Black
DESCRIPTION:League Name: U9 Boys (2014) - Upper\nGame Type: Regular\nGame S
 tatus: Complete\nHome Team: Chagrin Falls 2014/15\nAway Team: Shaker BU9- 
 Black\nHome Score: 3\nAway Score: 2
END:VEVENT
BEGIN:VEVENT
UID:14853780@ezleagues.ezfacility.com
DTSTAMP:20260426T035129Z
CREATED:20260426T035129Z
DTSTART:20230304T180000Z
DTEND:20230304T190000Z
LOCATION:Northfield Half (A & B)
CONTACT:
SUMMARY:Chagrin Falls 2014/15 VS. Hudson United 2015 Boys JA Elite
DESCRIPTION:League Name: U9 Boys (2014) - Upper\nGame Type: Regular\nGame S
 tatus: Complete\nHome Team: Chagrin Falls 2014/15\nAway Team: Hudson Unite
 d 2015 Boys JA Elite\nHome Score: 0\nAway Score: 5
END:VEVENT
BEGIN:VEVENT
UID:14853765@ezleagues.ezfacility.com
DTSTAMP:20260426T035129Z
CREATED:20260426T035129Z
DTSTART:20230305T170000Z
DTEND:20230305T180000Z
LOCATION:Northfield Half (A & B)
CONTACT:
SUMMARY:Hudson United 2015 Boys JA Elite VS. Chagrin Falls 2014/15
DESCRIPTION:League Name: U9 Boys (2014) - Upper\nGame Type: Regular\nGame S
 tatus: Complete\nHome Team: Hudson United 2015 Boys JA Elite\nAway Team: C
 hagrin Falls 2014/15\nHome Score: 0\nAway Score: 7
END:VEVENT
BEGIN:VEVENT
UID:14853770@ezleagues.ezfacility.com
DTSTAMP:20260426T035129Z
CREATED:20260426T035129Z
DTSTART:20230325T180000Z
DTEND:20230325T190000Z
LOCATION:Richmond Back Field
CONTACT:
SUMMARY:Solon Boys U9-Walcoff VS. Chagrin Falls 2014/15
DESCRIPTION:League Name: U9 Boys (2014) - Upper\nGame Type: Regular\nGame S
 tatus: Pending\nHome Team: Solon Boys U9-Walcoff\nAway Team: Chagrin Falls
  2014/15\n
END:VEVENT
BEGIN:VEVENT
UID:14853783@ezleagues.ezfacility.com
DTSTAMP:20260426T035129Z
CREATED:20260426T035129Z
DTSTART:20230401T160000Z
DTEND:20230401T170000Z
LOCATION:Richmond Back Field
CONTACT:
SUMMARY:GFSC 2014/2015B VS. Chagrin Falls 2014/15
DESCRIPTION:League Name: U9 Boys (2014) - Upper\nGame Type: Regular\nGame S
 tatus: Complete\nHome Team: GFSC 2014/2015B\nAway Team: Chagrin Falls 2014
 /15\nHome Score: 2\nAway Score: 3
END:VEVENT
END:VCALENDAR
