BEGIN:VCALENDAR
VERSION:2.0
PRODID:-//EZFacility.com, Inc.//EZL 2.5.5.28621
BEGIN:VEVENT
UID:14856022@ezleagues.ezfacility.com
DTSTAMP:20260425T185111Z
CREATED:20260425T185111Z
DTSTART:20230116T030000Z
DTEND:20230116T040000Z
LOCATION:6v6 Field 1
CONTACT:
SUMMARY:White Eagles- Coed VS. Hype Beast
DESCRIPTION:League Name: 2nd Session 2023- Coed Open Sunday Boarded Blue\nG
 ame Type: Regular\nGame Status: Complete\nHome Team: White Eagles- Coed\nA
 way Team: Hype Beast\nHome Score: 1\nAway Score: 5
END:VEVENT
BEGIN:VEVENT
UID:14856025@ezleagues.ezfacility.com
DTSTAMP:20260425T185111Z
CREATED:20260425T185111Z
DTSTART:20230123T000000Z
DTEND:20230123T010000Z
LOCATION:6v6 Field 1
CONTACT:
SUMMARY:Bull Monkeys VS. White Eagles- Coed
DESCRIPTION:League Name: 2nd Session 2023- Coed Open Sunday Boarded Blue\nG
 ame Type: Regular\nGame Status: Complete\nHome Team: Bull Monkeys\nAway Te
 am: White Eagles- Coed\nHome Score: 11\nAway Score: 2
END:VEVENT
BEGIN:VEVENT
UID:14856028@ezleagues.ezfacility.com
DTSTAMP:20260425T185111Z
CREATED:20260425T185111Z
DTSTART:20230130T000000Z
DTEND:20230130T010000Z
LOCATION:6v6 Field 1
CONTACT:
SUMMARY:Ball Fondlers VS. White Eagles- Coed
DESCRIPTION:League Name: 2nd Session 2023- Coed Open Sunday Boarded Blue\nG
 ame Type: Regular\nGame Status: Complete\nHome Team: Ball Fondlers\nAway T
 eam: White Eagles- Coed\nHome Score: 7\nAway Score: 5
END:VEVENT
BEGIN:VEVENT
UID:14856031@ezleagues.ezfacility.com
DTSTAMP:20260425T185111Z
CREATED:20260425T185111Z
DTSTART:20230206T010000Z
DTEND:20230206T020000Z
LOCATION:6v6 Field 1
CONTACT:
SUMMARY:Blue Steel VS. White Eagles- Coed
DESCRIPTION:League Name: 2nd Session 2023- Coed Open Sunday Boarded Blue\nG
 ame Type: Regular\nGame Status: Complete\nHome Team: Blue Steel\nAway Team
 : White Eagles- Coed\nHome Score: 7\nAway Score: 4
END:VEVENT
BEGIN:VEVENT
UID:14874754@ezleagues.ezfacility.com
DTSTAMP:20260425T185111Z
CREATED:20260425T185111Z
DTSTART:20230214T010000Z
DTEND:20230214T020000Z
LOCATION:6v6 Field 1
CONTACT:
SUMMARY:House Team VS. White Eagles- Coed
DESCRIPTION:League Name: 2nd Session 2023- Coed Open Sunday Boarded Blue\nG
 ame Type: Regular\nGame Status: Complete\nHome Team: House Team\nAway Team
 : White Eagles- Coed\nHome Score: 9\nAway Score: 5
END:VEVENT
BEGIN:VEVENT
UID:14856041@ezleagues.ezfacility.com
DTSTAMP:20260425T185111Z
CREATED:20260425T185111Z
DTSTART:20230219T223000Z
DTEND:20230219T233000Z
LOCATION:6v6 Field 2
CONTACT:
SUMMARY:White Eagles- Coed VS. Grass Kickers
DESCRIPTION:League Name: 2nd Session 2023- Coed Open Sunday Boarded Blue\nG
 ame Type: Regular\nGame Status: Complete\nHome Team: White Eagles- Coed\nA
 way Team: Grass Kickers\nHome Score: 11\nAway Score: 10
END:VEVENT
BEGIN:VEVENT
UID:14856046@ezleagues.ezfacility.com
DTSTAMP:20260425T185111Z
CREATED:20260425T185111Z
DTSTART:20230227T000000Z
DTEND:20230227T010000Z
LOCATION:6v6 Field 1
CONTACT:
SUMMARY:White Eagles- Coed VS. Total Shocker
DESCRIPTION:League Name: 2nd Session 2023- Coed Open Sunday Boarded Blue\nG
 ame Type: Regular\nGame Status: Complete\nHome Team: White Eagles- Coed\nA
 way Team: Total Shocker\nHome Score: 6\nAway Score: 15
END:VEVENT
BEGIN:VEVENT
UID:14856036@ezleagues.ezfacility.com
DTSTAMP:20260425T185111Z
CREATED:20260425T185111Z
DTSTART:20230312T220000Z
DTEND:20230312T230000Z
LOCATION:6v6 Field 1
CONTACT:
SUMMARY:White Eagles- Coed VS. Touch My Arsenal
DESCRIPTION:League Name: 2nd Session 2023- Coed Open Sunday Boarded Blue\nG
 ame Type: Regular\nGame Status: Complete\nHome Team: White Eagles- Coed\nA
 way Team: Touch My Arsenal\nHome Score: 7\nAway Score: 4
END:VEVENT
END:VCALENDAR
