BEGIN:VCALENDAR
VERSION:2.0
PRODID:-//EZFacility.com, Inc.//EZL 2.5.5.28621
BEGIN:VEVENT
UID:14856185@ezleagues.ezfacility.com
DTSTAMP:20260424T041349Z
CREATED:20260424T041349Z
DTSTART:20230211T041500Z
DTEND:20230211T051500Z
LOCATION:8v8 Field 3
CONTACT:
SUMMARY:Lakeview 1 VS. Bishop Foley
DESCRIPTION:League Name: High School Girls Pre-Season Games\nGame Type: Reg
 ular\nGame Status: Complete\nHome Team: Lakeview 1\nAway Team: Bishop Fole
 y\nHome Score: 7\nAway Score: 2
END:VEVENT
BEGIN:VEVENT
UID:14856178@ezleagues.ezfacility.com
DTSTAMP:20260424T041349Z
CREATED:20260424T041349Z
DTSTART:20230225T041500Z
DTEND:20230225T051500Z
LOCATION:8v8 Field 3
CONTACT:
SUMMARY:Lakeview 1 VS. Woods Tower
DESCRIPTION:League Name: High School Girls Pre-Season Games\nGame Type: Reg
 ular\nGame Status: Complete\nHome Team: Lakeview 1\nAway Team: Woods Tower
 \nHome Score: 4\nAway Score: 1
END:VEVENT
BEGIN:VEVENT
UID:14856181@ezleagues.ezfacility.com
DTSTAMP:20260424T041349Z
CREATED:20260424T041349Z
DTSTART:20230303T180000Z
DTEND:20230303T190000Z
LOCATION:8v8 Field 3
CONTACT:
SUMMARY:Cousino VS. Lakeview 1
DESCRIPTION:League Name: High School Girls Pre-Season Games\nGame Type: Reg
 ular\nGame Status: Postponed\nHome Team: Cousino\nAway Team: Lakeview 1\n
END:VEVENT
BEGIN:VEVENT
UID:14856183@ezleagues.ezfacility.com
DTSTAMP:20260424T041349Z
CREATED:20260424T041349Z
DTSTART:20230311T031500Z
DTEND:20230311T041500Z
LOCATION:8v8 Field 3
CONTACT:
SUMMARY:Lakeview 2 VS. Lakeview 1
DESCRIPTION:League Name: High School Girls Pre-Season Games\nGame Type: Reg
 ular\nGame Status: Complete\nHome Team: Lakeview 2\nAway Team: Lakeview 1\
 nHome Score: 0\nAway Score: 1
END:VEVENT
END:VCALENDAR
