BEGIN:VCALENDAR
VERSION:2.0
PRODID:-//EZFacility.com, Inc.//EZL 2.5.5.28621
BEGIN:VEVENT
UID:14856186@ezleagues.ezfacility.com
DTSTAMP:20260424T041500Z
CREATED:20260424T041500Z
DTSTART:20230204T041500Z
DTEND:20230204T051500Z
LOCATION:8v8 Field 3
CONTACT:
SUMMARY:Woods Tower VS. Cousino
DESCRIPTION:League Name: High School Girls Pre-Season Games\nGame Type: Reg
 ular\nGame Status: Complete\nHome Team: Woods Tower\nAway Team: Cousino\nH
 ome Score: 1\nAway Score: 0
END:VEVENT
BEGIN:VEVENT
UID:14856178@ezleagues.ezfacility.com
DTSTAMP:20260424T041500Z
CREATED:20260424T041500Z
DTSTART:20230225T041500Z
DTEND:20230225T051500Z
LOCATION:8v8 Field 3
CONTACT:
SUMMARY:Lakeview 1 VS. Woods Tower
DESCRIPTION:League Name: High School Girls Pre-Season Games\nGame Type: Reg
 ular\nGame Status: Complete\nHome Team: Lakeview 1\nAway Team: Woods Tower
 \nHome Score: 4\nAway Score: 1
END:VEVENT
BEGIN:VEVENT
UID:14856180@ezleagues.ezfacility.com
DTSTAMP:20260424T041500Z
CREATED:20260424T041500Z
DTSTART:20230303T180000Z
DTEND:20230303T190000Z
LOCATION:8v8 Field 3
CONTACT:
SUMMARY:GPS VS. Woods Tower
DESCRIPTION:League Name: High School Girls Pre-Season Games\nGame Type: Reg
 ular\nGame Status: Postponed\nHome Team: GPS\nAway Team: Woods Tower\n
END:VEVENT
BEGIN:VEVENT
UID:14856182@ezleagues.ezfacility.com
DTSTAMP:20260424T041500Z
CREATED:20260424T041500Z
DTSTART:20230311T021500Z
DTEND:20230311T031500Z
LOCATION:8v8 Field 3
CONTACT:
SUMMARY:Woods Tower VS. Bishop Foley
DESCRIPTION:League Name: High School Girls Pre-Season Games\nGame Type: Reg
 ular\nGame Status: Complete\nHome Team: Woods Tower\nAway Team: Bishop Fol
 ey\nHome Score: 0\nAway Score: 1
END:VEVENT
END:VCALENDAR
