BEGIN:VCALENDAR
VERSION:2.0
PRODID:-//EZFacility.com, Inc.//EZL 2.5.5.28621
BEGIN:VEVENT
UID:14864084@ezleagues.ezfacility.com
DTSTAMP:20260426T035000Z
CREATED:20260426T035000Z
DTSTART:20230202T000500Z
DTEND:20230202T010000Z
LOCATION:PFFC Field House - D
CONTACT:
SUMMARY:About To Get Messi VS. Balls and Bruises
DESCRIPTION:League Name: MSL WINTER 2023 - TUESDAY LADIES FIRST GAMES\nGame
  Type: Regular\nGame Status: Complete\nHome Team: About To Get Messi\nAway
  Team: Balls and Bruises\nHome Score: 10\nAway Score: 0
END:VEVENT
BEGIN:VEVENT
UID:14904084@ezleagues.ezfacility.com
DTSTAMP:20260426T035000Z
CREATED:20260426T035000Z
DTSTART:20230208T000000Z
DTEND:20230208T005500Z
LOCATION:PFFC Field House - C
CONTACT:
SUMMARY:Balls and Bruises VS. Taco bout Comeback
DESCRIPTION:League Name: MSL WINTER 2023 - TUESDAY LADIES FIRST GAMES\nGame
  Type: Regular\nGame Status: Complete\nHome Team: Balls and Bruises\nAway 
 Team: Taco bout Comeback\nHome Score: 0\nAway Score: 1
END:VEVENT
END:VCALENDAR
