BEGIN:VCALENDAR
VERSION:2.0
PRODID:-//EZFacility.com, Inc.//EZL 2.5.5.28621
BEGIN:VEVENT
UID:14864017@ezleagues.ezfacility.com
DTSTAMP:20260425T194632Z
CREATED:20260425T194632Z
DTSTART:20230201T024500Z
DTEND:20230201T034000Z
LOCATION:PFFC Field House - D
CONTACT:
SUMMARY:She's The Man FC VS. The Untouch-A-Balls
DESCRIPTION:League Name: MSL WINTER 2023 - TUESDAY LADIES FIRST GAMES\nGame
  Type: Regular\nGame Status: Complete\nHome Team: She's The Man FC\nAway T
 eam: The Untouch-A-Balls\nHome Score: 4\nAway Score: 1
END:VEVENT
BEGIN:VEVENT
UID:14904090@ezleagues.ezfacility.com
DTSTAMP:20260425T194632Z
CREATED:20260425T194632Z
DTSTART:20230208T000000Z
DTEND:20230208T005500Z
LOCATION:PFFC Field House - D
CONTACT:
SUMMARY:Forced Friendships VS. The Untouch-A-Balls
DESCRIPTION:League Name: MSL WINTER 2023 - TUESDAY LADIES FIRST GAMES\nGame
  Type: Regular\nGame Status: Complete\nHome Team: Forced Friendships\nAway
  Team: The Untouch-A-Balls\nHome Score: 3\nAway Score: 2
END:VEVENT
END:VCALENDAR
